BEGIN:VCALENDAR
VERSION:2.0
PRODID:-//Trails Regional Library - ECPv6.15.20//NONSGML v1.0//EN
CALSCALE:GREGORIAN
METHOD:PUBLISH
X-ORIGINAL-URL:https://www.trailslibrary.org
X-WR-CALDESC:Events for Trails Regional Library
REFRESH-INTERVAL;VALUE=DURATION:PT1H
X-Robots-Tag:noindex
X-PUBLISHED-TTL:PT1H
BEGIN:VTIMEZONE
TZID:America/New_York
BEGIN:DAYLIGHT
TZOFFSETFROM:-0500
TZOFFSETTO:-0400
TZNAME:EDT
DTSTART:20220313T070000
END:DAYLIGHT
BEGIN:STANDARD
TZOFFSETFROM:-0400
TZOFFSETTO:-0500
TZNAME:EST
DTSTART:20221106T060000
END:STANDARD
BEGIN:DAYLIGHT
TZOFFSETFROM:-0500
TZOFFSETTO:-0400
TZNAME:EDT
DTSTART:20230312T070000
END:DAYLIGHT
BEGIN:STANDARD
TZOFFSETFROM:-0400
TZOFFSETTO:-0500
TZNAME:EST
DTSTART:20231105T060000
END:STANDARD
BEGIN:DAYLIGHT
TZOFFSETFROM:-0500
TZOFFSETTO:-0400
TZNAME:EDT
DTSTART:20240310T070000
END:DAYLIGHT
BEGIN:STANDARD
TZOFFSETFROM:-0400
TZOFFSETTO:-0500
TZNAME:EST
DTSTART:20241103T060000
END:STANDARD
END:VTIMEZONE
BEGIN:VEVENT
DTSTART;TZID=America/New_York:20231011T100000
DTEND;TZID=America/New_York:20231011T103000
DTSTAMP:20260420T172954
CREATED:20230818T200450Z
LAST-MODIFIED:20230818T200450Z
UID:10005570-1697018400-1697020200@www.trailslibrary.org
SUMMARY:Story Time - Corder
DESCRIPTION:Ages: 3-5: Storytimes are for building pre-reading skills\, making friends and having fun!
URL:https://www.trailslibrary.org/event/story-time-corder-7/
LOCATION:Corder Branch\, 221 N. Lafayette\, Corder\, MO\, 64021\, United States
CATEGORIES:Children,Kids,Preschool,Storytime
END:VEVENT
BEGIN:VEVENT
DTSTART;TZID=America/New_York:20231011T100000
DTEND;TZID=America/New_York:20231011T103000
DTSTAMP:20260420T172954
CREATED:20230820T042709Z
LAST-MODIFIED:20230820T042709Z
UID:10006847-1697018400-1697020200@www.trailslibrary.org
SUMMARY:Storytime - Lexington
DESCRIPTION:Ages 0-5: Bring your little ones for storytime! Each week we read\, sing\, play and learn\, all while developing early literacy skills.
URL:https://www.trailslibrary.org/event/storytime-lexington-73/
LOCATION:Lexington Branch\, 1008 Main Street\, Lexington\, MO\, 64067\, United States
CATEGORIES:Children,Kids,Preschool,Storytime
END:VEVENT
BEGIN:VEVENT
DTSTART;TZID=America/New_York:20231011T100000
DTEND;TZID=America/New_York:20231011T103000
DTSTAMP:20260420T172954
CREATED:20230820T045730Z
LAST-MODIFIED:20230820T055215Z
UID:10005787-1697018400-1697020200@www.trailslibrary.org
SUMMARY:Storytots - Knob Noster
DESCRIPTION:Ages 0-3: Introduce your tot to the library through songs\, fingerplays\, and books!
URL:https://www.trailslibrary.org/event/storytots-knob-noster-26/
LOCATION:Knob Noster Branch\, 202 N. Adams\, Knob Noster\, MO\, 65336\, United States
CATEGORIES:Children,Kids,Storytime
END:VEVENT
BEGIN:VEVENT
DTSTART;TZID=America/New_York:20231011T100000
DTEND;TZID=America/New_York:20231011T103000
DTSTAMP:20260420T172954
CREATED:20230820T065214Z
LAST-MODIFIED:20230820T065214Z
UID:10006996-1697018400-1697020200@www.trailslibrary.org
SUMMARY:Storytime - Holden
DESCRIPTION:Ages 0-5: Come listen to a story at the library and do a craft.
URL:https://www.trailslibrary.org/event/storytime-holden-93/
LOCATION:Holden Branch\, 207 S. Main\, Holden\, MO\, 64040\, United States
CATEGORIES:Children,Kids,Preschool,Storytime
END:VEVENT
BEGIN:VEVENT
DTSTART;TZID=America/New_York:20231011T100000
DTEND;TZID=America/New_York:20231011T104500
DTSTAMP:20260420T172954
CREATED:20230818T212652Z
LAST-MODIFIED:20230818T212652Z
UID:10006823-1697018400-1697021100@www.trailslibrary.org
SUMMARY:Storytime - Odessa
DESCRIPTION:Ages 0-5: Storytimes focus on building pre-reading skills\, making friends\, and having fun!
URL:https://www.trailslibrary.org/event/storytime-odessa-44/
LOCATION:Odessa Branch\, 107 W. Mason\, Odessa\, MO\, 64076\, United States
CATEGORIES:Children,Kids,Preschool,Storytime,Toddlers
END:VEVENT
BEGIN:VEVENT
DTSTART;TZID=America/New_York:20231011T103000
DTEND;TZID=America/New_York:20231011T110000
DTSTAMP:20260420T172954
CREATED:20230820T042543Z
LAST-MODIFIED:20230820T042543Z
UID:10006844-1697020200-1697022000@www.trailslibrary.org
SUMMARY:Stay and Play - Lexington
DESCRIPTION:Ages 0-5: Stay and play after storytime to get your wiggles out! Have some fun\, play games\, and make new friends!
URL:https://www.trailslibrary.org/event/stay-and-play-lexington-16/
LOCATION:Lexington Branch\, 1008 Main Street\, Lexington\, MO\, 64067\, United States
CATEGORIES:Children,Kids,Preschool
END:VEVENT
BEGIN:VEVENT
DTSTART;TZID=America/New_York:20231011T103000
DTEND;TZID=America/New_York:20231011T110000
DTSTAMP:20260420T172954
CREATED:20230820T045037Z
LAST-MODIFIED:20230820T054929Z
UID:10006869-1697020200-1697022000@www.trailslibrary.org
SUMMARY:Kid Connection - Knob Noster
DESCRIPTION:Ages 0-5: Kiddos! Come play and hang out\, make new friends\, and see all the library has to offer!
URL:https://www.trailslibrary.org/event/kid-connection-knob-noster-6/
LOCATION:Knob Noster Branch\, 202 N. Adams\, Knob Noster\, MO\, 65336\, United States
CATEGORIES:Children,Kids,Preschool,Storytime
END:VEVENT
BEGIN:VEVENT
DTSTART;TZID=America/New_York:20231011T103000
DTEND;TZID=America/New_York:20231011T110000
DTSTAMP:20260420T172954
CREATED:20230820T065029Z
LAST-MODIFIED:20230820T065029Z
UID:10005880-1697020200-1697022000@www.trailslibrary.org
SUMMARY:Stay & Play - Holden
DESCRIPTION:Ages 0-5: Stay after storytime and play with your friends. Enjoy the library’s resources and toys.
URL:https://www.trailslibrary.org/event/stay-play-holden-6/
LOCATION:Holden Branch\, 207 S. Main\, Holden\, MO\, 64040\, United States
CATEGORIES:Children,Kids,Preschool
END:VEVENT
BEGIN:VEVENT
DTSTART;TZID=America/New_York:20231011T110000
DTEND;TZID=America/New_York:20231011T120000
DTSTAMP:20260420T172954
CREATED:20230820T045429Z
LAST-MODIFIED:20230820T055030Z
UID:10006882-1697022000-1697025600@www.trailslibrary.org
SUMMARY:Preschool Storytime - Knob Noster
DESCRIPTION:Ages 3-5: Bring your preschoolers for stories\, crafts\, songs and bubbles to encourage growth in literacy!
URL:https://www.trailslibrary.org/event/preschool-storytime-knob-noster-28/
LOCATION:Knob Noster Branch\, 202 N. Adams\, Knob Noster\, MO\, 65336\, United States
CATEGORIES:Children,Kids,Preschool
END:VEVENT
BEGIN:VEVENT
DTSTART;TZID=America/New_York:20231011T163000
DTEND;TZID=America/New_York:20231011T180000
DTSTAMP:20260420T172954
CREATED:20230820T063830Z
LAST-MODIFIED:20230820T063830Z
UID:10005807-1697041800-1697047200@www.trailslibrary.org
SUMMARY:Libraries Got Game - Warrensburg
DESCRIPTION:All Ages: Get BOARD at the library with your family and friends! Fun and exciting board and XL games.
URL:https://www.trailslibrary.org/event/libraries-got-game-warrensburg-30/
LOCATION:Warrensburg Branch\, 432 N. Holden\, Warrensburg\, Missouri\, 64093\, United States
CATEGORIES:Adult,Adults,All Ages,Children,Family,Kids,preteens,senior,Seniors,Teen,Teens,Youth
END:VEVENT
BEGIN:VEVENT
DTSTART;TZID=America/New_York:20231011T170000
DTEND;TZID=America/New_York:20231011T180000
DTSTAMP:20260420T172954
CREATED:20230820T064342Z
LAST-MODIFIED:20230820T064342Z
UID:10005875-1697043600-1697047200@www.trailslibrary.org
SUMMARY:Yoga for All - Warrensburg
DESCRIPTION:All Ages: Discover inner calm and build strength during this relaxing program led by a certified instructor. Please wear comfortable clothing and bring a mat or towel.
URL:https://www.trailslibrary.org/event/yoga-for-all-warrensburg-3/
LOCATION:Warrensburg Branch\, 432 N. Holden\, Warrensburg\, Missouri\, 64093\, United States
CATEGORIES:Adult,Adults,All Ages,Children,Family,Kids,preteens,senior,Seniors,Teen,Teens,Youth
END:VEVENT
END:VCALENDAR