BEGIN:VCALENDAR
VERSION:2.0
PRODID:-//Trails Regional Library - ECPv6.15.20//NONSGML v1.0//EN
CALSCALE:GREGORIAN
METHOD:PUBLISH
X-WR-CALNAME:Trails Regional Library
X-ORIGINAL-URL:https://www.trailslibrary.org
X-WR-CALDESC:Events for Trails Regional Library
REFRESH-INTERVAL;VALUE=DURATION:PT1H
X-Robots-Tag:noindex
X-PUBLISHED-TTL:PT1H
BEGIN:VTIMEZONE
TZID:America/New_York
BEGIN:DAYLIGHT
TZOFFSETFROM:-0500
TZOFFSETTO:-0400
TZNAME:EDT
DTSTART:20220313T070000
END:DAYLIGHT
BEGIN:STANDARD
TZOFFSETFROM:-0400
TZOFFSETTO:-0500
TZNAME:EST
DTSTART:20221106T060000
END:STANDARD
BEGIN:DAYLIGHT
TZOFFSETFROM:-0500
TZOFFSETTO:-0400
TZNAME:EDT
DTSTART:20230312T070000
END:DAYLIGHT
BEGIN:STANDARD
TZOFFSETFROM:-0400
TZOFFSETTO:-0500
TZNAME:EST
DTSTART:20231105T060000
END:STANDARD
BEGIN:DAYLIGHT
TZOFFSETFROM:-0500
TZOFFSETTO:-0400
TZNAME:EDT
DTSTART:20240310T070000
END:DAYLIGHT
BEGIN:STANDARD
TZOFFSETFROM:-0400
TZOFFSETTO:-0500
TZNAME:EST
DTSTART:20241103T060000
END:STANDARD
END:VTIMEZONE
BEGIN:VEVENT
DTSTART;TZID=America/New_York:20231016T033000
DTEND;TZID=America/New_York:20231019T073000
DTSTAMP:20260420T172920
CREATED:20230818T201044Z
LAST-MODIFIED:20230818T201044Z
UID:10006739-1697427000-1697700600@www.trailslibrary.org
SUMMARY:Literati Book Fair  - Leeton Express Branch
DESCRIPTION:All Ages: The Literati Book Fair will be in the Leeton Library! Great time to shop for great books for gifts!
URL:https://www.trailslibrary.org/event/literati-book-fair-leeton-express-branch/
LOCATION:Leeton Express Branch\, 500 N. Main\, Leeton\, MO\, 64761\, United States
CATEGORIES:Adult,Adults,All Ages,Children,Family,Kids,Movie,Teens
END:VEVENT
BEGIN:VEVENT
DTSTART;TZID=America/New_York:20231018T100000
DTEND;TZID=America/New_York:20231018T103000
DTSTAMP:20260420T172920
CREATED:20230818T200450Z
LAST-MODIFIED:20230818T200450Z
UID:10005572-1697623200-1697625000@www.trailslibrary.org
SUMMARY:Story Time - Corder
DESCRIPTION:Ages: 3-5: Storytimes are for building pre-reading skills\, making friends and having fun!
URL:https://www.trailslibrary.org/event/story-time-corder-8/
LOCATION:Corder Branch\, 221 N. Lafayette\, Corder\, MO\, 64021\, United States
CATEGORIES:Children,Kids,Preschool,Storytime
END:VEVENT
BEGIN:VEVENT
DTSTART;TZID=America/New_York:20231018T100000
DTEND;TZID=America/New_York:20231018T103000
DTSTAMP:20260420T172920
CREATED:20230820T042709Z
LAST-MODIFIED:20230820T042709Z
UID:10006848-1697623200-1697625000@www.trailslibrary.org
SUMMARY:Storytime - Lexington
DESCRIPTION:Ages 0-5: Bring your little ones for storytime! Each week we read\, sing\, play and learn\, all while developing early literacy skills.
URL:https://www.trailslibrary.org/event/storytime-lexington-74/
LOCATION:Lexington Branch\, 1008 Main Street\, Lexington\, MO\, 64067\, United States
CATEGORIES:Children,Kids,Preschool,Storytime
END:VEVENT
BEGIN:VEVENT
DTSTART;TZID=America/New_York:20231018T100000
DTEND;TZID=America/New_York:20231018T103000
DTSTAMP:20260420T172920
CREATED:20230820T045730Z
LAST-MODIFIED:20230820T055215Z
UID:10005789-1697623200-1697625000@www.trailslibrary.org
SUMMARY:Storytots - Knob Noster
DESCRIPTION:Ages 0-3: Introduce your tot to the library through songs\, fingerplays\, and books!
URL:https://www.trailslibrary.org/event/storytots-knob-noster-27/
LOCATION:Knob Noster Branch\, 202 N. Adams\, Knob Noster\, MO\, 65336\, United States
CATEGORIES:Children,Kids,Storytime
END:VEVENT
BEGIN:VEVENT
DTSTART;TZID=America/New_York:20231018T100000
DTEND;TZID=America/New_York:20231018T103000
DTSTAMP:20260420T172920
CREATED:20230820T065215Z
LAST-MODIFIED:20230820T065215Z
UID:10006997-1697623200-1697625000@www.trailslibrary.org
SUMMARY:Storytime - Holden
DESCRIPTION:Ages 0-5: Come listen to a story at the library and do a craft.
URL:https://www.trailslibrary.org/event/storytime-holden-94/
LOCATION:Holden Branch\, 207 S. Main\, Holden\, MO\, 64040\, United States
CATEGORIES:Children,Kids,Preschool,Storytime
END:VEVENT
BEGIN:VEVENT
DTSTART;TZID=America/New_York:20231018T103000
DTEND;TZID=America/New_York:20231018T110000
DTSTAMP:20260420T172920
CREATED:20230820T042557Z
LAST-MODIFIED:20230820T042557Z
UID:10006845-1697625000-1697626800@www.trailslibrary.org
SUMMARY:Stay and Play - Lexington
DESCRIPTION:Ages 0-5: Stay and play after storytime to get your wiggles out! Have some fun\, play games\, and make new friends!
URL:https://www.trailslibrary.org/event/stay-and-play-lexington-17/
LOCATION:Lexington Branch\, 1008 Main Street\, Lexington\, MO\, 64067\, United States
CATEGORIES:Children,Kids,Preschool
END:VEVENT
BEGIN:VEVENT
DTSTART;TZID=America/New_York:20231018T103000
DTEND;TZID=America/New_York:20231018T110000
DTSTAMP:20260420T172920
CREATED:20230820T045037Z
LAST-MODIFIED:20230820T054929Z
UID:10006870-1697625000-1697626800@www.trailslibrary.org
SUMMARY:Kid Connection - Knob Noster
DESCRIPTION:Ages 0-5: Kiddos! Come play and hang out\, make new friends\, and see all the library has to offer!
URL:https://www.trailslibrary.org/event/kid-connection-knob-noster-7/
LOCATION:Knob Noster Branch\, 202 N. Adams\, Knob Noster\, MO\, 65336\, United States
CATEGORIES:Children,Kids,Preschool,Storytime
END:VEVENT
BEGIN:VEVENT
DTSTART;TZID=America/New_York:20231018T103000
DTEND;TZID=America/New_York:20231018T110000
DTSTAMP:20260420T172920
CREATED:20230820T065029Z
LAST-MODIFIED:20230820T065029Z
UID:10005882-1697625000-1697626800@www.trailslibrary.org
SUMMARY:Stay & Play - Holden
DESCRIPTION:Ages 0-5: Stay after storytime and play with your friends. Enjoy the library’s resources and toys.
URL:https://www.trailslibrary.org/event/stay-play-holden-7/
LOCATION:Holden Branch\, 207 S. Main\, Holden\, MO\, 64040\, United States
CATEGORIES:Children,Kids,Preschool
END:VEVENT
BEGIN:VEVENT
DTSTART;TZID=America/New_York:20231018T110000
DTEND;TZID=America/New_York:20231018T120000
DTSTAMP:20260420T172920
CREATED:20230820T045430Z
LAST-MODIFIED:20230820T055030Z
UID:10006883-1697626800-1697630400@www.trailslibrary.org
SUMMARY:Preschool Storytime - Knob Noster
DESCRIPTION:Ages 3-5: Bring your preschoolers for stories\, crafts\, songs and bubbles to encourage growth in literacy!
URL:https://www.trailslibrary.org/event/preschool-storytime-knob-noster-29/
LOCATION:Knob Noster Branch\, 202 N. Adams\, Knob Noster\, MO\, 65336\, United States
CATEGORIES:Children,Kids,Preschool
END:VEVENT
BEGIN:VEVENT
DTSTART;TZID=America/New_York:20231018T163000
DTEND;TZID=America/New_York:20231018T180000
DTSTAMP:20260420T172920
CREATED:20230820T063831Z
LAST-MODIFIED:20230820T063831Z
UID:10005809-1697646600-1697652000@www.trailslibrary.org
SUMMARY:Libraries Got Game - Warrensburg
DESCRIPTION:All Ages: Get BOARD at the library with your family and friends! Fun and exciting board and XL games.
URL:https://www.trailslibrary.org/event/libraries-got-game-warrensburg-31/
LOCATION:Warrensburg Branch\, 432 N. Holden\, Warrensburg\, Missouri\, 64093\, United States
CATEGORIES:Adult,Adults,All Ages,Children,Family,Kids,preteens,senior,Seniors,Teen,Teens,Youth
END:VEVENT
END:VCALENDAR