BEGIN:VCALENDAR
VERSION:2.0
PRODID:-//Trails Regional Library - ECPv6.15.20//NONSGML v1.0//EN
CALSCALE:GREGORIAN
METHOD:PUBLISH
X-ORIGINAL-URL:https://www.trailslibrary.org
X-WR-CALDESC:Events for Trails Regional Library
REFRESH-INTERVAL;VALUE=DURATION:PT1H
X-Robots-Tag:noindex
X-PUBLISHED-TTL:PT1H
BEGIN:VTIMEZONE
TZID:America/New_York
BEGIN:DAYLIGHT
TZOFFSETFROM:-0500
TZOFFSETTO:-0400
TZNAME:EDT
DTSTART:20230312T070000
END:DAYLIGHT
BEGIN:STANDARD
TZOFFSETFROM:-0400
TZOFFSETTO:-0500
TZNAME:EST
DTSTART:20231105T060000
END:STANDARD
BEGIN:DAYLIGHT
TZOFFSETFROM:-0500
TZOFFSETTO:-0400
TZNAME:EDT
DTSTART:20240310T070000
END:DAYLIGHT
BEGIN:STANDARD
TZOFFSETFROM:-0400
TZOFFSETTO:-0500
TZNAME:EST
DTSTART:20241103T060000
END:STANDARD
BEGIN:DAYLIGHT
TZOFFSETFROM:-0500
TZOFFSETTO:-0400
TZNAME:EDT
DTSTART:20250309T070000
END:DAYLIGHT
BEGIN:STANDARD
TZOFFSETFROM:-0400
TZOFFSETTO:-0500
TZNAME:EST
DTSTART:20251102T060000
END:STANDARD
END:VTIMEZONE
BEGIN:VEVENT
DTSTART;TZID=America/New_York:20240208T100000
DTEND;TZID=America/New_York:20240208T103000
DTSTAMP:20260419T223540
CREATED:20231215T185804Z
LAST-MODIFIED:20231215T185804Z
UID:10007323-1707386400-1707388200@www.trailslibrary.org
SUMMARY:Music & Movement-Warrensburg
DESCRIPTION:Ages 0-5: Join us to get your wiggles out with singing and dancing. Children will use a variety of musical instruments to increase sensory development\, coordination\, literacy & numeracy skills
URL:https://www.trailslibrary.org/event/music-movement-warrensburg-19/
LOCATION:Warrensburg Branch\, 432 N. Holden\, Warrensburg\, Missouri\, 64093\, United States
CATEGORIES:Children,Kids,Preschool
END:VEVENT
BEGIN:VEVENT
DTSTART;TZID=America/New_York:20240208T103000
DTEND;TZID=America/New_York:20240208T110000
DTSTAMP:20260419T223540
CREATED:20231215T185850Z
LAST-MODIFIED:20231215T185850Z
UID:10006236-1707388200-1707390000@www.trailslibrary.org
SUMMARY:Stay Play and Learn-Warrensburg
DESCRIPTION:Ages 0-5: Stay after Music and Moverment to play and learn with your friends. Activities will focus on improving language\, fine and gross motor skills\, develop social skills and aid with cognitive development.
URL:https://www.trailslibrary.org/event/stay-play-and-learn-warrensburg-19/
LOCATION:Warrensburg Branch\, 432 N. Holden\, Warrensburg\, Missouri\, 64093\, United States
CATEGORIES:Children,Kids,Preschool
END:VEVENT
BEGIN:VEVENT
DTSTART;TZID=America/New_York:20240208T173000
DTEND;TZID=America/New_York:20240208T173000
DTSTAMP:20260419T223540
CREATED:20231215T183919Z
LAST-MODIFIED:20231215T183919Z
UID:10007272-1707413400-1707413400@www.trailslibrary.org
SUMMARY:Preschool Play and Learn-Odessa
DESCRIPTION:Ages 0-5: Bring your toddlers to Play and Learn to give them an opportunity to develop their motor skills and play with other children
URL:https://www.trailslibrary.org/event/preschool-play-and-learn-odessa-10/
LOCATION:Odessa Branch\, 107 W. Mason\, Odessa\, MO\, 64076\, United States
CATEGORIES:Children,Kids,Preschool
END:VEVENT
END:VCALENDAR