BEGIN:VCALENDAR
VERSION:2.0
PRODID:-//Trails Regional Library - ECPv6.15.20//NONSGML v1.0//EN
CALSCALE:GREGORIAN
METHOD:PUBLISH
X-WR-CALNAME:Trails Regional Library
X-ORIGINAL-URL:https://www.trailslibrary.org
X-WR-CALDESC:Events for Trails Regional Library
REFRESH-INTERVAL;VALUE=DURATION:PT1H
X-Robots-Tag:noindex
X-PUBLISHED-TTL:PT1H
BEGIN:VTIMEZONE
TZID:America/New_York
BEGIN:DAYLIGHT
TZOFFSETFROM:-0500
TZOFFSETTO:-0400
TZNAME:EDT
DTSTART:20230312T070000
END:DAYLIGHT
BEGIN:STANDARD
TZOFFSETFROM:-0400
TZOFFSETTO:-0500
TZNAME:EST
DTSTART:20231105T060000
END:STANDARD
BEGIN:DAYLIGHT
TZOFFSETFROM:-0500
TZOFFSETTO:-0400
TZNAME:EDT
DTSTART:20240310T070000
END:DAYLIGHT
BEGIN:STANDARD
TZOFFSETFROM:-0400
TZOFFSETTO:-0500
TZNAME:EST
DTSTART:20241103T060000
END:STANDARD
BEGIN:DAYLIGHT
TZOFFSETFROM:-0500
TZOFFSETTO:-0400
TZNAME:EDT
DTSTART:20250309T070000
END:DAYLIGHT
BEGIN:STANDARD
TZOFFSETFROM:-0400
TZOFFSETTO:-0500
TZNAME:EST
DTSTART:20251102T060000
END:STANDARD
END:VTIMEZONE
BEGIN:VEVENT
DTSTART;TZID=America/New_York:20240212T090000
DTEND;TZID=America/New_York:20240217T170000
DTSTAMP:20260419T223541
CREATED:20231215T190420Z
LAST-MODIFIED:20231215T190420Z
UID:10007411-1707728400-1708189200@www.trailslibrary.org
SUMMARY:Pop-Up Program-Warrensburg
DESCRIPTION:All Ages: A surprise Program is scheduled
URL:https://www.trailslibrary.org/event/pop-up-program-warrensburg/
LOCATION:Warrensburg Branch\, 432 N. Holden\, Warrensburg\, Missouri\, 64093\, United States
CATEGORIES:Adult,Adults,All Ages,Children,Family,Kids,preteens,senior,Seniors,Teen,Teens,Youth
END:VEVENT
BEGIN:VEVENT
DTSTART;TZID=America/New_York:20240215T100000
DTEND;TZID=America/New_York:20240215T103000
DTSTAMP:20260419T223541
CREATED:20231215T185804Z
LAST-MODIFIED:20231215T185804Z
UID:10007324-1707991200-1707993000@www.trailslibrary.org
SUMMARY:Music & Movement-Warrensburg
DESCRIPTION:Ages 0-5: Join us to get your wiggles out with singing and dancing. Children will use a variety of musical instruments to increase sensory development\, coordination\, literacy & numeracy skills
URL:https://www.trailslibrary.org/event/music-movement-warrensburg-20/
LOCATION:Warrensburg Branch\, 432 N. Holden\, Warrensburg\, Missouri\, 64093\, United States
CATEGORIES:Children,Kids,Preschool
END:VEVENT
BEGIN:VEVENT
DTSTART;TZID=America/New_York:20240215T103000
DTEND;TZID=America/New_York:20240215T110000
DTSTAMP:20260419T223541
CREATED:20231215T185850Z
LAST-MODIFIED:20231215T185850Z
UID:10006238-1707993000-1707994800@www.trailslibrary.org
SUMMARY:Stay Play and Learn-Warrensburg
DESCRIPTION:Ages 0-5: Stay after Music and Moverment to play and learn with your friends. Activities will focus on improving language\, fine and gross motor skills\, develop social skills and aid with cognitive development.
URL:https://www.trailslibrary.org/event/stay-play-and-learn-warrensburg-20/
LOCATION:Warrensburg Branch\, 432 N. Holden\, Warrensburg\, Missouri\, 64093\, United States
CATEGORIES:Children,Kids,Preschool
END:VEVENT
BEGIN:VEVENT
DTSTART;TZID=America/New_York:20240215T154500
DTEND;TZID=America/New_York:20240215T170000
DTSTAMP:20260419T223541
CREATED:20231215T182303Z
LAST-MODIFIED:20231215T182303Z
UID:10006109-1708011900-1708016400@www.trailslibrary.org
SUMMARY:Third Thursday Fun & Games-Leeton
DESCRIPTION:Ages 6-12: Join Mrs. Schuler and the Boys & Girls Club the 3rd Thursday Fun & Games!
URL:https://www.trailslibrary.org/event/third-thursday-fun-games-leeton/
LOCATION:Leeton Express Branch\, 500 N. Main\, Leeton\, MO\, 64761\, United States
CATEGORIES:Children,Crafts,Kids
END:VEVENT
BEGIN:VEVENT
DTSTART;TZID=America/New_York:20240215T160000
DTEND;TZID=America/New_York:20240215T173000
DTSTAMP:20260419T223541
CREATED:20231215T181615Z
LAST-MODIFIED:20231215T181615Z
UID:10006107-1708012800-1708018200@www.trailslibrary.org
SUMMARY:Family Game Night-Knob Noster
DESCRIPTION:All Ages: REGISTRATION required: Come out and enjoy a night of fun\, games and socializing at the library!
URL:https://www.trailslibrary.org/event/family-game-night-knob-noster-3/
LOCATION:Knob Noster Branch\, 202 N. Adams\, Knob Noster\, MO\, 65336\, United States
CATEGORIES:Adult,Adults,All Ages,Children,Family,Kids,preteens,senior,Seniors,Teen,Teens,Youth
END:VEVENT
END:VCALENDAR