BEGIN:VCALENDAR
VERSION:2.0
PRODID:-//Trails Regional Library - ECPv6.15.20//NONSGML v1.0//EN
CALSCALE:GREGORIAN
METHOD:PUBLISH
X-WR-CALNAME:Trails Regional Library
X-ORIGINAL-URL:https://www.trailslibrary.org
X-WR-CALDESC:Events for Trails Regional Library
REFRESH-INTERVAL;VALUE=DURATION:PT1H
X-Robots-Tag:noindex
X-PUBLISHED-TTL:PT1H
BEGIN:VTIMEZONE
TZID:America/New_York
BEGIN:DAYLIGHT
TZOFFSETFROM:-0500
TZOFFSETTO:-0400
TZNAME:EDT
DTSTART:20230312T070000
END:DAYLIGHT
BEGIN:STANDARD
TZOFFSETFROM:-0400
TZOFFSETTO:-0500
TZNAME:EST
DTSTART:20231105T060000
END:STANDARD
BEGIN:DAYLIGHT
TZOFFSETFROM:-0500
TZOFFSETTO:-0400
TZNAME:EDT
DTSTART:20240310T070000
END:DAYLIGHT
BEGIN:STANDARD
TZOFFSETFROM:-0400
TZOFFSETTO:-0500
TZNAME:EST
DTSTART:20241103T060000
END:STANDARD
BEGIN:DAYLIGHT
TZOFFSETFROM:-0500
TZOFFSETTO:-0400
TZNAME:EDT
DTSTART:20250309T070000
END:DAYLIGHT
BEGIN:STANDARD
TZOFFSETFROM:-0400
TZOFFSETTO:-0500
TZNAME:EST
DTSTART:20251102T060000
END:STANDARD
END:VTIMEZONE
BEGIN:VEVENT
DTSTART;TZID=America/New_York:20240304T100000
DTEND;TZID=America/New_York:20240304T103000
DTSTAMP:20260419T204116
CREATED:20231215T185503Z
LAST-MODIFIED:20231215T185503Z
UID:10006211-1709546400-1709548200@www.trailslibrary.org
SUMMARY:Storytime-Waverly
DESCRIPTION:Ages 0-5: Storytimes are for building pre-reading skills\, making friends and having fun!
URL:https://www.trailslibrary.org/event/storytime-waverly-96/
LOCATION:Waverly Branch\, 203 E. Kelling\, Waverly\, MO\, 64096\, United States
CATEGORIES:Children,Kids,Preschool,Storytime
END:VEVENT
BEGIN:VEVENT
DTSTART;TZID=America/New_York:20240304T160000
DTEND;TZID=America/New_York:20240304T160000
DTSTAMP:20260419T204116
CREATED:20231215T184558Z
LAST-MODIFIED:20231215T184558Z
UID:10007299-1709568000-1709568000@www.trailslibrary.org
SUMMARY:Junior Coders-Odessa
DESCRIPTION:Ages 5-8:  Learn basic coding with Ozobots
URL:https://www.trailslibrary.org/event/junior-coders-odessa/
LOCATION:Odessa Branch\, 107 W. Mason\, Odessa\, MO\, 64076\, United States
CATEGORIES:Children,Kids,STEAM
END:VEVENT
BEGIN:VEVENT
DTSTART;TZID=America/New_York:20240304T160000
DTEND;TZID=America/New_York:20240304T170000
DTSTAMP:20260419T204116
CREATED:20231215T190350Z
LAST-MODIFIED:20231215T190350Z
UID:10006310-1709568000-1709571600@www.trailslibrary.org
SUMMARY:Camp Create-Warrensburg
DESCRIPTION:Ages 6-12 REGISTRATION required: Join us to create a camp inspired craft
URL:https://www.trailslibrary.org/event/camp-create-warrensburg/
LOCATION:Warrensburg Branch\, 432 N. Holden\, Warrensburg\, Missouri\, 64093\, United States
CATEGORIES:Children,Crafts,Kids
END:VEVENT
BEGIN:VEVENT
DTSTART;TZID=America/New_York:20240304T160000
DTEND;TZID=America/New_York:20240304T173000
DTSTAMP:20260419T204116
CREATED:20231215T175724Z
LAST-MODIFIED:20231215T175724Z
UID:10005988-1709568000-1709573400@www.trailslibrary.org
SUMMARY:Crafternoon-Corder
DESCRIPTION:All Ages REGISTRATION required: Come make a fun multi-seasonal decoration for your home!
URL:https://www.trailslibrary.org/event/crafternoon-corder/
LOCATION:Corder Branch\, 221 N. Lafayette\, Corder\, MO\, 64021\, United States
CATEGORIES:Adult,Adults,All Ages,Children,Crafts,Family,Kids,preteens,senior,Seniors,Teen,Teens,Youth
END:VEVENT
END:VCALENDAR