BEGIN:VCALENDAR
VERSION:2.0
PRODID:-//Trails Regional Library - ECPv6.15.20//NONSGML v1.0//EN
CALSCALE:GREGORIAN
METHOD:PUBLISH
X-WR-CALNAME:Trails Regional Library
X-ORIGINAL-URL:https://www.trailslibrary.org
X-WR-CALDESC:Events for Trails Regional Library
REFRESH-INTERVAL;VALUE=DURATION:PT1H
X-Robots-Tag:noindex
X-PUBLISHED-TTL:PT1H
BEGIN:VTIMEZONE
TZID:America/New_York
BEGIN:DAYLIGHT
TZOFFSETFROM:-0500
TZOFFSETTO:-0400
TZNAME:EDT
DTSTART:20230312T070000
END:DAYLIGHT
BEGIN:STANDARD
TZOFFSETFROM:-0400
TZOFFSETTO:-0500
TZNAME:EST
DTSTART:20231105T060000
END:STANDARD
BEGIN:DAYLIGHT
TZOFFSETFROM:-0500
TZOFFSETTO:-0400
TZNAME:EDT
DTSTART:20240310T070000
END:DAYLIGHT
BEGIN:STANDARD
TZOFFSETFROM:-0400
TZOFFSETTO:-0500
TZNAME:EST
DTSTART:20241103T060000
END:STANDARD
BEGIN:DAYLIGHT
TZOFFSETFROM:-0500
TZOFFSETTO:-0400
TZNAME:EDT
DTSTART:20250309T070000
END:DAYLIGHT
BEGIN:STANDARD
TZOFFSETFROM:-0400
TZOFFSETTO:-0500
TZNAME:EST
DTSTART:20251102T060000
END:STANDARD
END:VTIMEZONE
BEGIN:VEVENT
DTSTART;TZID=America/New_York:20240312T100000
DTEND;TZID=America/New_York:20240312T103000
DTSTAMP:20260419T204114
CREATED:20231215T174523Z
LAST-MODIFIED:20231215T174523Z
UID:10005976-1710237600-1710239400@www.trailslibrary.org
SUMMARY:Storytime-Concordia
DESCRIPTION:Ages 0-5: Storytimes are for building pre-reading skills\, making friends and having fun!
URL:https://www.trailslibrary.org/event/storytime-concordia-92/
LOCATION:Concordia Branch\, 813 S Main\, Concordia\, MO\, 64020\, United States
CATEGORIES:Children,Kids,Preschool,Storytime
END:VEVENT
BEGIN:VEVENT
DTSTART;TZID=America/New_York:20240312T100000
DTEND;TZID=America/New_York:20240312T103000
DTSTAMP:20260419T204114
CREATED:20231215T190035Z
LAST-MODIFIED:20231215T190035Z
UID:10006263-1710237600-1710239400@www.trailslibrary.org
SUMMARY:Preschool Storytime-Warrensburg
DESCRIPTION:Ages 0-5: Storytime: Meet up for stories\, music\, dancing\, and of course\, bubbles!
URL:https://www.trailslibrary.org/event/preschool-storytime-warrensburg-61/
LOCATION:Warrensburg Branch\, 432 N. Holden\, Warrensburg\, Missouri\, 64093\, United States
CATEGORIES:Children,Kids,Preschool,Storytime
END:VEVENT
BEGIN:VEVENT
DTSTART;TZID=America/New_York:20240312T103000
DTEND;TZID=America/New_York:20240312T110000
DTSTAMP:20260419T204114
CREATED:20231215T185936Z
LAST-MODIFIED:20231215T185936Z
UID:10007349-1710239400-1710241200@www.trailslibrary.org
SUMMARY:Preschool Craftime-Warrensburg
DESCRIPTION:Ages 0-5: Stay after storytime to make a themed craft with Miss Amy.
URL:https://www.trailslibrary.org/event/preschool-craftime-warrensburg-25/
LOCATION:Warrensburg Branch\, 432 N. Holden\, Warrensburg\, Missouri\, 64093\, United States
CATEGORIES:Children,Kids,Preschool
END:VEVENT
BEGIN:VEVENT
DTSTART;TZID=America/New_York:20240312T150000
DTEND;TZID=America/New_York:20240312T153000
DTSTAMP:20260419T204114
CREATED:20231215T181201Z
LAST-MODIFIED:20231215T181201Z
UID:10007162-1710255600-1710257400@www.trailslibrary.org
SUMMARY:Storytime-Knob Noster
DESCRIPTION:Ages 0-5: Bring your child for stories\, crafts\, songs and bubbles to encourage an early love of literacy!
URL:https://www.trailslibrary.org/event/storytime-knob-noster-80/
LOCATION:Knob Noster Branch\, 202 N. Adams\, Knob Noster\, MO\, 65336\, United States
CATEGORIES:Children,Kids,Preschool,Storytime
END:VEVENT
BEGIN:VEVENT
DTSTART;TZID=America/New_York:20240312T153000
DTEND;TZID=America/New_York:20240312T160000
DTSTAMP:20260419T204114
CREATED:20231215T181330Z
LAST-MODIFIED:20231215T181330Z
UID:10007176-1710257400-1710259200@www.trailslibrary.org
SUMMARY:Kid Connection-Knob Noster
DESCRIPTION:Ages 0-5: Come play\, make new friends and see all the library has to offer!
URL:https://www.trailslibrary.org/event/kid-connection-knob-noster-28/
LOCATION:Knob Noster Branch\, 202 N. Adams\, Knob Noster\, MO\, 65336\, United States
CATEGORIES:Children,Kids,Preschool
END:VEVENT
BEGIN:VEVENT
DTSTART;TZID=America/New_York:20240312T153000
DTEND;TZID=America/New_York:20240312T170000
DTSTAMP:20260419T204114
CREATED:20231215T183626Z
LAST-MODIFIED:20231215T183626Z
UID:10007271-1710257400-1710262800@www.trailslibrary.org
SUMMARY:Friends\, Flicks\, and FUN!-Lexington
DESCRIPTION:All Ages: Come to the library and watch a fun movie. We’ll provide the popcorn and you can bring a friend along for more FUN! * Bring a drink with a lid!
URL:https://www.trailslibrary.org/event/friends-flicks-and-fun-lexington-5/
LOCATION:Lexington Branch\, 1008 Main Street\, Lexington\, MO\, 64067\, United States
CATEGORIES:Adult,Adults,All Ages,Children,Family,Kids,Movie,preteens,senior,Seniors,Teen,Teens,Youth
END:VEVENT
END:VCALENDAR