BEGIN:VCALENDAR
VERSION:2.0
PRODID:-//Trails Regional Library - ECPv6.15.20//NONSGML v1.0//EN
CALSCALE:GREGORIAN
METHOD:PUBLISH
X-ORIGINAL-URL:https://www.trailslibrary.org
X-WR-CALDESC:Events for Trails Regional Library
REFRESH-INTERVAL;VALUE=DURATION:PT1H
X-Robots-Tag:noindex
X-PUBLISHED-TTL:PT1H
BEGIN:VTIMEZONE
TZID:America/New_York
BEGIN:DAYLIGHT
TZOFFSETFROM:-0500
TZOFFSETTO:-0400
TZNAME:EDT
DTSTART:20230312T070000
END:DAYLIGHT
BEGIN:STANDARD
TZOFFSETFROM:-0400
TZOFFSETTO:-0500
TZNAME:EST
DTSTART:20231105T060000
END:STANDARD
BEGIN:DAYLIGHT
TZOFFSETFROM:-0500
TZOFFSETTO:-0400
TZNAME:EDT
DTSTART:20240310T070000
END:DAYLIGHT
BEGIN:STANDARD
TZOFFSETFROM:-0400
TZOFFSETTO:-0500
TZNAME:EST
DTSTART:20241103T060000
END:STANDARD
BEGIN:DAYLIGHT
TZOFFSETFROM:-0500
TZOFFSETTO:-0400
TZNAME:EDT
DTSTART:20250309T070000
END:DAYLIGHT
BEGIN:STANDARD
TZOFFSETFROM:-0400
TZOFFSETTO:-0500
TZNAME:EST
DTSTART:20251102T060000
END:STANDARD
END:VTIMEZONE
BEGIN:VEVENT
DTSTART;TZID=America/New_York:20240320T100000
DTEND;TZID=America/New_York:20240320T100000
DTSTAMP:20260419T204128
CREATED:20231215T183920Z
LAST-MODIFIED:20231215T183920Z
UID:10007281-1710928800-1710928800@www.trailslibrary.org
SUMMARY:Storytime-Odessa
DESCRIPTION:Ages 0-5: Storytimes are for building pre-reading skills\, making friends\, and having fun!
URL:https://www.trailslibrary.org/event/storytime-odessa-57/
LOCATION:Odessa Branch\, 107 W. Mason\, Odessa\, MO\, 64076\, United States
CATEGORIES:Children,Kids,Preschool,Storytime
END:VEVENT
BEGIN:VEVENT
DTSTART;TZID=America/New_York:20240320T100000
DTEND;TZID=America/New_York:20240320T103000
DTSTAMP:20260419T204128
CREATED:20231215T180811Z
LAST-MODIFIED:20231215T180811Z
UID:10007122-1710928800-1710930600@www.trailslibrary.org
SUMMARY:Storytime-Holden
DESCRIPTION:Ages 0-5: Come listen to a story at the library and do a craft.
URL:https://www.trailslibrary.org/event/storytime-holden-110/
LOCATION:Holden Branch\, 207 S. Main\, Holden\, MO\, 64040\, United States
CATEGORIES:Children,Kids,Preschool,Storytime
END:VEVENT
BEGIN:VEVENT
DTSTART;TZID=America/New_York:20240320T100000
DTEND;TZID=America/New_York:20240320T103000
DTSTAMP:20260419T204128
CREATED:20231215T181202Z
LAST-MODIFIED:20231215T181202Z
UID:10006055-1710928800-1710930600@www.trailslibrary.org
SUMMARY:Storytime-Knob Noster
DESCRIPTION:Ages 0-5: Bring your child for stories\, crafts\, songs and bubbles to encourage an early love of literacy!
URL:https://www.trailslibrary.org/event/storytime-knob-noster-83/
LOCATION:Knob Noster Branch\, 202 N. Adams\, Knob Noster\, MO\, 65336\, United States
CATEGORIES:Children,Kids,Preschool,Storytime
END:VEVENT
BEGIN:VEVENT
DTSTART;TZID=America/New_York:20240320T100000
DTEND;TZID=America/New_York:20240320T103000
DTSTAMP:20260419T204128
CREATED:20231215T182627Z
LAST-MODIFIED:20231215T182627Z
UID:10007235-1710928800-1710930600@www.trailslibrary.org
SUMMARY:Storytime-Lexington
DESCRIPTION:Ages 0-5: Bring your little ones for storytime! Each week we read\, sing\, play and learn\, all while developing early literacy skills.
URL:https://www.trailslibrary.org/event/storytime-lexington-93/
LOCATION:Lexington Branch\, 1008 Main Street\, Lexington\, MO\, 64067\, United States
CATEGORIES:Children,Kids,Preschool,Storytime
END:VEVENT
BEGIN:VEVENT
DTSTART;TZID=America/New_York:20240320T100000
DTEND;TZID=America/New_York:20240320T230000
DTSTAMP:20260419T204128
CREATED:20231215T175809Z
LAST-MODIFIED:20231215T175809Z
UID:10007108-1710928800-1710975600@www.trailslibrary.org
SUMMARY:Storytime-Corder
DESCRIPTION:Ages: 3-5: Storytimes are for building pre-reading skills\, making friends and having fun!
URL:https://www.trailslibrary.org/event/storytime-corder-99/
LOCATION:Corder Branch\, 221 N. Lafayette\, Corder\, MO\, 64021\, United States
CATEGORIES:Children,Kids,Preschool,Storytime
END:VEVENT
BEGIN:VEVENT
DTSTART;TZID=America/New_York:20240320T103000
DTEND;TZID=America/New_York:20240320T110000
DTSTAMP:20260419T204128
CREATED:20231215T180856Z
LAST-MODIFIED:20231215T180856Z
UID:10006027-1710930600-1710932400@www.trailslibrary.org
SUMMARY:Stay & Play-Holden
DESCRIPTION:Ages 0-5: Stay after storytime and play with your friends. Enjoy the library’s resources and toys.
URL:https://www.trailslibrary.org/event/stay-play-holden-21/
LOCATION:Holden Branch\, 207 S. Main\, Holden\, MO\, 64040\, United States
CATEGORIES:Children,Kids,Preschool,Storytime
END:VEVENT
BEGIN:VEVENT
DTSTART;TZID=America/New_York:20240320T103000
DTEND;TZID=America/New_York:20240320T110000
DTSTAMP:20260419T204128
CREATED:20231215T181344Z
LAST-MODIFIED:20231215T181344Z
UID:10007179-1710930600-1710932400@www.trailslibrary.org
SUMMARY:Kid Connection-Knob Noster
DESCRIPTION:Ages 0-5: Come play\, make new friends and see all the library has to offer!
URL:https://www.trailslibrary.org/event/kid-connection-knob-noster-31/
LOCATION:Knob Noster Branch\, 202 N. Adams\, Knob Noster\, MO\, 65336\, United States
CATEGORIES:Children,Kids,Preschool
END:VEVENT
BEGIN:VEVENT
DTSTART;TZID=America/New_York:20240320T103000
DTEND;TZID=America/New_York:20240320T110000
DTSTAMP:20260419T204128
CREATED:20231215T182715Z
LAST-MODIFIED:20231215T182715Z
UID:10007239-1710930600-1710932400@www.trailslibrary.org
SUMMARY:Stay and Play-Lexington
DESCRIPTION:Ages 0-5: Stay and play after storytime to get your wiggles out! Have some fun\, play games\, and make new friends!
URL:https://www.trailslibrary.org/event/stay-and-play-lexington-32/
LOCATION:Lexington Branch\, 1008 Main Street\, Lexington\, MO\, 64067\, United States
CATEGORIES:Children,Kids,Preschool
END:VEVENT
BEGIN:VEVENT
DTSTART;TZID=America/New_York:20240320T150000
DTEND;TZID=America/New_York:20240320T160000
DTSTAMP:20260419T204128
CREATED:20231215T181545Z
LAST-MODIFIED:20231215T181545Z
UID:10007210-1710946800-1710950400@www.trailslibrary.org
SUMMARY:Eureka! Steam Program-Knob Noster
DESCRIPTION:Ages 6-12: Join us for a fun afternoon of STEAM activities! Learn\, play\, and socialize all at the same time.
URL:https://www.trailslibrary.org/event/eureka-steam-program-knob-noster-2/
LOCATION:Knob Noster Branch\, 202 N. Adams\, Knob Noster\, MO\, 65336\, United States
CATEGORIES:Children,Kids,STEAM
END:VEVENT
BEGIN:VEVENT
DTSTART;TZID=America/New_York:20240320T160000
DTEND;TZID=America/New_York:20240320T170000
DTSTAMP:20260419T204128
CREATED:20231215T174809Z
LAST-MODIFIED:20231215T174809Z
UID:10007091-1710950400-1710954000@www.trailslibrary.org
SUMMARY:Micro Mini Golf-Concordia
DESCRIPTION:Ages 9-12: Create your own miniature golf hole complete with golf club!
URL:https://www.trailslibrary.org/event/micro-mini-golf-concordia/
LOCATION:Concordia Branch\, 813 S Main\, Concordia\, MO\, 64020\, United States
CATEGORIES:Children,Crafts,Kids
END:VEVENT
BEGIN:VEVENT
DTSTART;TZID=America/New_York:20240320T163000
DTEND;TZID=America/New_York:20240320T183000
DTSTAMP:20260419T204128
CREATED:20231215T190506Z
LAST-MODIFIED:20231215T191547Z
UID:10007427-1710952200-1710959400@www.trailslibrary.org
SUMMARY:Libraries Got Game-Warrensburg
DESCRIPTION:All Ages: Get BOARD at the library with your family and friends! Fun and exciting board and XL games.
URL:https://www.trailslibrary.org/event/libraries-got-game-warrensburg-53/
LOCATION:Warrensburg Branch\, 432 N. Holden\, Warrensburg\, Missouri\, 64093\, United States
CATEGORIES:Adult,Adults,All Ages,Children,Family,Kids,preteens,senior,Seniors,Teen,Teens,Youth
END:VEVENT
END:VCALENDAR