BEGIN:VCALENDAR
VERSION:2.0
PRODID:-//Trails Regional Library - ECPv6.15.20//NONSGML v1.0//EN
CALSCALE:GREGORIAN
METHOD:PUBLISH
X-WR-CALNAME:Trails Regional Library
X-ORIGINAL-URL:https://www.trailslibrary.org
X-WR-CALDESC:Events for Trails Regional Library
REFRESH-INTERVAL;VALUE=DURATION:PT1H
X-Robots-Tag:noindex
X-PUBLISHED-TTL:PT1H
BEGIN:VTIMEZONE
TZID:America/New_York
BEGIN:DAYLIGHT
TZOFFSETFROM:-0500
TZOFFSETTO:-0400
TZNAME:EDT
DTSTART:20230312T070000
END:DAYLIGHT
BEGIN:STANDARD
TZOFFSETFROM:-0400
TZOFFSETTO:-0500
TZNAME:EST
DTSTART:20231105T060000
END:STANDARD
BEGIN:DAYLIGHT
TZOFFSETFROM:-0500
TZOFFSETTO:-0400
TZNAME:EDT
DTSTART:20240310T070000
END:DAYLIGHT
BEGIN:STANDARD
TZOFFSETFROM:-0400
TZOFFSETTO:-0500
TZNAME:EST
DTSTART:20241103T060000
END:STANDARD
BEGIN:DAYLIGHT
TZOFFSETFROM:-0500
TZOFFSETTO:-0400
TZNAME:EDT
DTSTART:20250309T070000
END:DAYLIGHT
BEGIN:STANDARD
TZOFFSETFROM:-0400
TZOFFSETTO:-0500
TZNAME:EST
DTSTART:20251102T060000
END:STANDARD
END:VTIMEZONE
BEGIN:VEVENT
DTSTART;TZID=America/New_York:20240325T100000
DTEND;TZID=America/New_York:20240325T103000
DTSTAMP:20260419T204114
CREATED:20231215T185504Z
LAST-MODIFIED:20231215T185504Z
UID:10006218-1711360800-1711362600@www.trailslibrary.org
SUMMARY:Storytime-Waverly
DESCRIPTION:Ages 0-5: Storytimes are for building pre-reading skills\, making friends and having fun!
URL:https://www.trailslibrary.org/event/storytime-waverly-99/
LOCATION:Waverly Branch\, 203 E. Kelling\, Waverly\, MO\, 64096\, United States
CATEGORIES:Children,Kids,Preschool,Storytime
END:VEVENT
BEGIN:VEVENT
DTSTART;TZID=America/New_York:20240325T130000
DTEND;TZID=America/New_York:20240325T143000
DTSTAMP:20260419T204114
CREATED:20231215T181600Z
LAST-MODIFIED:20231215T181600Z
UID:10007212-1711371600-1711377000@www.trailslibrary.org
SUMMARY:Among Us Game-Knob Noster
DESCRIPTION:Ages 8+ REGISTRATION required: Come for a family friendly live action game of Among Us in the library!
URL:https://www.trailslibrary.org/event/among-us-game-knob-noster/
LOCATION:Knob Noster Branch\, 202 N. Adams\, Knob Noster\, MO\, 65336\, United States
CATEGORIES:Adult,Adults,Children,Kids,Teen,Teens,Youth
END:VEVENT
BEGIN:VEVENT
DTSTART;TZID=America/New_York:20240325T170000
DTEND;TZID=America/New_York:20240325T180000
DTSTAMP:20260419T204114
CREATED:20231215T190405Z
LAST-MODIFIED:20231215T205446Z
UID:10006320-1711386000-1711389600@www.trailslibrary.org
SUMMARY:Origami with Trish B.-Warrensburg
DESCRIPTION:Ages 6-17 REGISTRATION required: Come create an origami 6 piece square
URL:https://www.trailslibrary.org/event/origami-with-trish-b-warrensburg/
LOCATION:Warrensburg Branch\, 432 N. Holden\, Warrensburg\, Missouri\, 64093\, United States
CATEGORIES:Children,Crafts,Kids,Teens
END:VEVENT
END:VCALENDAR