BEGIN:VCALENDAR
VERSION:2.0
PRODID:-//Trails Regional Library - ECPv6.15.20//NONSGML v1.0//EN
CALSCALE:GREGORIAN
METHOD:PUBLISH
X-ORIGINAL-URL:https://www.trailslibrary.org
X-WR-CALDESC:Events for Trails Regional Library
REFRESH-INTERVAL;VALUE=DURATION:PT1H
X-Robots-Tag:noindex
X-PUBLISHED-TTL:PT1H
BEGIN:VTIMEZONE
TZID:America/New_York
BEGIN:DAYLIGHT
TZOFFSETFROM:-0500
TZOFFSETTO:-0400
TZNAME:EDT
DTSTART:20230312T070000
END:DAYLIGHT
BEGIN:STANDARD
TZOFFSETFROM:-0400
TZOFFSETTO:-0500
TZNAME:EST
DTSTART:20231105T060000
END:STANDARD
BEGIN:DAYLIGHT
TZOFFSETFROM:-0500
TZOFFSETTO:-0400
TZNAME:EDT
DTSTART:20240310T070000
END:DAYLIGHT
BEGIN:STANDARD
TZOFFSETFROM:-0400
TZOFFSETTO:-0500
TZNAME:EST
DTSTART:20241103T060000
END:STANDARD
BEGIN:DAYLIGHT
TZOFFSETFROM:-0500
TZOFFSETTO:-0400
TZNAME:EDT
DTSTART:20250309T070000
END:DAYLIGHT
BEGIN:STANDARD
TZOFFSETFROM:-0400
TZOFFSETTO:-0500
TZNAME:EST
DTSTART:20251102T060000
END:STANDARD
END:VTIMEZONE
BEGIN:VEVENT
DTSTART;TZID=America/New_York:20240415T100000
DTEND;TZID=America/New_York:20240415T103000
DTSTAMP:20260419T183909
CREATED:20231215T185519Z
LAST-MODIFIED:20231215T185519Z
UID:10007313-1713175200-1713177000@www.trailslibrary.org
SUMMARY:Storytime-Waverly
DESCRIPTION:Ages 0-5: Storytimes are for building pre-reading skills\, making friends and having fun!
URL:https://www.trailslibrary.org/event/storytime-waverly-102/
LOCATION:Waverly Branch\, 203 E. Kelling\, Waverly\, MO\, 64096\, United States
CATEGORIES:Children,Kids,Preschool,Storytime
END:VEVENT
BEGIN:VEVENT
DTSTART;TZID=America/New_York:20240415T160000
DTEND;TZID=America/New_York:20240415T160000
DTSTAMP:20260419T183909
CREATED:20231215T184802Z
LAST-MODIFIED:20231215T184802Z
UID:10007307-1713196800-1713196800@www.trailslibrary.org
SUMMARY:S.T.E.A.M.-Odessa
DESCRIPTION:Ages 9-12: Use your love of science\, technology\, engineering\, art and math to design your own marble run.
URL:https://www.trailslibrary.org/event/s-t-e-a-m-odessa/
LOCATION:Odessa Branch\, 107 W. Mason\, Odessa\, MO\, 64076\, United States
CATEGORIES:Children,Kids,STEAM
END:VEVENT
END:VCALENDAR