BEGIN:VCALENDAR
VERSION:2.0
PRODID:-//Trails Regional Library - ECPv6.15.20//NONSGML v1.0//EN
CALSCALE:GREGORIAN
METHOD:PUBLISH
X-ORIGINAL-URL:https://www.trailslibrary.org
X-WR-CALDESC:Events for Trails Regional Library
REFRESH-INTERVAL;VALUE=DURATION:PT1H
X-Robots-Tag:noindex
X-PUBLISHED-TTL:PT1H
BEGIN:VTIMEZONE
TZID:America/New_York
BEGIN:DAYLIGHT
TZOFFSETFROM:-0500
TZOFFSETTO:-0400
TZNAME:EDT
DTSTART:20230312T070000
END:DAYLIGHT
BEGIN:STANDARD
TZOFFSETFROM:-0400
TZOFFSETTO:-0500
TZNAME:EST
DTSTART:20231105T060000
END:STANDARD
BEGIN:DAYLIGHT
TZOFFSETFROM:-0500
TZOFFSETTO:-0400
TZNAME:EDT
DTSTART:20240310T070000
END:DAYLIGHT
BEGIN:STANDARD
TZOFFSETFROM:-0400
TZOFFSETTO:-0500
TZNAME:EST
DTSTART:20241103T060000
END:STANDARD
BEGIN:DAYLIGHT
TZOFFSETFROM:-0500
TZOFFSETTO:-0400
TZNAME:EDT
DTSTART:20250309T070000
END:DAYLIGHT
BEGIN:STANDARD
TZOFFSETFROM:-0400
TZOFFSETTO:-0500
TZNAME:EST
DTSTART:20251102T060000
END:STANDARD
END:VTIMEZONE
BEGIN:VEVENT
DTSTART;TZID=America/New_York:20240417T100000
DTEND;TZID=America/New_York:20240417T100000
DTSTAMP:20260419T183858
CREATED:20231215T183935Z
LAST-MODIFIED:20231215T183935Z
UID:10007286-1713348000-1713348000@www.trailslibrary.org
SUMMARY:Storytime-Odessa
DESCRIPTION:Ages 0-5:Storytimes are for building pre-reading skills\, making friends\, and having fun!
URL:https://www.trailslibrary.org/event/storytime-odessa-62/
LOCATION:Odessa Branch\, 107 W. Mason\, Odessa\, MO\, 64076\, United States
CATEGORIES:Children,Kids,Preschool,Storytime
END:VEVENT
BEGIN:VEVENT
DTSTART;TZID=America/New_York:20240417T100000
DTEND;TZID=America/New_York:20240417T103000
DTSTAMP:20260419T183858
CREATED:20231215T180826Z
LAST-MODIFIED:20231215T180826Z
UID:10007126-1713348000-1713349800@www.trailslibrary.org
SUMMARY:Storytime-Holden
DESCRIPTION:Ages 0-5: Come listen to a story at the library and do a craft.
URL:https://www.trailslibrary.org/event/storytime-holden-114/
LOCATION:Holden Branch\, 207 S. Main\, Holden\, MO\, 64040\, United States
CATEGORIES:Children,Kids,Preschool,Storytime
END:VEVENT
BEGIN:VEVENT
DTSTART;TZID=America/New_York:20240417T100000
DTEND;TZID=America/New_York:20240417T103000
DTSTAMP:20260419T183858
CREATED:20231215T181259Z
LAST-MODIFIED:20231215T181259Z
UID:10006065-1713348000-1713349800@www.trailslibrary.org
SUMMARY:Storytime-Knob Noster
DESCRIPTION:Ages 0-5: Bring your child for stories\, crafts\, songs and bubbles to encourage an early love of literacy!
URL:https://www.trailslibrary.org/event/storytime-knob-noster-91/
LOCATION:Knob Noster Branch\, 202 N. Adams\, Knob Noster\, MO\, 65336\, United States
CATEGORIES:Children,Kids,Preschool,Storytime
END:VEVENT
BEGIN:VEVENT
DTSTART;TZID=America/New_York:20240417T100000
DTEND;TZID=America/New_York:20240417T103000
DTSTAMP:20260419T183858
CREATED:20231215T182642Z
LAST-MODIFIED:20231215T182642Z
UID:10006128-1713348000-1713349800@www.trailslibrary.org
SUMMARY:Storytime-Lexington
DESCRIPTION:Ages 0-5: Bring your little ones for storytime! Each week we read\, sing\, play and learn\, all while developing early literacy skills.
URL:https://www.trailslibrary.org/event/storytime-lexington-97/
LOCATION:Lexington Branch\, 1008 Main Street\, Lexington\, MO\, 64067\, United States
CATEGORIES:Children,Kids,Preschool,Storytime
END:VEVENT
BEGIN:VEVENT
DTSTART;TZID=America/New_York:20240417T100000
DTEND;TZID=America/New_York:20240417T110000
DTSTAMP:20260419T183858
CREATED:20231215T175810Z
LAST-MODIFIED:20231215T175810Z
UID:10007112-1713348000-1713351600@www.trailslibrary.org
SUMMARY:Storytime-Corder
DESCRIPTION:Ages: 3-5: Storytimes are for building pre-reading skills\, making friends and having fun!
URL:https://www.trailslibrary.org/event/storytime-corder-103/
LOCATION:Corder Branch\, 221 N. Lafayette\, Corder\, MO\, 64021\, United States
CATEGORIES:Children,Kids,Preschool,Storytime
END:VEVENT
BEGIN:VEVENT
DTSTART;TZID=America/New_York:20240417T103000
DTEND;TZID=America/New_York:20240417T110000
DTSTAMP:20260419T183858
CREATED:20231215T180911Z
LAST-MODIFIED:20231215T180911Z
UID:10006035-1713349800-1713351600@www.trailslibrary.org
SUMMARY:Stay & Play-Holden
DESCRIPTION:Ages 0-5: Stay after storytime and play with your friends. Enjoy the library’s resources and toys.
URL:https://www.trailslibrary.org/event/stay-play-holden-25/
LOCATION:Holden Branch\, 207 S. Main\, Holden\, MO\, 64040\, United States
CATEGORIES:Children,Kids,Preschool,Storytime
END:VEVENT
BEGIN:VEVENT
DTSTART;TZID=America/New_York:20240417T103000
DTEND;TZID=America/New_York:20240417T110000
DTSTAMP:20260419T183858
CREATED:20231215T181414Z
LAST-MODIFIED:20231215T181414Z
UID:10006077-1713349800-1713351600@www.trailslibrary.org
SUMMARY:Kid Connection-Knob Noster
DESCRIPTION:Ages 0-5: Come play\, make new friends and see all the library has to offer!
URL:https://www.trailslibrary.org/event/kid-connection-knob-noster-39/
LOCATION:Knob Noster Branch\, 202 N. Adams\, Knob Noster\, MO\, 65336\, United States
CATEGORIES:Children,Kids,Preschool
END:VEVENT
BEGIN:VEVENT
DTSTART;TZID=America/New_York:20240417T103000
DTEND;TZID=America/New_York:20240417T110000
DTSTAMP:20260419T183858
CREATED:20231215T182915Z
LAST-MODIFIED:20231215T182915Z
UID:10007243-1713349800-1713351600@www.trailslibrary.org
SUMMARY:Stay and Play-Lexington
DESCRIPTION:Ages 0-5: Stay and play after storytime to get your wiggles out! Have some fun\, play games\, and make new friends!
URL:https://www.trailslibrary.org/event/stay-and-play-lexington-36/
LOCATION:Lexington Branch\, 1008 Main Street\, Lexington\, MO\, 64067\, United States
CATEGORIES:Children,Kids,Preschool
END:VEVENT
BEGIN:VEVENT
DTSTART;TZID=America/New_York:20240417T150000
DTEND;TZID=America/New_York:20240417T160000
DTSTAMP:20260419T183858
CREATED:20231215T181545Z
LAST-MODIFIED:20231215T181545Z
UID:10007211-1713366000-1713369600@www.trailslibrary.org
SUMMARY:Eureka! Steam Program-Knob Noster
DESCRIPTION:Ages 6-12: Join us for a fun afternoon of STEAM activities! Learn\, play\, and socialize all at the same time.
URL:https://www.trailslibrary.org/event/eureka-steam-program-knob-noster-3/
LOCATION:Knob Noster Branch\, 202 N. Adams\, Knob Noster\, MO\, 65336\, United States
CATEGORIES:Children,Kids,STEAM
END:VEVENT
BEGIN:VEVENT
DTSTART;TZID=America/New_York:20240417T153000
DTEND;TZID=America/New_York:20240417T163000
DTSTAMP:20260419T183858
CREATED:20231215T190405Z
LAST-MODIFIED:20231215T190405Z
UID:10006318-1713367800-1713371400@www.trailslibrary.org
SUMMARY:This or That-Warrensburg
DESCRIPTION:Ages 6-12 REGISTRATION required: Make a tasty treat\, discover which is best\, homemade or store bought. Calculate and analyze cost per serving.
URL:https://www.trailslibrary.org/event/this-or-that-warrensburg-3/
LOCATION:Warrensburg Branch\, 432 N. Holden\, Warrensburg\, Missouri\, 64093\, United States
CATEGORIES:Children,Crafts,Kids,Pre-Teen,Pre-Teens,Teen,Teens
END:VEVENT
BEGIN:VEVENT
DTSTART;TZID=America/New_York:20240417T163000
DTEND;TZID=America/New_York:20240417T183000
DTSTAMP:20260419T183858
CREATED:20231215T190520Z
LAST-MODIFIED:20231215T191747Z
UID:10007431-1713371400-1713378600@www.trailslibrary.org
SUMMARY:Libraries Got Game-Warrensburg
DESCRIPTION:All Ages: Get BOARD at the library with your family and friends! Fun and exciting board and XL games.
URL:https://www.trailslibrary.org/event/libraries-got-game-warrensburg-57/
LOCATION:Warrensburg Branch\, 432 N. Holden\, Warrensburg\, Missouri\, 64093\, United States
CATEGORIES:Adult,Adults,All Ages,Children,Family,Kids,preteens,senior,Seniors,Teen,Teens,Youth
END:VEVENT
END:VCALENDAR