BEGIN:VCALENDAR
VERSION:2.0
PRODID:-//Trails Regional Library - ECPv6.15.20//NONSGML v1.0//EN
CALSCALE:GREGORIAN
METHOD:PUBLISH
X-WR-CALNAME:Trails Regional Library
X-ORIGINAL-URL:https://www.trailslibrary.org
X-WR-CALDESC:Events for Trails Regional Library
REFRESH-INTERVAL;VALUE=DURATION:PT1H
X-Robots-Tag:noindex
X-PUBLISHED-TTL:PT1H
BEGIN:VTIMEZONE
TZID:America/New_York
BEGIN:DAYLIGHT
TZOFFSETFROM:-0500
TZOFFSETTO:-0400
TZNAME:EDT
DTSTART:20230312T070000
END:DAYLIGHT
BEGIN:STANDARD
TZOFFSETFROM:-0400
TZOFFSETTO:-0500
TZNAME:EST
DTSTART:20231105T060000
END:STANDARD
BEGIN:DAYLIGHT
TZOFFSETFROM:-0500
TZOFFSETTO:-0400
TZNAME:EDT
DTSTART:20240310T070000
END:DAYLIGHT
BEGIN:STANDARD
TZOFFSETFROM:-0400
TZOFFSETTO:-0500
TZNAME:EST
DTSTART:20241103T060000
END:STANDARD
BEGIN:DAYLIGHT
TZOFFSETFROM:-0500
TZOFFSETTO:-0400
TZNAME:EDT
DTSTART:20250309T070000
END:DAYLIGHT
BEGIN:STANDARD
TZOFFSETFROM:-0400
TZOFFSETTO:-0500
TZNAME:EST
DTSTART:20251102T060000
END:STANDARD
END:VTIMEZONE
BEGIN:VEVENT
DTSTART;TZID=America/New_York:20240423T100000
DTEND;TZID=America/New_York:20240423T103000
DTSTAMP:20260419T183815
CREATED:20231215T174538Z
LAST-MODIFIED:20231215T174538Z
UID:10007079-1713866400-1713868200@www.trailslibrary.org
SUMMARY:Storytime-Concordia
DESCRIPTION:Ages 0-5: Storytimes are for building pre-reading skills\, making friends and having fun!
URL:https://www.trailslibrary.org/event/storytime-concordia-98/
LOCATION:Concordia Branch\, 813 S Main\, Concordia\, MO\, 64020\, United States
CATEGORIES:Children,Kids,Preschool,Storytime
END:VEVENT
BEGIN:VEVENT
DTSTART;TZID=America/New_York:20240423T100000
DTEND;TZID=America/New_York:20240423T103000
DTSTAMP:20260419T183815
CREATED:20231215T190050Z
LAST-MODIFIED:20231215T190050Z
UID:10007361-1713866400-1713868200@www.trailslibrary.org
SUMMARY:Preschool Storytime-Warrensburg
DESCRIPTION:Ages 0-5: Storytime: Meet up for stories\, music\, dancing\, and of course\, bubbles!
URL:https://www.trailslibrary.org/event/preschool-storytime-warrensburg-67/
LOCATION:Warrensburg Branch\, 432 N. Holden\, Warrensburg\, Missouri\, 64093\, United States
CATEGORIES:Children,Kids,Preschool,Storytime
END:VEVENT
BEGIN:VEVENT
DTSTART;TZID=America/New_York:20240423T103000
DTEND;TZID=America/New_York:20240423T110000
DTSTAMP:20260419T183815
CREATED:20231215T190005Z
LAST-MODIFIED:20231215T190005Z
UID:10007355-1713868200-1713870000@www.trailslibrary.org
SUMMARY:Preschool Craftime-Warrensburg
DESCRIPTION:Ages 0-5: Stay after storytime to make a themed craft with Miss Amy.
URL:https://www.trailslibrary.org/event/preschool-craftime-warrensburg-31/
LOCATION:Warrensburg Branch\, 432 N. Holden\, Warrensburg\, Missouri\, 64093\, United States
CATEGORIES:Children,Kids,Preschool
END:VEVENT
BEGIN:VEVENT
DTSTART;TZID=America/New_York:20240423T150000
DTEND;TZID=America/New_York:20240423T153000
DTSTAMP:20260419T183815
CREATED:20231215T181259Z
LAST-MODIFIED:20231215T181259Z
UID:10006067-1713884400-1713886200@www.trailslibrary.org
SUMMARY:Storytime-Knob Noster
DESCRIPTION:Ages 0-5: Bring your child for stories\, crafts\, songs and bubbles to encourage an early love of literacy!
URL:https://www.trailslibrary.org/event/storytime-knob-noster-92/
LOCATION:Knob Noster Branch\, 202 N. Adams\, Knob Noster\, MO\, 65336\, United States
CATEGORIES:Children,Kids,Preschool,Storytime
END:VEVENT
BEGIN:VEVENT
DTSTART;TZID=America/New_York:20240423T153000
DTEND;TZID=America/New_York:20240423T160000
DTSTAMP:20260419T183815
CREATED:20231215T181415Z
LAST-MODIFIED:20231215T181415Z
UID:10006079-1713886200-1713888000@www.trailslibrary.org
SUMMARY:Kid Connection-Knob Noster
DESCRIPTION:Ages 0-5: Come play\, make new friends and see all the library has to offer!
URL:https://www.trailslibrary.org/event/kid-connection-knob-noster-40/
LOCATION:Knob Noster Branch\, 202 N. Adams\, Knob Noster\, MO\, 65336\, United States
CATEGORIES:Children,Kids,Preschool
END:VEVENT
END:VCALENDAR