BEGIN:VCALENDAR
VERSION:2.0
PRODID:-//Trails Regional Library - ECPv6.15.20//NONSGML v1.0//EN
CALSCALE:GREGORIAN
METHOD:PUBLISH
X-WR-CALNAME:Trails Regional Library
X-ORIGINAL-URL:https://www.trailslibrary.org
X-WR-CALDESC:Events for Trails Regional Library
REFRESH-INTERVAL;VALUE=DURATION:PT1H
X-Robots-Tag:noindex
X-PUBLISHED-TTL:PT1H
BEGIN:VTIMEZONE
TZID:America/New_York
BEGIN:DAYLIGHT
TZOFFSETFROM:-0500
TZOFFSETTO:-0400
TZNAME:EDT
DTSTART:20230312T070000
END:DAYLIGHT
BEGIN:STANDARD
TZOFFSETFROM:-0400
TZOFFSETTO:-0500
TZNAME:EST
DTSTART:20231105T060000
END:STANDARD
BEGIN:DAYLIGHT
TZOFFSETFROM:-0500
TZOFFSETTO:-0400
TZNAME:EDT
DTSTART:20240310T070000
END:DAYLIGHT
BEGIN:STANDARD
TZOFFSETFROM:-0400
TZOFFSETTO:-0500
TZNAME:EST
DTSTART:20241103T060000
END:STANDARD
BEGIN:DAYLIGHT
TZOFFSETFROM:-0500
TZOFFSETTO:-0400
TZNAME:EDT
DTSTART:20250309T070000
END:DAYLIGHT
BEGIN:STANDARD
TZOFFSETFROM:-0400
TZOFFSETTO:-0500
TZNAME:EST
DTSTART:20251102T060000
END:STANDARD
END:VTIMEZONE
BEGIN:VEVENT
DTSTART;TZID=America/New_York:20240601T000000
DTEND;TZID=America/New_York:20240630T000000
DTSTAMP:20260419T145555
CREATED:20240520T204037Z
LAST-MODIFIED:20240520T204037Z
UID:10007647-1717200000-1719705600@www.trailslibrary.org
SUMMARY:Pop Up - Warrensburg
DESCRIPTION:All Ages: A surprise Program is scheduled!
URL:https://www.trailslibrary.org/event/pop-up-warrensburg-2/
LOCATION:Warrensburg Branch\, 432 N. Holden\, Warrensburg\, Missouri\, 64093\, United States
CATEGORIES:Adult,Adults,All Ages,Children,Family,Kids,preteens,senior,Seniors,Teen,Teens,Youth
END:VEVENT
BEGIN:VEVENT
DTSTART;TZID=America/New_York:20240612T093000
DTEND;TZID=America/New_York:20240612T103000
DTSTAMP:20260419T145555
CREATED:20240521T152339Z
LAST-MODIFIED:20240521T152339Z
UID:10007796-1718184600-1718188200@www.trailslibrary.org
SUMMARY:Storytime - Knob Noster
DESCRIPTION:Ages 0-5: Help your child develop a love for literacy with stories\, music\, & bubbles!
URL:https://www.trailslibrary.org/event/storytime-knob-noster-100/
LOCATION:Knob Noster Branch\, 202 N. Adams\, Knob Noster\, MO\, 65336\, United States
CATEGORIES:Children,Kids,Pre-School,Preschool,Storytime,Toddlers
END:VEVENT
BEGIN:VEVENT
DTSTART;TZID=America/New_York:20240612T100000
DTEND;TZID=America/New_York:20240612T100000
DTSTAMP:20260419T145555
CREATED:20240520T192837Z
LAST-MODIFIED:20240520T192837Z
UID:10007506-1718186400-1718186400@www.trailslibrary.org
SUMMARY:Storytime - Lexington
DESCRIPTION:Ages 0-5: Bring your little ones for storytime! Each week we read\, sing\, play and learn\, all while developing early literacy skills.
URL:https://www.trailslibrary.org/event/storytime-lexington-100/
LOCATION:Lexington Branch\, 1008 Main Street\, Lexington\, MO\, 64067\, United States
CATEGORIES:Children,Kids,Pre-School,Preschool,Storytime,Toddlers
END:VEVENT
BEGIN:VEVENT
DTSTART;TZID=America/New_York:20240612T100000
DTEND;TZID=America/New_York:20240612T100000
DTSTAMP:20260419T145555
CREATED:20240520T193537Z
LAST-MODIFIED:20240520T193537Z
UID:10007526-1718186400-1718186400@www.trailslibrary.org
SUMMARY:Storytime - Odessa
DESCRIPTION:Ages 0-5: Storytimes are for building pre-reading skills\, making friends\, and having fun!
URL:https://www.trailslibrary.org/event/storytime-odessa-64/
LOCATION:Odessa Branch\, 107 W. Mason\, Odessa\, MO\, 64076\, United States
CATEGORIES:Children,Kids,Pre-School,Preschool,Storytime,Toddlers
END:VEVENT
BEGIN:VEVENT
DTSTART;TZID=America/New_York:20240612T100000
DTEND;TZID=America/New_York:20240612T100000
DTSTAMP:20260419T145555
CREATED:20240521T141640Z
LAST-MODIFIED:20240521T141640Z
UID:10007727-1718186400-1718186400@www.trailslibrary.org
SUMMARY:Bubbly Storytimes - Concordia
DESCRIPTION:Ages 0-5: Storytimes are for building pre-reading skills\, making friends and having fun! And there will be bubbles!
URL:https://www.trailslibrary.org/event/bubbly-storytimes-concordia-2/
LOCATION:Concordia Branch\, 813 S Main\, Concordia\, MO\, 64020\, United States
CATEGORIES:Children,Kids,Pre-School,Preschool,Storytime,Toddlers
END:VEVENT
BEGIN:VEVENT
DTSTART;TZID=America/New_York:20240612T100000
DTEND;TZID=America/New_York:20240612T110000
DTSTAMP:20260419T145555
CREATED:20240520T191853Z
LAST-MODIFIED:20240520T191853Z
UID:10007468-1718186400-1718190000@www.trailslibrary.org
SUMMARY:SRP Storytime - Corder
DESCRIPTION:All Ages: Storytimes are for building reading skills\, making friends and having fun!  Our Summer Reading series will include crafts and activities related to our theme “Adventure Begins at the Library.”
URL:https://www.trailslibrary.org/event/srp-storytime-corder-2/
LOCATION:Corder Branch\, 221 N. Lafayette\, Corder\, MO\, 64021\, United States
CATEGORIES:Adult,Adults,All Ages,Children,Family,Kids,preteens,senior,Seniors,Storytime,Teen,Teens,Youth
END:VEVENT
BEGIN:VEVENT
DTSTART;TZID=America/New_York:20240612T100000
DTEND;TZID=America/New_York:20240612T110000
DTSTAMP:20260419T145555
CREATED:20240520T192214Z
LAST-MODIFIED:20240520T192214Z
UID:10007483-1718186400-1718190000@www.trailslibrary.org
SUMMARY:Mammal Mania with Knob Noster State Park - Holden
DESCRIPTION:Ages 0-5: Naturalist Chris Edmonson\, from Knob Noster State Park\, will do a library program entitled Mammal Mania. Discover the wild nature of Missouri and learn all about our famous and sometimes infamous Missouri mammals.
URL:https://www.trailslibrary.org/event/mammal-mania-with-knob-noster-state-park-holden/
LOCATION:Holden Branch\, 207 S. Main\, Holden\, MO\, 64040\, United States
CATEGORIES:Children,Guest Presenter,Kids,Pre-School,Preschool,Toddlers
END:VEVENT
BEGIN:VEVENT
DTSTART;TZID=America/New_York:20240612T110000
DTEND;TZID=America/New_York:20240612T120000
DTSTAMP:20260419T145555
CREATED:20240521T152339Z
LAST-MODIFIED:20240521T152339Z
UID:10007797-1718190000-1718193600@www.trailslibrary.org
SUMMARY:Storytime - Knob Noster
DESCRIPTION:Ages 0-5: Help your child develop a love for literacy with stories\, music\, & bubbles!
URL:https://www.trailslibrary.org/event/storytime-knob-noster-101/
LOCATION:Knob Noster Branch\, 202 N. Adams\, Knob Noster\, MO\, 65336\, United States
CATEGORIES:Children,Kids,Pre-School,Preschool,Storytime,Toddlers
END:VEVENT
BEGIN:VEVENT
DTSTART;TZID=America/New_York:20240612T140000
DTEND;TZID=America/New_York:20240612T150000
DTSTAMP:20260419T145555
CREATED:20240521T152956Z
LAST-MODIFIED:20240521T152956Z
UID:10007824-1718200800-1718204400@www.trailslibrary.org
SUMMARY:School-Age Storytime - Knob Noster
DESCRIPTION:Ages 6-12: Help your child develop a love for literacy with stories & a craft!
URL:https://www.trailslibrary.org/event/school-age-storytime-knob-noster/
LOCATION:Knob Noster Branch\, 202 N. Adams\, Knob Noster\, MO\, 65336\, United States
CATEGORIES:Children,Crafts,Kids,Storytime
END:VEVENT
BEGIN:VEVENT
DTSTART;TZID=America/New_York:20240612T150000
DTEND;TZID=America/New_York:20240612T180000
DTSTAMP:20260419T145555
CREATED:20240520T204110Z
LAST-MODIFIED:20240520T204110Z
UID:10007664-1718204400-1718215200@www.trailslibrary.org
SUMMARY:Libraries Got Game - Warrensburg
DESCRIPTION:All Ages: Get BOARD at the library with your family and friends! Fun and exciting board and XL games.
URL:https://www.trailslibrary.org/event/libraries-got-game-warrensburg-65/
LOCATION:Warrensburg Branch\, 432 N. Holden\, Warrensburg\, Missouri\, 64093\, United States
CATEGORIES:Adult,Adults,All Ages,Children,Family,Kids,preteens,senior,Seniors,Teen,Teens,Youth
END:VEVENT
BEGIN:VEVENT
DTSTART;TZID=America/New_York:20240612T160000
DTEND;TZID=America/New_York:20240612T160000
DTSTAMP:20260419T145555
CREATED:20240520T194222Z
LAST-MODIFIED:20240520T194222Z
UID:10007597-1718208000-1718208000@www.trailslibrary.org
SUMMARY:Family Bingo
DESCRIPTION:All Ages: Bring your friends and family in for a fun filled afternoon of bingo!
URL:https://www.trailslibrary.org/event/family-bingo/
LOCATION:Waverly Branch\, 203 E. Kelling\, Waverly\, MO\, 64096\, United States
CATEGORIES:Adult,Adults,All Ages,Children,Family,Kids,preteens,senior,Seniors,Teen,Teens,Youth
END:VEVENT
END:VCALENDAR