BEGIN:VCALENDAR
VERSION:2.0
PRODID:-//Trails Regional Library - ECPv6.15.20//NONSGML v1.0//EN
CALSCALE:GREGORIAN
METHOD:PUBLISH
X-ORIGINAL-URL:https://www.trailslibrary.org
X-WR-CALDESC:Events for Trails Regional Library
REFRESH-INTERVAL;VALUE=DURATION:PT1H
X-Robots-Tag:noindex
X-PUBLISHED-TTL:PT1H
BEGIN:VTIMEZONE
TZID:America/New_York
BEGIN:DAYLIGHT
TZOFFSETFROM:-0500
TZOFFSETTO:-0400
TZNAME:EDT
DTSTART:20230312T070000
END:DAYLIGHT
BEGIN:STANDARD
TZOFFSETFROM:-0400
TZOFFSETTO:-0500
TZNAME:EST
DTSTART:20231105T060000
END:STANDARD
BEGIN:DAYLIGHT
TZOFFSETFROM:-0500
TZOFFSETTO:-0400
TZNAME:EDT
DTSTART:20240310T070000
END:DAYLIGHT
BEGIN:STANDARD
TZOFFSETFROM:-0400
TZOFFSETTO:-0500
TZNAME:EST
DTSTART:20241103T060000
END:STANDARD
BEGIN:DAYLIGHT
TZOFFSETFROM:-0500
TZOFFSETTO:-0400
TZNAME:EDT
DTSTART:20250309T070000
END:DAYLIGHT
BEGIN:STANDARD
TZOFFSETFROM:-0400
TZOFFSETTO:-0500
TZNAME:EST
DTSTART:20251102T060000
END:STANDARD
END:VTIMEZONE
BEGIN:VEVENT
DTSTART;TZID=America/New_York:20240701T000000
DTEND;TZID=America/New_York:20240731T000000
DTSTAMP:20260419T131319
CREATED:20240520T204210Z
LAST-MODIFIED:20240520T204210Z
UID:10007682-1719792000-1722384000@www.trailslibrary.org
SUMMARY:Pop Up - Warrensburg
DESCRIPTION:All Ages: A surprise Program is scheduled!
URL:https://www.trailslibrary.org/event/pop-up-warrensburg-3/
LOCATION:Warrensburg Branch\, 432 N. Holden\, Warrensburg\, Missouri\, 64093\, United States
CATEGORIES:Adult,Adults,All Ages,Children,Family,Kids,preteens,senior,Seniors,Teen,Teens,Youth
END:VEVENT
BEGIN:VEVENT
DTSTART;TZID=America/New_York:20240703T093000
DTEND;TZID=America/New_York:20240703T103000
DTSTAMP:20260419T131319
CREATED:20240521T152354Z
LAST-MODIFIED:20240521T152354Z
UID:10007800-1719999000-1720002600@www.trailslibrary.org
SUMMARY:Storytime - Knob Noster
DESCRIPTION:Ages 0-5: Help your child develop a love for literacy with stories\, music\, & bubbles!
URL:https://www.trailslibrary.org/event/storytime-knob-noster-104/
LOCATION:Knob Noster Branch\, 202 N. Adams\, Knob Noster\, MO\, 65336\, United States
CATEGORIES:Children,Kids,Pre-School,Preschool,Storytime,Toddlers
END:VEVENT
BEGIN:VEVENT
DTSTART;TZID=America/New_York:20240703T100000
DTEND;TZID=America/New_York:20240703T100000
DTSTAMP:20260419T131319
CREATED:20240520T192212Z
LAST-MODIFIED:20240520T192212Z
UID:10007478-1720000800-1720000800@www.trailslibrary.org
SUMMARY:Storytime - Holden
DESCRIPTION:Ages 0-5: Come listen to a story at the library and do a craft.
URL:https://www.trailslibrary.org/event/storytime-holden-117/
LOCATION:Holden Branch\, 207 S. Main\, Holden\, MO\, 64040\, United States
CATEGORIES:Children,Crafts,Kids,Preschool,Storytime
END:VEVENT
BEGIN:VEVENT
DTSTART;TZID=America/New_York:20240703T100000
DTEND;TZID=America/New_York:20240703T100000
DTSTAMP:20260419T131319
CREATED:20240520T192838Z
LAST-MODIFIED:20240520T192838Z
UID:10007509-1720000800-1720000800@www.trailslibrary.org
SUMMARY:Storytime - Lexington
DESCRIPTION:Ages 0-5: Bring your little ones for storytime! Each week we read\, sing\, play and learn\, all while developing early literacy skills.
URL:https://www.trailslibrary.org/event/storytime-lexington-103/
LOCATION:Lexington Branch\, 1008 Main Street\, Lexington\, MO\, 64067\, United States
CATEGORIES:Children,Kids,Pre-School,Preschool,Storytime,Toddlers
END:VEVENT
BEGIN:VEVENT
DTSTART;TZID=America/New_York:20240703T100000
DTEND;TZID=America/New_York:20240703T100000
DTSTAMP:20260419T131319
CREATED:20240521T141640Z
LAST-MODIFIED:20240521T141640Z
UID:10007730-1720000800-1720000800@www.trailslibrary.org
SUMMARY:Bubbly Storytimes - Concordia
DESCRIPTION:Ages 0-5: Storytimes are for building pre-reading skills\, making friends and having fun! And there will be bubbles!
URL:https://www.trailslibrary.org/event/bubbly-storytimes-concordia-5/
LOCATION:Concordia Branch\, 813 S Main\, Concordia\, MO\, 64020\, United States
CATEGORIES:Children,Kids,Pre-School,Preschool,Storytime,Toddlers
END:VEVENT
BEGIN:VEVENT
DTSTART;TZID=America/New_York:20240703T100000
DTEND;TZID=America/New_York:20240703T110000
DTSTAMP:20260419T131319
CREATED:20240520T191907Z
LAST-MODIFIED:20240520T191907Z
UID:10007471-1720000800-1720004400@www.trailslibrary.org
SUMMARY:SRP Storytime - Corder
DESCRIPTION:All Ages: Storytimes are for building reading skills\, making friends and having fun!  Our Summer Reading series will include crafts and activities related to our theme “Adventure Begins at the Library.”
URL:https://www.trailslibrary.org/event/srp-storytime-corder-5/
LOCATION:Corder Branch\, 221 N. Lafayette\, Corder\, MO\, 64021\, United States
CATEGORIES:Adult,Adults,All Ages,Children,Family,Kids,preteens,senior,Seniors,Storytime,Teen,Teens,Youth
END:VEVENT
BEGIN:VEVENT
DTSTART;TZID=America/New_York:20240703T110000
DTEND;TZID=America/New_York:20240703T120000
DTSTAMP:20260419T131319
CREATED:20240521T152408Z
LAST-MODIFIED:20240521T152408Z
UID:10007804-1720004400-1720008000@www.trailslibrary.org
SUMMARY:Storytime - Knob Noster
DESCRIPTION:Ages 0-5: Help your child develop a love for literacy with stories\, music\, & bubbles!
URL:https://www.trailslibrary.org/event/storytime-knob-noster-108/
LOCATION:Knob Noster Branch\, 202 N. Adams\, Knob Noster\, MO\, 65336\, United States
CATEGORIES:Children,Kids,Pre-School,Preschool,Storytime,Toddlers
END:VEVENT
BEGIN:VEVENT
DTSTART;TZID=America/New_York:20240703T150000
DTEND;TZID=America/New_York:20240703T180000
DTSTAMP:20260419T131319
CREATED:20240520T204210Z
LAST-MODIFIED:20240520T204210Z
UID:10007685-1720018800-1720029600@www.trailslibrary.org
SUMMARY:Libraries Got Game - Warrensburg
DESCRIPTION:All Ages: Get BOARD at the library with your family and friends! Fun and exciting board and XL games.
URL:https://www.trailslibrary.org/event/libraries-got-game-warrensburg-67/
LOCATION:Warrensburg Branch\, 432 N. Holden\, Warrensburg\, Missouri\, 64093\, United States
CATEGORIES:Adult,Adults,All Ages,Children,Family,Kids,preteens,senior,Seniors,Teen,Teens,Youth
END:VEVENT
BEGIN:VEVENT
DTSTART;TZID=America/New_York:20240703T153000
DTEND;TZID=America/New_York:20240703T163000
DTSTAMP:20260419T131319
CREATED:20240520T191836Z
LAST-MODIFIED:20240520T191836Z
UID:10007460-1720020600-1720024200@www.trailslibrary.org
SUMMARY:Chess Club - Corder
DESCRIPTION:Ages 6-18: Come test your skills with friendly opponents.
URL:https://www.trailslibrary.org/event/chess-club-corder-2/
LOCATION:Corder Branch\, 221 N. Lafayette\, Corder\, MO\, 64021\, United States
CATEGORIES:Children,Kids,Pre-Teen,Pre-Teens,Teen,Teens,Youth
END:VEVENT
END:VCALENDAR