BEGIN:VCALENDAR
VERSION:2.0
PRODID:-//Trails Regional Library - ECPv6.15.20//NONSGML v1.0//EN
CALSCALE:GREGORIAN
METHOD:PUBLISH
X-ORIGINAL-URL:https://www.trailslibrary.org
X-WR-CALDESC:Events for Trails Regional Library
REFRESH-INTERVAL;VALUE=DURATION:PT1H
X-Robots-Tag:noindex
X-PUBLISHED-TTL:PT1H
BEGIN:VTIMEZONE
TZID:America/New_York
BEGIN:DAYLIGHT
TZOFFSETFROM:-0500
TZOFFSETTO:-0400
TZNAME:EDT
DTSTART:20230312T070000
END:DAYLIGHT
BEGIN:STANDARD
TZOFFSETFROM:-0400
TZOFFSETTO:-0500
TZNAME:EST
DTSTART:20231105T060000
END:STANDARD
BEGIN:DAYLIGHT
TZOFFSETFROM:-0500
TZOFFSETTO:-0400
TZNAME:EDT
DTSTART:20240310T070000
END:DAYLIGHT
BEGIN:STANDARD
TZOFFSETFROM:-0400
TZOFFSETTO:-0500
TZNAME:EST
DTSTART:20241103T060000
END:STANDARD
BEGIN:DAYLIGHT
TZOFFSETFROM:-0500
TZOFFSETTO:-0400
TZNAME:EDT
DTSTART:20250309T070000
END:DAYLIGHT
BEGIN:STANDARD
TZOFFSETFROM:-0400
TZOFFSETTO:-0500
TZNAME:EST
DTSTART:20251102T060000
END:STANDARD
END:VTIMEZONE
BEGIN:VEVENT
DTSTART;TZID=America/New_York:20240701T000000
DTEND;TZID=America/New_York:20240731T000000
DTSTAMP:20260419T131320
CREATED:20240520T204210Z
LAST-MODIFIED:20240520T204210Z
UID:10007682-1719792000-1722384000@www.trailslibrary.org
SUMMARY:Pop Up - Warrensburg
DESCRIPTION:All Ages: A surprise Program is scheduled!
URL:https://www.trailslibrary.org/event/pop-up-warrensburg-3/
LOCATION:Warrensburg Branch\, 432 N. Holden\, Warrensburg\, Missouri\, 64093\, United States
CATEGORIES:Adult,Adults,All Ages,Children,Family,Kids,preteens,senior,Seniors,Teen,Teens,Youth
END:VEVENT
BEGIN:VEVENT
DTSTART;TZID=America/New_York:20240706T100000
DTEND;TZID=America/New_York:20240706T110000
DTSTAMP:20260419T131320
CREATED:20240521T143334Z
LAST-MODIFIED:20240521T143334Z
UID:10007773-1720260000-1720263600@www.trailslibrary.org
SUMMARY:Saturday Storytime & Craft - Leeton
DESCRIPTION:All Ages: Join us on the 1st Saturday of the month at 10 AM for Storytime.
URL:https://www.trailslibrary.org/event/saturday-storytime-craft-leeton-7/
LOCATION:Leeton Express Branch\, 500 N. Main\, Leeton\, MO\, 64761\, United States
CATEGORIES:Adult,Adults,All Ages,Children,Family,Kids,preteens,senior,Seniors,Storytime,Teen,Teens,Youth
END:VEVENT
BEGIN:VEVENT
DTSTART;TZID=America/New_York:20240706T110000
DTEND;TZID=America/New_York:20240706T130000
DTSTAMP:20260419T131320
CREATED:20240520T192314Z
LAST-MODIFIED:20240520T192314Z
UID:10007502-1720263600-1720270800@www.trailslibrary.org
SUMMARY:Family Movie Matinee - Holden
DESCRIPTION:All Ages: Come to the library and enjoy a family friendly movie.
URL:https://www.trailslibrary.org/event/family-movie-matinee-holden-10/
LOCATION:Holden Branch\, 207 S. Main\, Holden\, MO\, 64040\, United States
CATEGORIES:Adult,Adults,All Ages,Children,Family,Kids,Movie,preteens,senior,Seniors,Teen,Teens,Youth
END:VEVENT
BEGIN:VEVENT
DTSTART;TZID=America/New_York:20240706T110000
DTEND;TZID=America/New_York:20240706T130000
DTSTAMP:20260419T131320
CREATED:20240521T143320Z
LAST-MODIFIED:20240521T143320Z
UID:10007771-1720263600-1720270800@www.trailslibrary.org
SUMMARY:Saturday Cinema - Leeton
DESCRIPTION:All Ages: Join us on the 1st Saturday of the month at 11 AM for a family friendly movie. Bring a friend and a drink with a lid. We will provide the popcorn!
URL:https://www.trailslibrary.org/event/saturday-cinema-leeton-9/
LOCATION:Leeton Express Branch\, 500 N. Main\, Leeton\, MO\, 64761\, United States
CATEGORIES:Adult,Adults,All Ages,Children,Family,Kids,Movie,preteens,senior,Seniors,Teen,Teens,Youth
END:VEVENT
END:VCALENDAR