BEGIN:VCALENDAR
VERSION:2.0
PRODID:-//Trails Regional Library - ECPv6.15.20//NONSGML v1.0//EN
CALSCALE:GREGORIAN
METHOD:PUBLISH
X-ORIGINAL-URL:https://www.trailslibrary.org
X-WR-CALDESC:Events for Trails Regional Library
REFRESH-INTERVAL;VALUE=DURATION:PT1H
X-Robots-Tag:noindex
X-PUBLISHED-TTL:PT1H
BEGIN:VTIMEZONE
TZID:America/New_York
BEGIN:DAYLIGHT
TZOFFSETFROM:-0500
TZOFFSETTO:-0400
TZNAME:EDT
DTSTART:20230312T070000
END:DAYLIGHT
BEGIN:STANDARD
TZOFFSETFROM:-0400
TZOFFSETTO:-0500
TZNAME:EST
DTSTART:20231105T060000
END:STANDARD
BEGIN:DAYLIGHT
TZOFFSETFROM:-0500
TZOFFSETTO:-0400
TZNAME:EDT
DTSTART:20240310T070000
END:DAYLIGHT
BEGIN:STANDARD
TZOFFSETFROM:-0400
TZOFFSETTO:-0500
TZNAME:EST
DTSTART:20241103T060000
END:STANDARD
BEGIN:DAYLIGHT
TZOFFSETFROM:-0500
TZOFFSETTO:-0400
TZNAME:EDT
DTSTART:20250309T070000
END:DAYLIGHT
BEGIN:STANDARD
TZOFFSETFROM:-0400
TZOFFSETTO:-0500
TZNAME:EST
DTSTART:20251102T060000
END:STANDARD
END:VTIMEZONE
BEGIN:VEVENT
DTSTART;TZID=America/New_York:20240924T100000
DTEND;TZID=America/New_York:20240924T103000
DTSTAMP:20260419T095526
CREATED:20240822T161214Z
LAST-MODIFIED:20240822T161214Z
UID:10007847-1727172000-1727173800@www.trailslibrary.org
SUMMARY:Bubbly Storytime - Concordia
DESCRIPTION:Ages 0-5: Storytimes are for building pre-reading skills\, making friends and having fun! And there will be bubbles!
URL:https://www.trailslibrary.org/event/bubbly-storytime-concordia-9/
LOCATION:Concordia Branch\, 813 S Main\, Concordia\, MO\, 64020\, United States
CATEGORIES:Children,Kids,Pre-School,Preschool,Storytime,Toddlers
END:VEVENT
BEGIN:VEVENT
DTSTART;TZID=America/New_York:20240924T100000
DTEND;TZID=America/New_York:20240924T104500
DTSTAMP:20260419T095526
CREATED:20240822T200251Z
LAST-MODIFIED:20240822T200251Z
UID:10008289-1727172000-1727174700@www.trailslibrary.org
SUMMARY:Storytime - Warrensburg
DESCRIPTION:Ages 0-5: Meet up for stories\, music\, dancing\, a craft\, and of course bubbles!
URL:https://www.trailslibrary.org/event/storytime-warrensburg-68/
LOCATION:Warrensburg Branch\, 432 N. Holden\, Warrensburg\, Missouri\, 64093\, United States
CATEGORIES:Children,Kids,Pre-School,Preschool,Storytime,Toddlers
END:VEVENT
BEGIN:VEVENT
DTSTART;TZID=America/New_York:20240924T143000
DTEND;TZID=America/New_York:20240924T153000
DTSTAMP:20260419T095526
CREATED:20240822T200437Z
LAST-MODIFIED:20240822T200437Z
UID:10008293-1727188200-1727191800@www.trailslibrary.org
SUMMARY:Storytime - Warrensburg
DESCRIPTION:Ages 0-5: Meet up for stories\, music\, dancing\, a craft\, and of course bubbles!
URL:https://www.trailslibrary.org/event/storytime-warrensburg-72/
LOCATION:Warrensburg Branch\, 432 N. Holden\, Warrensburg\, Missouri\, 64093\, United States
CATEGORIES:Children,Kids,Pre-School,Preschool,Storytime,Toddlers
END:VEVENT
BEGIN:VEVENT
DTSTART;TZID=America/New_York:20240924T150000
DTEND;TZID=America/New_York:20240924T150000
DTSTAMP:20260419T095526
CREATED:20240822T170230Z
LAST-MODIFIED:20240822T170230Z
UID:10007971-1727190000-1727190000@www.trailslibrary.org
SUMMARY:Art Club: Decorative Masks - Holden
DESCRIPTION:Ages 8+ REGISTRATION REQUIRED: Paint and apply embellishments to fanciful masquerade masks.
URL:https://www.trailslibrary.org/event/art-club-decorative-masks-holden/
LOCATION:Holden Branch\, 207 S. Main\, Holden\, MO\, 64040\, United States
CATEGORIES:Adult,Adults,Children,Crafts,Kids,preteens,senior,Seniors,Teen,Teens,Youth
END:VEVENT
BEGIN:VEVENT
DTSTART;TZID=America/New_York:20240924T173000
DTEND;TZID=America/New_York:20240924T183000
DTSTAMP:20260419T095526
CREATED:20240822T194305Z
LAST-MODIFIED:20240822T194305Z
UID:10008226-1727199000-1727202600@www.trailslibrary.org
SUMMARY:Kids in the Kitchen - Warrensburg
DESCRIPTION:Ages 6-12 REGISTRATION REQUIRED: Join us for a fun hands-on program that teaches kids how to prepare simple recipes and encourages them to be active and to eat healthier meals and snacks.
URL:https://www.trailslibrary.org/event/kids-in-the-kitchen-warrensburg-2/
LOCATION:Warrensburg Branch\, 432 N. Holden\, Warrensburg\, Missouri\, 64093\, United States
CATEGORIES:Children,Kids,Youth
END:VEVENT
END:VCALENDAR