BEGIN:VCALENDAR
VERSION:2.0
PRODID:-//Trails Regional Library - ECPv6.15.20//NONSGML v1.0//EN
CALSCALE:GREGORIAN
METHOD:PUBLISH
X-WR-CALNAME:Trails Regional Library
X-ORIGINAL-URL:https://www.trailslibrary.org
X-WR-CALDESC:Events for Trails Regional Library
REFRESH-INTERVAL;VALUE=DURATION:PT1H
X-Robots-Tag:noindex
X-PUBLISHED-TTL:PT1H
BEGIN:VTIMEZONE
TZID:America/New_York
BEGIN:DAYLIGHT
TZOFFSETFROM:-0500
TZOFFSETTO:-0400
TZNAME:EDT
DTSTART:20210314T070000
END:DAYLIGHT
BEGIN:STANDARD
TZOFFSETFROM:-0400
TZOFFSETTO:-0500
TZNAME:EST
DTSTART:20211107T060000
END:STANDARD
BEGIN:DAYLIGHT
TZOFFSETFROM:-0500
TZOFFSETTO:-0400
TZNAME:EDT
DTSTART:20220313T070000
END:DAYLIGHT
BEGIN:STANDARD
TZOFFSETFROM:-0400
TZOFFSETTO:-0500
TZNAME:EST
DTSTART:20221106T060000
END:STANDARD
BEGIN:DAYLIGHT
TZOFFSETFROM:-0500
TZOFFSETTO:-0400
TZNAME:EDT
DTSTART:20230312T070000
END:DAYLIGHT
BEGIN:STANDARD
TZOFFSETFROM:-0400
TZOFFSETTO:-0500
TZNAME:EST
DTSTART:20231105T060000
END:STANDARD
END:VTIMEZONE
BEGIN:VEVENT
DTSTART;TZID=America/New_York:20220727T153000
DTEND;TZID=America/New_York:20220727T163000
DTSTAMP:20260425T094153
CREATED:20220621T170129Z
LAST-MODIFIED:20220621T170129Z
UID:10005068-1658935800-1658939400@www.trailslibrary.org
SUMMARY:Glowing Jellyfish Craft (Ages 6-11) - Lexington
DESCRIPTION:Ages 6-11 – We will making a Glowing Jellyfish craft and learning about jellyfish\, enjoy a snack and playing a game.
URL:https://www.trailslibrary.org/event/glowing-jellyfish-craft-ages-6-11-lexington/
LOCATION:Lexington Branch\, 1008 Main Street\, Lexington\, MO\, 64067\, United States
CATEGORIES:Kids
END:VEVENT
BEGIN:VEVENT
DTSTART;TZID=America/New_York:20220809T100000
DTEND;TZID=America/New_York:20220809T120000
DTSTAMP:20260425T094153
CREATED:20220722T171758Z
LAST-MODIFIED:20220801T202016Z
UID:10005232-1660039200-1660046400@www.trailslibrary.org
SUMMARY:Terrific Tuesday in Grinstead Park - Leeton Express Branch
DESCRIPTION:Water Fun
URL:https://www.trailslibrary.org/event/terrific-tuesday-in-grinstead-park-leeton-express-branch/
LOCATION:Leeton Express Branch\, 500 N. Main\, Leeton\, MO\, 64761\, United States
CATEGORIES:Kids
END:VEVENT
BEGIN:VEVENT
DTSTART;TZID=America/New_York:20220811T140000
DTEND;TZID=America/New_York:20220811T150000
DTSTAMP:20260425T094153
CREATED:20220722T165328Z
LAST-MODIFIED:20220722T165328Z
UID:10005149-1660226400-1660230000@www.trailslibrary.org
SUMMARY:Jellyfish Bracelet Craft - Concordia
DESCRIPTION:Create a Jellyfish Friendship Bracelet using a simple loom and embroidery floss. Take & Make Kits available after Thursday\, August 11.
URL:https://www.trailslibrary.org/event/jellyfish-bracelet-craft-concordia/
LOCATION:Concordia Branch\, 813 S Main\, Concordia\, MO\, 64020\, United States
CATEGORIES:Kids,Youth
END:VEVENT
BEGIN:VEVENT
DTSTART;TZID=America/New_York:20220817T150000
DTEND;TZID=America/New_York:20220817T160000
DTSTAMP:20260425T094153
CREATED:20220722T171358Z
LAST-MODIFIED:20220722T171358Z
UID:10005220-1660748400-1660752000@www.trailslibrary.org
SUMMARY:Geocaching for Kids - Warrensburg
DESCRIPTION:Registration Required – Ages 12+\, learn the basics of Geocaching and put together your own geocache.
URL:https://www.trailslibrary.org/event/geocaching-for-kids-warrensburg/
LOCATION:Warrensburg Branch\, 432 N. Holden\, Warrensburg\, Missouri\, 64093\, United States
CATEGORIES:Kids
END:VEVENT
BEGIN:VEVENT
DTSTART;TZID=America/New_York:20220901T093000
DTEND;TZID=America/New_York:20220901T100000
DTSTAMP:20260425T094153
CREATED:20220908T182751Z
LAST-MODIFIED:20220908T182751Z
UID:10005627-1662024600-1662026400@www.trailslibrary.org
SUMMARY:Music and Movement - Warrensburg
DESCRIPTION:Get your wiggles out with dancing and singing at the library. Then you can make new friends during Free Play With Friends.
URL:https://www.trailslibrary.org/event/music-and-movement-warrensburg-18/
LOCATION:Warrensburg Branch\, 432 N. Holden\, Warrensburg\, Missouri\, 64093\, United States
CATEGORIES:Kids
END:VEVENT
BEGIN:VEVENT
DTSTART;TZID=America/New_York:20220901T100000
DTEND;TZID=America/New_York:20220901T103000
DTSTAMP:20260425T094153
CREATED:20220908T182751Z
LAST-MODIFIED:20220908T182751Z
UID:10004812-1662026400-1662028200@www.trailslibrary.org
SUMMARY:Free Play with Friends - Warrensburg
DESCRIPTION:After you’ve wiggled and giggled\, stay and play at the library with new friends and old ones.
URL:https://www.trailslibrary.org/event/free-play-with-friends-warrensburg-18/
LOCATION:Warrensburg Branch\, 432 N. Holden\, Warrensburg\, Missouri\, 64093\, United States
CATEGORIES:Kids
END:VEVENT
BEGIN:VEVENT
DTSTART;TZID=America/New_York:20220907T153000
DTEND;TZID=America/New_York:20220907T163000
DTSTAMP:20260425T094153
CREATED:20220908T183001Z
LAST-MODIFIED:20220908T183001Z
UID:10005396-1662564600-1662568200@www.trailslibrary.org
SUMMARY:Harry Potter Early Out Hang Out - Knob Noster
DESCRIPTION:We’ll be making butter beer\, wands and other magical activities!
URL:https://www.trailslibrary.org/event/harry-potter-early-out-hang-out-knob-noster/
LOCATION:Knob Noster Branch\, 202 N. Adams\, Knob Noster\, MO\, 65336\, United States
CATEGORIES:Kids
END:VEVENT
BEGIN:VEVENT
DTSTART;TZID=America/New_York:20220908T093000
DTEND;TZID=America/New_York:20220908T100000
DTSTAMP:20260425T094153
CREATED:20220908T182750Z
LAST-MODIFIED:20220908T182750Z
UID:10005628-1662629400-1662631200@www.trailslibrary.org
SUMMARY:Music and Movement - Warrensburg
DESCRIPTION:Get your wiggles out with dancing and singing at the library. Then you can make new friends during Free Play With Friends.
URL:https://www.trailslibrary.org/event/music-and-movement-warrensburg-17/
LOCATION:Warrensburg Branch\, 432 N. Holden\, Warrensburg\, Missouri\, 64093\, United States
CATEGORIES:Kids
END:VEVENT
BEGIN:VEVENT
DTSTART;TZID=America/New_York:20220908T100000
DTEND;TZID=America/New_York:20220908T103000
DTSTAMP:20260425T094153
CREATED:20220908T182751Z
LAST-MODIFIED:20220908T182751Z
UID:10004814-1662631200-1662633000@www.trailslibrary.org
SUMMARY:Free Play with Friends - Warrensburg
DESCRIPTION:After you’ve wiggled and giggled\, stay and play at the library with new friends and old ones.
URL:https://www.trailslibrary.org/event/free-play-with-friends-warrensburg-17/
LOCATION:Warrensburg Branch\, 432 N. Holden\, Warrensburg\, Missouri\, 64093\, United States
CATEGORIES:Kids
END:VEVENT
BEGIN:VEVENT
DTSTART;TZID=America/New_York:20220912T163000
DTEND;TZID=America/New_York:20220912T173000
DTSTAMP:20260425T094153
CREATED:20220908T182846Z
LAST-MODIFIED:20220908T182846Z
UID:10005519-1663000200-1663003800@www.trailslibrary.org
SUMMARY:Sharpie Art - Odessa
DESCRIPTION:Registration required. Kids\, 5-8\, let’s get creative! Find new ways to be clever with sharpies.
URL:https://www.trailslibrary.org/event/sharpie-art-odessa/
LOCATION:Odessa Branch\, 107 W. Mason\, Odessa\, MO\, 64076\, United States
CATEGORIES:Kids
END:VEVENT
BEGIN:VEVENT
DTSTART;TZID=America/New_York:20220915T093000
DTEND;TZID=America/New_York:20220915T100000
DTSTAMP:20260425T094153
CREATED:20220908T182739Z
LAST-MODIFIED:20220908T182739Z
UID:10005629-1663234200-1663236000@www.trailslibrary.org
SUMMARY:Music and Movement - Warrensburg
DESCRIPTION:Get your wiggles out with dancing and singing at the library. Then you can make new friends during Free Play With Friends.
URL:https://www.trailslibrary.org/event/music-and-movement-warrensburg-16/
LOCATION:Warrensburg Branch\, 432 N. Holden\, Warrensburg\, Missouri\, 64093\, United States
CATEGORIES:Kids
END:VEVENT
BEGIN:VEVENT
DTSTART;TZID=America/New_York:20220915T100000
DTEND;TZID=America/New_York:20220915T103000
DTSTAMP:20260425T094153
CREATED:20220908T182751Z
LAST-MODIFIED:20220908T182751Z
UID:10004816-1663236000-1663237800@www.trailslibrary.org
SUMMARY:Free Play with Friends - Warrensburg
DESCRIPTION:After you’ve wiggled and giggled\, stay and play at the library with new friends and old ones.
URL:https://www.trailslibrary.org/event/free-play-with-friends-warrensburg-16/
LOCATION:Warrensburg Branch\, 432 N. Holden\, Warrensburg\, Missouri\, 64093\, United States
CATEGORIES:Kids
END:VEVENT
BEGIN:VEVENT
DTSTART;TZID=America/New_York:20220915T161500
DTEND;TZID=America/New_York:20220915T173000
DTSTAMP:20260425T094153
CREATED:20220908T182934Z
LAST-MODIFIED:20220908T182934Z
UID:10005431-1663258500-1663263000@www.trailslibrary.org
SUMMARY:Third Thursday Fun and Games - Leeton Express
DESCRIPTION:An Artistic afternoon of Fun at the library. We will be joined by the Leeton Boys & Girls Club Staff and students as we celebrate Arts in Education Week with an artistic exploration.
URL:https://www.trailslibrary.org/event/third-thursday-fun-and-games-leeton-express-4/
LOCATION:Leeton Express Branch\, 500 N. Main\, Leeton\, MO\, 64761\, United States
CATEGORIES:Kids
END:VEVENT
BEGIN:VEVENT
DTSTART;TZID=America/New_York:20220916T123000
DTEND;TZID=America/New_York:20220916T133000
DTSTAMP:20260425T094153
CREATED:20220908T182846Z
LAST-MODIFIED:20220908T182846Z
UID:10005521-1663331400-1663335000@www.trailslibrary.org
SUMMARY:School's Out\, Hang Out - Odessa
DESCRIPTION:Half day of school\, nothing to do? Kids\, 9-12\, come hang out with us and play some games.
URL:https://www.trailslibrary.org/event/schools-out-hang-out-odessa/
LOCATION:Odessa Branch\, 107 W. Mason\, Odessa\, MO\, 64076\, United States
CATEGORIES:Kids
END:VEVENT
BEGIN:VEVENT
DTSTART;TZID=America/New_York:20220917T110000
DTEND;TZID=America/New_York:20220917T123000
DTSTAMP:20260425T094153
CREATED:20220908T183109Z
LAST-MODIFIED:20220908T183109Z
UID:10005330-1663412400-1663417800@www.trailslibrary.org
SUMMARY:Saturday Afternoon Matinee - Holden
DESCRIPTION:Enjoy a relaxing Saturday afternoon at the library while watching a film and enjoying popcorn.
URL:https://www.trailslibrary.org/event/saturday-afternoon-matinee-holden-9/
LOCATION:Holden Branch\, 207 S. Main\, Holden\, MO\, 64040\, United States
CATEGORIES:Family,Kids
END:VEVENT
BEGIN:VEVENT
DTSTART;TZID=America/New_York:20220919T163000
DTEND;TZID=America/New_York:20220919T173000
DTSTAMP:20260425T094153
CREATED:20220908T182846Z
LAST-MODIFIED:20220908T182846Z
UID:10005523-1663605000-1663608600@www.trailslibrary.org
SUMMARY:Customize Your Notebook - Odessa
DESCRIPTION:Kids\, 9-12\, create your own unique and one of a kind notebook.
URL:https://www.trailslibrary.org/event/customize-your-notebook-odessa/
LOCATION:Odessa Branch\, 107 W. Mason\, Odessa\, MO\, 64076\, United States
CATEGORIES:Kids
END:VEVENT
BEGIN:VEVENT
DTSTART;TZID=America/New_York:20220922T093000
DTEND;TZID=America/New_York:20220922T100000
DTSTAMP:20260425T094153
CREATED:20220908T182739Z
LAST-MODIFIED:20220908T182739Z
UID:10005631-1663839000-1663840800@www.trailslibrary.org
SUMMARY:Music and Movement - Warrensburg
DESCRIPTION:Get your wiggles out with dancing and singing at the library. Then you can make new friends during Free Play With Friends.
URL:https://www.trailslibrary.org/event/music-and-movement-warrensburg-15/
LOCATION:Warrensburg Branch\, 432 N. Holden\, Warrensburg\, Missouri\, 64093\, United States
CATEGORIES:Kids
END:VEVENT
BEGIN:VEVENT
DTSTART;TZID=America/New_York:20220922T100000
DTEND;TZID=America/New_York:20220922T103000
DTSTAMP:20260425T094153
CREATED:20220908T182751Z
LAST-MODIFIED:20220908T182751Z
UID:10005603-1663840800-1663842600@www.trailslibrary.org
SUMMARY:Free Play with Friends - Warrensburg
DESCRIPTION:After you’ve wiggled and giggled\, stay and play at the library with new friends and old ones.
URL:https://www.trailslibrary.org/event/free-play-with-friends-warrensburg-15/
LOCATION:Warrensburg Branch\, 432 N. Holden\, Warrensburg\, Missouri\, 64093\, United States
CATEGORIES:Kids
END:VEVENT
BEGIN:VEVENT
DTSTART;TZID=America/New_York:20220928T154500
DTEND;TZID=America/New_York:20220928T164500
DTSTAMP:20260425T094153
CREATED:20220908T182859Z
LAST-MODIFIED:20220908T182859Z
UID:10005500-1664379900-1664383500@www.trailslibrary.org
SUMMARY:LEGO Challenge Continues - Lexington
DESCRIPTION:Kids – We will continue this month with more fun with Lego. We’ll be using the task cards to build on our creativity. Snack included.
URL:https://www.trailslibrary.org/event/lego-challenge-continues-lexington/
LOCATION:Lexington Branch\, 1008 Main Street\, Lexington\, MO\, 64067\, United States
CATEGORIES:Kids
END:VEVENT
BEGIN:VEVENT
DTSTART;TZID=America/New_York:20220929T093000
DTEND;TZID=America/New_York:20220929T100000
DTSTAMP:20260425T094153
CREATED:20220908T182738Z
LAST-MODIFIED:20220908T182738Z
UID:10004833-1664443800-1664445600@www.trailslibrary.org
SUMMARY:Music and Movement - Warrensburg
DESCRIPTION:Get your wiggles out with dancing and singing at the library. Then you can make new friends during Free Play With Friends.
URL:https://www.trailslibrary.org/event/music-and-movement-warrensburg-2/
LOCATION:Warrensburg Branch\, 432 N. Holden\, Warrensburg\, Missouri\, 64093\, United States
CATEGORIES:Kids
END:VEVENT
BEGIN:VEVENT
DTSTART;TZID=America/New_York:20220929T100000
DTEND;TZID=America/New_York:20220929T103000
DTSTAMP:20260425T094153
CREATED:20220908T182739Z
LAST-MODIFIED:20220908T182739Z
UID:10005625-1664445600-1664447400@www.trailslibrary.org
SUMMARY:Free Play with Friends - Warrensburg
DESCRIPTION:After you’ve wiggled and giggled\, stay and play at the library with new friends and old ones.
URL:https://www.trailslibrary.org/event/free-play-with-friends-warrensburg-2/
LOCATION:Warrensburg Branch\, 432 N. Holden\, Warrensburg\, Missouri\, 64093\, United States
CATEGORIES:Kids
END:VEVENT
BEGIN:VEVENT
DTSTART;TZID=America/New_York:20221003T160000
DTEND;TZID=America/New_York:20221003T180000
DTSTAMP:20260425T094153
CREATED:20220908T182716Z
LAST-MODIFIED:20220908T182716Z
UID:10004834-1664812800-1664820000@www.trailslibrary.org
SUMMARY:World Kindness Day Project - Warrensburg
DESCRIPTION:Nov. 13 is World Kindness Day. Trails would like to share bits of kindness with inspirational works of art through its patrons. Create your own design with the supplies provided. You can leave your inspirational work of art with staff to display throughout the community or take it home to display in your window or yard throughout November. We just want to send the same message: “Be Kind.”
URL:https://www.trailslibrary.org/event/world-kindness-day-project-warrensburg/
LOCATION:Warrensburg Branch\, 432 N. Holden\, Warrensburg\, Missouri\, 64093\, United States
CATEGORIES:Kids
END:VEVENT
BEGIN:VEVENT
DTSTART;TZID=America/New_York:20221006T093000
DTEND;TZID=America/New_York:20221006T100000
DTSTAMP:20260425T094153
CREATED:20220908T182739Z
LAST-MODIFIED:20220908T182739Z
UID:10005633-1665048600-1665050400@www.trailslibrary.org
SUMMARY:Music and Movement - Warrensburg
DESCRIPTION:Get your wiggles out with dancing and singing at the library. Then you can make new friends during Free Play With Friends.
URL:https://www.trailslibrary.org/event/music-and-movement-warrensburg-14/
LOCATION:Warrensburg Branch\, 432 N. Holden\, Warrensburg\, Missouri\, 64093\, United States
CATEGORIES:Kids
END:VEVENT
BEGIN:VEVENT
DTSTART;TZID=America/New_York:20221006T100000
DTEND;TZID=America/New_York:20221006T103000
DTSTAMP:20260425T094153
CREATED:20220908T182751Z
LAST-MODIFIED:20220908T182751Z
UID:10005604-1665050400-1665052200@www.trailslibrary.org
SUMMARY:Free Play with Friends - Warrensburg
DESCRIPTION:After you’ve wiggled and giggled\, stay and play at the library with new friends and old ones.
URL:https://www.trailslibrary.org/event/free-play-with-friends-warrensburg-14/
LOCATION:Warrensburg Branch\, 432 N. Holden\, Warrensburg\, Missouri\, 64093\, United States
CATEGORIES:Kids
END:VEVENT
BEGIN:VEVENT
DTSTART;TZID=America/New_York:20221006T103000
DTEND;TZID=America/New_York:20221006T110000
DTSTAMP:20260425T094153
CREATED:20220908T183109Z
LAST-MODIFIED:20220908T183109Z
UID:10005343-1665052200-1665054000@www.trailslibrary.org
SUMMARY:Pumpkins and Bats - Holden
DESCRIPTION:Kids – Registration required. This fun kids program will allow children to make ornamental pumpkins and bats to decorate their house at Halloween!
URL:https://www.trailslibrary.org/event/pumpkins-and-bats-holden/
LOCATION:Holden Branch\, 207 S. Main\, Holden\, MO\, 64040\, United States
CATEGORIES:Kids
END:VEVENT
BEGIN:VEVENT
DTSTART;TZID=America/New_York:20221013T093000
DTEND;TZID=America/New_York:20221013T100000
DTSTAMP:20260425T094153
CREATED:20220908T182738Z
LAST-MODIFIED:20220908T182738Z
UID:10005635-1665653400-1665655200@www.trailslibrary.org
SUMMARY:Music and Movement - Warrensburg
DESCRIPTION:Get your wiggles out with dancing and singing at the library. Then you can make new friends during Free Play With Friends.
URL:https://www.trailslibrary.org/event/music-and-movement-warrensburg-13/
LOCATION:Warrensburg Branch\, 432 N. Holden\, Warrensburg\, Missouri\, 64093\, United States
CATEGORIES:Kids
END:VEVENT
BEGIN:VEVENT
DTSTART;TZID=America/New_York:20221013T100000
DTEND;TZID=America/New_York:20221013T103000
DTSTAMP:20260425T094153
CREATED:20220908T182751Z
LAST-MODIFIED:20220908T182751Z
UID:10005605-1665655200-1665657000@www.trailslibrary.org
SUMMARY:Free Play with Friends - Warrensburg
DESCRIPTION:After you’ve wiggled and giggled\, stay and play at the library with new friends and old ones.
URL:https://www.trailslibrary.org/event/free-play-with-friends-warrensburg-13/
LOCATION:Warrensburg Branch\, 432 N. Holden\, Warrensburg\, Missouri\, 64093\, United States
CATEGORIES:Kids
END:VEVENT
BEGIN:VEVENT
DTSTART;TZID=America/New_York:20221015T110000
DTEND;TZID=America/New_York:20221015T123000
DTSTAMP:20260425T094153
CREATED:20220908T183109Z
LAST-MODIFIED:20220908T183109Z
UID:10005331-1665831600-1665837000@www.trailslibrary.org
SUMMARY:Saturday Afternoon Matinee - Holden
DESCRIPTION:Enjoy a relaxing Saturday afternoon at the library while watching a film and enjoying popcorn.
URL:https://www.trailslibrary.org/event/saturday-afternoon-matinee-holden-8/
LOCATION:Holden Branch\, 207 S. Main\, Holden\, MO\, 64040\, United States
CATEGORIES:Family,Kids
END:VEVENT
BEGIN:VEVENT
DTSTART;TZID=America/New_York:20221018T153000
DTEND;TZID=America/New_York:20221018T173000
DTSTAMP:20260425T094153
CREATED:20220908T183109Z
LAST-MODIFIED:20220908T183109Z
UID:10005345-1666107000-1666114200@www.trailslibrary.org
SUMMARY:Drawing Scary Stuff - Holden
DESCRIPTION:Kids – Registration required. In keeping with the Halloween theme\, we will learn to draw scary stuff! If you love to draw\, experiment\, and conceptualize\, our scary compositions will include rendering bats\, cats\, zombies\, spiders\, snakes\, skulls\, and dragons.
URL:https://www.trailslibrary.org/event/drawing-scary-stuff-holden/
LOCATION:Holden Branch\, 207 S. Main\, Holden\, MO\, 64040\, United States
CATEGORIES:Kids
END:VEVENT
BEGIN:VEVENT
DTSTART;TZID=America/New_York:20221020T093000
DTEND;TZID=America/New_York:20221020T100000
DTSTAMP:20260425T094153
CREATED:20220908T182738Z
LAST-MODIFIED:20220908T182738Z
UID:10005637-1666258200-1666260000@www.trailslibrary.org
SUMMARY:Music and Movement - Warrensburg
DESCRIPTION:Get your wiggles out with dancing and singing at the library. Then you can make new friends during Free Play With Friends.
URL:https://www.trailslibrary.org/event/music-and-movement-warrensburg-12/
LOCATION:Warrensburg Branch\, 432 N. Holden\, Warrensburg\, Missouri\, 64093\, United States
CATEGORIES:Kids
END:VEVENT
END:VCALENDAR