BEGIN:VCALENDAR
VERSION:2.0
PRODID:-//Trails Regional Library - ECPv6.15.20//NONSGML v1.0//EN
CALSCALE:GREGORIAN
METHOD:PUBLISH
X-WR-CALNAME:Trails Regional Library
X-ORIGINAL-URL:https://www.trailslibrary.org
X-WR-CALDESC:Events for Trails Regional Library
REFRESH-INTERVAL;VALUE=DURATION:PT1H
X-Robots-Tag:noindex
X-PUBLISHED-TTL:PT1H
BEGIN:VTIMEZONE
TZID:America/New_York
BEGIN:DAYLIGHT
TZOFFSETFROM:-0500
TZOFFSETTO:-0400
TZNAME:EDT
DTSTART:20220313T070000
END:DAYLIGHT
BEGIN:STANDARD
TZOFFSETFROM:-0400
TZOFFSETTO:-0500
TZNAME:EST
DTSTART:20221106T060000
END:STANDARD
BEGIN:DAYLIGHT
TZOFFSETFROM:-0500
TZOFFSETTO:-0400
TZNAME:EDT
DTSTART:20230312T070000
END:DAYLIGHT
BEGIN:STANDARD
TZOFFSETFROM:-0400
TZOFFSETTO:-0500
TZNAME:EST
DTSTART:20231105T060000
END:STANDARD
BEGIN:DAYLIGHT
TZOFFSETFROM:-0500
TZOFFSETTO:-0400
TZNAME:EDT
DTSTART:20240310T070000
END:DAYLIGHT
BEGIN:STANDARD
TZOFFSETFROM:-0400
TZOFFSETTO:-0500
TZNAME:EST
DTSTART:20241103T060000
END:STANDARD
END:VTIMEZONE
BEGIN:VEVENT
DTSTART;TZID=America/New_York:20230515T163000
DTEND;TZID=America/New_York:20230515T173000
DTSTAMP:20260423T054102
CREATED:20230303T212405Z
LAST-MODIFIED:20230303T212405Z
UID:10006253-1684168200-1684171800@www.trailslibrary.org
SUMMARY:Morse Code - Odessa
DESCRIPTION:Ages 9-12 years old – Tweens\, 9-12\, explore the world of morse code using snap circuits.
URL:https://www.trailslibrary.org/event/morse-code-odessa/
LOCATION:Odessa Branch\, 107 W. Mason\, Odessa\, MO\, 64076\, United States
CATEGORIES:Kids
END:VEVENT
BEGIN:VEVENT
DTSTART;TZID=America/New_York:20230517T150000
DTEND;TZID=America/New_York:20230517T160000
DTSTAMP:20260423T054102
CREATED:20230303T211819Z
LAST-MODIFIED:20230303T211819Z
UID:10005120-1684335600-1684339200@www.trailslibrary.org
SUMMARY:Early Out Wednesday Game Time - Knob Noster
DESCRIPTION:Ages 6-18 years old – Registration Required. It’s game time! Come out to the library\, play board games\, and learn to play classic dice games!
URL:https://www.trailslibrary.org/event/early-out-wednesday-game-time-knob-noster-3/
LOCATION:Knob Noster Branch\, 202 N. Adams\, Knob Noster\, MO\, 65336\, United States
CATEGORIES:Kids,Teens
END:VEVENT
BEGIN:VEVENT
DTSTART;TZID=America/New_York:20230518T093000
DTEND;TZID=America/New_York:20230518T100000
DTSTAMP:20260423T054102
CREATED:20230303T212803Z
LAST-MODIFIED:20230306T154653Z
UID:10006328-1684402200-1684404000@www.trailslibrary.org
SUMMARY:Music and Movement - Warrensburg
DESCRIPTION:Get your wiggles out with dancing and singing at the library. Then you can make new friends during Free Play With Friends.
URL:https://www.trailslibrary.org/event/music-and-movement-warrensburg-37/
LOCATION:Warrensburg Branch\, 432 N. Holden\, Warrensburg\, Missouri\, 64093\, United States
CATEGORIES:Kids
END:VEVENT
BEGIN:VEVENT
DTSTART;TZID=America/New_York:20230518T100000
DTEND;TZID=America/New_York:20230518T103000
DTSTAMP:20260423T054102
CREATED:20230303T212725Z
LAST-MODIFIED:20230306T154702Z
UID:10006307-1684404000-1684405800@www.trailslibrary.org
SUMMARY:Free Play with Friends - Warrensburg
DESCRIPTION:After you’ve wiggled and giggled\, stay and play at the library with new friends and old ones.
URL:https://www.trailslibrary.org/event/free-play-with-friends-warrensburg-37/
LOCATION:Warrensburg Branch\, 432 N. Holden\, Warrensburg\, Missouri\, 64093\, United States
CATEGORIES:Kids
END:VEVENT
BEGIN:VEVENT
DTSTART;TZID=America/New_York:20230518T161500
DTEND;TZID=America/New_York:20230518T173000
DTSTAMP:20260423T054102
CREATED:20230303T211940Z
LAST-MODIFIED:20230303T211940Z
UID:10006174-1684426500-1684431000@www.trailslibrary.org
SUMMARY:Third Thursday Fun and Games - Leeton Express
DESCRIPTION:Join Mrs. Schuler and the Leeton Boys & Girls Club for the ALL TOGETHER NOW Summer Reading Kick off Party! Door prizes\, reading activities and so much more!
URL:https://www.trailslibrary.org/event/third-thursday-fun-and-games-leeton-express-9/
LOCATION:Leeton Express Branch\, 500 N. Main\, Leeton\, MO\, 64761\, United States
CATEGORIES:Kids
END:VEVENT
BEGIN:VEVENT
DTSTART;TZID=America/New_York:20230524T154500
DTEND;TZID=America/New_York:20230524T164500
DTSTAMP:20260423T054102
CREATED:20230303T212159Z
LAST-MODIFIED:20230303T212159Z
UID:10006216-1684943100-1684946700@www.trailslibrary.org
SUMMARY:Patriotic Wind Catcher - Lexington
DESCRIPTION:Ages 6-12 years old – Be ready to celebrate Memorial Day by making this fun and easy wind catcher. We’ll enjoy a story\, craft\, and a snack.  Bring a friend for more fun!
URL:https://www.trailslibrary.org/event/patriotic-wind-catcher-lexington/
LOCATION:Lexington Branch\, 1008 Main Street\, Lexington\, MO\, 64067\, United States
CATEGORIES:Kids
END:VEVENT
BEGIN:VEVENT
DTSTART;TZID=America/New_York:20230525T093000
DTEND;TZID=America/New_York:20230525T100000
DTSTAMP:20260423T054102
CREATED:20230303T212749Z
LAST-MODIFIED:20230306T154740Z
UID:10006325-1685007000-1685008800@www.trailslibrary.org
SUMMARY:Music and Movement - Warrensburg
DESCRIPTION:Get your wiggles out with dancing and singing at the library. Then you can make new friends during Free Play With Friends.
URL:https://www.trailslibrary.org/event/music-and-movement-warrensburg-34/
LOCATION:Warrensburg Branch\, 432 N. Holden\, Warrensburg\, Missouri\, 64093\, United States
CATEGORIES:Kids
END:VEVENT
BEGIN:VEVENT
DTSTART;TZID=America/New_York:20230525T100000
DTEND;TZID=America/New_York:20230525T103000
DTSTAMP:20260423T054102
CREATED:20230303T212723Z
LAST-MODIFIED:20230306T154754Z
UID:10006302-1685008800-1685010600@www.trailslibrary.org
SUMMARY:Free Play with Friends - Warrensburg
DESCRIPTION:After you’ve wiggled and giggled\, stay and play at the library with new friends and old ones.
URL:https://www.trailslibrary.org/event/free-play-with-friends-warrensburg-34/
LOCATION:Warrensburg Branch\, 432 N. Holden\, Warrensburg\, Missouri\, 64093\, United States
CATEGORIES:Kids
END:VEVENT
BEGIN:VEVENT
DTSTART;TZID=America/New_York:20230525T160000
DTEND;TZID=America/New_York:20230525T170000
DTSTAMP:20260423T054102
CREATED:20230303T184511Z
LAST-MODIFIED:20230303T210738Z
UID:10006030-1685030400-1685034000@www.trailslibrary.org
SUMMARY:Graphic Novel Appreciation Society - Concordia
DESCRIPTION:9-18 years old – Discover the power of stories through Graphic Novels.
URL:https://www.trailslibrary.org/event/graphic-novel-appreciation-society-concordia-4/
LOCATION:Concordia Branch\, 813 S Main\, Concordia\, MO\, 64020\, United States
CATEGORIES:Book Clubs,Children,Kids,Teens
END:VEVENT
BEGIN:VEVENT
DTSTART;TZID=America/New_York:20230530T100000
DTEND;TZID=America/New_York:20230530T110000
DTSTAMP:20260423T054102
CREATED:20230516T212511Z
LAST-MODIFIED:20230526T172002Z
UID:10005269-1685440800-1685444400@www.trailslibrary.org
SUMMARY:Chef Bananas - Odessa Branch
DESCRIPTION:All Ages – Chef Bananas brings a show that’s perfect for adults and kids alike. After all – we are all either young or young at heart – and Chef Bananas’ humor and magic tricks will mesmerize you and make you laugh. It’s the ultimate bonding experience for families. This show is proven to create lasting memories for the entire family.
URL:https://www.trailslibrary.org/event/chef-bananas/
LOCATION:Odessa Branch\, 107 W. Mason\, Odessa\, MO\, 64076\, United States
CATEGORIES:Adult,Adults,All Ages,Children,Family,Guest Speakers,Kids,Music,Performers,Pre-Teen,Pre-Teens,Preschool,Preteen,preteens,senior,Seniors,Teen,Teens,Youth
END:VEVENT
BEGIN:VEVENT
DTSTART;TZID=America/New_York:20230530T130000
DTEND;TZID=America/New_York:20230530T140000
DTSTAMP:20260423T054102
CREATED:20230516T213154Z
LAST-MODIFIED:20230526T171906Z
UID:10005271-1685451600-1685455200@www.trailslibrary.org
SUMMARY:Chef Bananas - Holden Branch
DESCRIPTION:All Ages – Chef Bananas brings a show that’s perfect for adults and kids alike. After all – we are all either young or young at heart – and Chef Bananas’ humor and magic tricks will mesmerize you and make you laugh. It’s the ultimate bonding experience for families. This show is proven to create lasting memories for the entire family.
URL:https://www.trailslibrary.org/event/chef-bananas-2/
LOCATION:Holden Branch\, 207 S. Main\, Holden\, MO\, 64040\, United States
CATEGORIES:Adult,Adults,All Ages,Children,Family,Guest Speakers,Kids,Music,Performers,Pre-Teen,Pre-Teens,Preschool,Preteen,preteens,senior,Seniors,Teen,Teens,Youth
END:VEVENT
BEGIN:VEVENT
DTSTART;TZID=America/New_York:20230530T160000
DTEND;TZID=America/New_York:20230530T170000
DTSTAMP:20260423T054102
CREATED:20230516T214616Z
LAST-MODIFIED:20230526T171801Z
UID:10005273-1685462400-1685466000@www.trailslibrary.org
SUMMARY:Chef Bananas-Warrensburg Branch
DESCRIPTION:All Ages – Chef Bananas brings a show that’s perfect for adults and kids alike. After all – we are all either young or young at heart – and Chef Bananas’ humor and magic tricks will mesmerize you and make you laugh. It’s the ultimate bonding experience for families. This show is proven to create lasting memories for the entire family.
URL:https://www.trailslibrary.org/event/chef-bananas-3/
LOCATION:Warrensburg Branch\, 432 N. Holden\, Warrensburg\, Missouri\, 64093\, United States
CATEGORIES:Adult,Adults,All Ages,Children,Family,Guest Speakers,Kids,Music,Performers,Pre-Teen,Pre-Teens,Preschool,Preteen,preteens,senior,Seniors,Teen,Teens,Youth
END:VEVENT
BEGIN:VEVENT
DTSTART;TZID=America/New_York:20230531T100000
DTEND;TZID=America/New_York:20230531T110000
DTSTAMP:20260423T054102
CREATED:20230516T214740Z
LAST-MODIFIED:20230526T171703Z
UID:10006370-1685527200-1685530800@www.trailslibrary.org
SUMMARY:Chef Bananas - Lexington Branch
DESCRIPTION:All Ages – Chef Bananas brings a show that’s perfect for adults and kids alike. After all – we are all either young or young at heart – and Chef Bananas’ humor and magic tricks will mesmerize you and make you laugh. It’s the ultimate bonding experience for families. This show is proven to create lasting memories for the entire family.
URL:https://www.trailslibrary.org/event/chef-bananas-4/
LOCATION:Lexington Branch\, 1008 Main Street\, Lexington\, MO\, 64067\, United States
CATEGORIES:Adult,Adults,All Ages,Children,Family,Guest Speakers,Kids,Performers,Pre-Teen,Pre-Teens,Preschool,Preteen,preteens,senior,Seniors,Teen,Teens,Youth
END:VEVENT
BEGIN:VEVENT
DTSTART;TZID=America/New_York:20230531T130000
DTEND;TZID=America/New_York:20230531T140000
DTSTAMP:20260423T054102
CREATED:20230516T215115Z
LAST-MODIFIED:20230526T171610Z
UID:10006371-1685538000-1685541600@www.trailslibrary.org
SUMMARY:Chef Bananas - Corder Branch
DESCRIPTION:All Ages – Chef Bananas brings a show that’s perfect for adults and kids alike. After all – we are all either young or young at heart – and Chef Bananas’ humor and magic tricks will mesmerize you and make you laugh. It’s the ultimate bonding experience for families. This show is proven to create lasting memories for the entire family.
URL:https://www.trailslibrary.org/event/chef-bananas-5/
LOCATION:Corder Branch\, 221 N. Lafayette\, Corder\, MO\, 64021\, United States
CATEGORIES:Adult,Adults,All Ages,Children,Family,Guest Speakers,Kids,Music,Performers,Pre-Teen,Pre-Teens,Preschool,Preteen,preteens,senior,Seniors,Teen,Teens,Youth
END:VEVENT
BEGIN:VEVENT
DTSTART;TZID=America/New_York:20230531T150000
DTEND;TZID=America/New_York:20230531T160000
DTSTAMP:20260423T054102
CREATED:20230516T215210Z
LAST-MODIFIED:20230526T171121Z
UID:10006372-1685545200-1685548800@www.trailslibrary.org
SUMMARY:Chef Bananas - Waverly Branch
DESCRIPTION:All Ages – Chef Bananas brings a show that’s perfect for adults and kids alike. After all – we are all either young or young at heart – and Chef Bananas’ humor and magic tricks will mesmerize you and make you laugh. It’s the ultimate bonding experience for families. This show is proven to create lasting memories for the entire family.
URL:https://www.trailslibrary.org/event/chef-bananas-6/
LOCATION:Waverly Branch\, 203 E. Kelling\, Waverly\, MO\, 64096\, United States
CATEGORIES:Adult,Adults,All Ages,Children,Family,Guest Speakers,Kids,Music,Performers,Pre-Teen,Pre-Teens,Preschool,Preteen,preteens,senior,Seniors,Teen,Teens,Youth
END:VEVENT
BEGIN:VEVENT
DTSTART;TZID=America/New_York:20230601T100000
DTEND;TZID=America/New_York:20230601T110000
DTSTAMP:20260423T054102
CREATED:20230516T215304Z
LAST-MODIFIED:20230526T171020Z
UID:10006373-1685613600-1685617200@www.trailslibrary.org
SUMMARY:Chef Bananas - Concordia Branch
DESCRIPTION:All Ages – Chef Bananas brings a show that’s perfect for adults and kids alike. After all – we are all either young or young at heart – and Chef Bananas’ humor and magic tricks will mesmerize you and make you laugh. It’s the ultimate bonding experience for families. This show is proven to create lasting memories for the entire family.
URL:https://www.trailslibrary.org/event/chef-bananas-7/
LOCATION:Concordia Branch\, 813 S Main\, Concordia\, MO\, 64020\, United States
CATEGORIES:Adult,Adults,All Ages,Children,Family,Guest Speakers,Kids,Music,Performers,Pre-Teen,Pre-Teens,Preschool,Preteen,preteens,senior,Seniors,Teen,Teens,Youth
END:VEVENT
BEGIN:VEVENT
DTSTART;TZID=America/New_York:20230601T130000
DTEND;TZID=America/New_York:20230601T140000
DTSTAMP:20260423T054102
CREATED:20230516T215414Z
LAST-MODIFIED:20230526T171250Z
UID:10006374-1685624400-1685628000@www.trailslibrary.org
SUMMARY:Chef Bananas - Knob Noster Branch
DESCRIPTION:All Ages – Chef Bananas brings a show that’s perfect for adults and kids alike. After all – we are all either young or young at heart – and Chef Bananas’ humor and magic tricks will mesmerize you and make you laugh. It’s the ultimate bonding experience for families. This show is proven to create lasting memories for the entire family.
URL:https://www.trailslibrary.org/event/chef-bananas-8/
LOCATION:Knob Noster Branch\, 202 N. Adams\, Knob Noster\, MO\, 65336\, United States
CATEGORIES:Adult,Adults,All Ages,Children,Family,Guest Speakers,Kids,Music,Performers,Pre-Teen,Pre-Teens,Preschool,Preteen,preteens,senior,Seniors,Teen,Teens,Youth
END:VEVENT
BEGIN:VEVENT
DTSTART;TZID=America/New_York:20230601T160000
DTEND;TZID=America/New_York:20230601T170000
DTSTAMP:20260423T054102
CREATED:20230516T215536Z
LAST-MODIFIED:20230526T171215Z
UID:10006375-1685635200-1685638800@www.trailslibrary.org
SUMMARY:Chef Bananas - Leeton Express Branch
DESCRIPTION:All Ages – Chef Bananas brings a show that’s perfect for adults and kids alike. After all – we are all either young or young at heart – and Chef Bananas’ humor and magic tricks will mesmerize you and make you laugh. It’s the ultimate bonding experience for families. This show is proven to create lasting memories for the entire family.
URL:https://www.trailslibrary.org/event/chef-bananas-9/
LOCATION:Leeton Express Branch\, 500 N. Main\, Leeton\, MO\, 64761\, United States
CATEGORIES:Adult,Adults,All Ages,Children,Family,Guest Speakers,Kids,Music,Performers,Pre-Teen,Pre-Teens,Preschool,Preteen,preteens,senior,Seniors,Teen,Teens,Youth
END:VEVENT
BEGIN:VEVENT
DTSTART;TZID=America/New_York:20230603T100000
DTEND;TZID=America/New_York:20230603T110000
DTSTAMP:20260423T054102
CREATED:20230518T234946Z
LAST-MODIFIED:20230518T234946Z
UID:10005291-1685786400-1685790000@www.trailslibrary.org
SUMMARY:Super Saturdays - Holden
DESCRIPTION:Children 6-12 – Super Saturdays are tons of fun for children ages 6-12. Come enjoy crafts\, card games\, and fun galore!
URL:https://www.trailslibrary.org/event/super-saturdays-holden/
LOCATION:Holden Branch\, 207 S. Main\, Holden\, MO\, 64040\, United States
CATEGORIES:Children,Crafts,Kids
END:VEVENT
BEGIN:VEVENT
DTSTART;TZID=America/New_York:20230603T100000
DTEND;TZID=America/New_York:20230603T113000
DTSTAMP:20260423T054102
CREATED:20230518T235644Z
LAST-MODIFIED:20230518T235644Z
UID:10006430-1685786400-1685791800@www.trailslibrary.org
SUMMARY:Cinema Saturday - Lexington
DESCRIPTION:All Ages – Come hunry to watch a movie and enjoy pancakes and juice. PJs\, blankets\, and pillows are welcome.
URL:https://www.trailslibrary.org/event/cinema-saturday-lexington/
LOCATION:Lexington Branch\, 1008 Main Street\, Lexington\, MO\, 64067\, United States
CATEGORIES:Adults,All Ages,Children,Family,Kids,Movies,Teen,Teens
END:VEVENT
BEGIN:VEVENT
DTSTART;TZID=America/New_York:20230605T100000
DTEND;TZID=America/New_York:20230605T103000
DTSTAMP:20260423T054102
CREATED:20230531T213808Z
LAST-MODIFIED:20230531T213809Z
UID:10005371-1685959200-1685961000@www.trailslibrary.org
SUMMARY:Storytime-Waverly Branch
DESCRIPTION:Preschool 0-5 – Join us for 30 minutes of fun with a book reading and fun activities.
URL:https://www.trailslibrary.org/event/storytime-waverly-branch/
LOCATION:Waverly Branch\, 203 E. Kelling\, Waverly\, MO\, 64096\, United States
CATEGORIES:Children,Kids,Preschool,Storytime
END:VEVENT
BEGIN:VEVENT
DTSTART;TZID=America/New_York:20230605T120000
DTEND;TZID=America/New_York:20230605T130000
DTSTAMP:20260423T054102
CREATED:20230526T164750Z
LAST-MODIFIED:20230526T164752Z
UID:10006449-1685966400-1685970000@www.trailslibrary.org
SUMMARY:We are the World - Odessa Branch
DESCRIPTION:Ages 5-8 – Registration required and limited space. Join us in the library and make your own light up mini-globe.
URL:https://www.trailslibrary.org/event/we-are-the-world-odessa-branch/
LOCATION:Odessa Branch\, 107 W. Mason\, Odessa\, MO\, 64076\, United States
CATEGORIES:Children,Crafts,Kids,Youth
END:VEVENT
BEGIN:VEVENT
DTSTART;TZID=America/New_York:20230605T184500
DTEND;TZID=America/New_York:20230605T194500
DTSTAMP:20260423T054102
CREATED:20230526T174514Z
LAST-MODIFIED:20230526T174515Z
UID:10006462-1685990700-1685994300@www.trailslibrary.org
SUMMARY:Summer Strolls - Warrensburg Branch
DESCRIPTION:All ages – Meet your neighbors and friends at the Knob Noster State Park Visitors Center and take a ranger led hike with us. Wear sturdy shoes\, bring water and bug spray.
URL:https://www.trailslibrary.org/event/summer-strolls-warrensburg-branch/
LOCATION:MO
CATEGORIES:Adult,Adults,All Ages,Children,Family,Guest Speakers,Kids,Pre-Teen,Pre-Teens,Preteen,preteens,senior,Seniors,Teen,Teens,Youth
END:VEVENT
BEGIN:VEVENT
DTSTART;TZID=America/New_York:20230606T090000
DTEND;TZID=America/New_York:20230606T100000
DTSTAMP:20260423T054102
CREATED:20230518T235429Z
LAST-MODIFIED:20230518T235429Z
UID:10005322-1686042000-1686045600@www.trailslibrary.org
SUMMARY:Together Tuesdays - Leeton
DESCRIPTION:Children 6-12 – Join Ms. Stephanie and Ms. Sharliene at the library every Tuesday in June for Together Tuesdays.
URL:https://www.trailslibrary.org/event/together-tuesdays-leeton/
LOCATION:Leeton Express Branch\, 500 N. Main\, Leeton\, MO\, 64761\, United States
CATEGORIES:Children,Kids
END:VEVENT
BEGIN:VEVENT
DTSTART;TZID=America/New_York:20230606T090000
DTEND;TZID=America/New_York:20230606T100000
DTSTAMP:20260423T054102
CREATED:20230526T175311Z
LAST-MODIFIED:20230526T175313Z
UID:10006467-1686042000-1686045600@www.trailslibrary.org
SUMMARY:Get Hooked - Warrensburg Branch
DESCRIPTION:All ages – Join us to learn the art of plarning and how to turn plastic bags into sleeping mats
URL:https://www.trailslibrary.org/event/get-hooked-warrensburg-branch/
LOCATION:Warrensburg Branch\, 432 N. Holden\, Warrensburg\, Missouri\, 64093\, United States
CATEGORIES:Adult,Adults,All Ages,Children,Crafts,Family,Kids,Pre-Teen,Pre-Teens,Preteen,preteens,senior,Seniors,Teen,Teens,Youth
END:VEVENT
BEGIN:VEVENT
DTSTART;TZID=America/New_York:20230606T100000
DTEND;TZID=America/New_York:20230606T103000
DTSTAMP:20260423T054102
CREATED:20230518T234821Z
LAST-MODIFIED:20230518T234821Z
UID:10006380-1686045600-1686047400@www.trailslibrary.org
SUMMARY:Bubbly Storytime for Littles - Concordia
DESCRIPTION:Ages 0-3 – Storytimes focus on building pre-reading skills\, making friends\, and having fun! We like to finish with a bubble dance!
URL:https://www.trailslibrary.org/event/bubbly-storytime-for-littles-concordia/
LOCATION:Concordia Branch\, 813 S Main\, Concordia\, MO\, 64020\, United States
CATEGORIES:Children,Kids,Preschool,Storytime
END:VEVENT
BEGIN:VEVENT
DTSTART;TZID=America/New_York:20230606T100000
DTEND;TZID=America/New_York:20230606T103000
DTSTAMP:20260423T054102
CREATED:20230526T184731Z
LAST-MODIFIED:20230526T184732Z
UID:10006470-1686045600-1686047400@www.trailslibrary.org
SUMMARY:Storytime in the Stacks - Warrensburg Branch
DESCRIPTION:Preschool ages 0-5 – Storytime in the Stacks: Meet up in the Children’s area for stories\, music\, dancing\, and of course\, bubbles!
URL:https://www.trailslibrary.org/event/storytime-in-the-stacks-warrensburg-branch/
LOCATION:Warrensburg Branch\, 432 N. Holden\, Warrensburg\, Missouri\, 64093\, United States
CATEGORIES:Children,Kids,Preschool,Storytime
END:VEVENT
BEGIN:VEVENT
DTSTART;TZID=America/New_York:20230606T150000
DTEND;TZID=America/New_York:20230606T160000
DTSTAMP:20260423T054102
CREATED:20230519T000444Z
LAST-MODIFIED:20230519T000444Z
UID:10005332-1686063600-1686067200@www.trailslibrary.org
SUMMARY:Kids in the Kitchen - Odessa
DESCRIPTION:Pre-Teens 9-12 -Registration Required. Kids in the Kitchen is a fun hands-on program offered by University of Missouri Extension that teaches kids how to prepare simple recipes and encourages them to be active and to eat healthier meals and snacks.
URL:https://www.trailslibrary.org/event/kids-in-the-kitchen-odessa-4/
LOCATION:Odessa Branch\, 107 W. Mason\, Odessa\, MO\, 64076\, United States
CATEGORIES:Children,Kids,preteens
END:VEVENT
BEGIN:VEVENT
DTSTART;TZID=America/New_York:20230606T153000
DTEND;TZID=America/New_York:20230606T163000
DTSTAMP:20260423T054102
CREATED:20230518T235048Z
LAST-MODIFIED:20230531T220908Z
UID:10006404-1686065400-1686069000@www.trailslibrary.org
SUMMARY:Storyteller's Book Club - Knob Noster
DESCRIPTION:Ages 8-18 – Registration required. This isn’t your average book club! Tweens and Teens\, join us for a fun read this summer and the chance to hone your storytelling skills!
URL:https://www.trailslibrary.org/event/storytellers-book-club-knob-noster/
LOCATION:Knob Noster Branch\, 202 N. Adams\, Knob Noster\, MO\, 65336\, United States
CATEGORIES:Book Clubs,Children,Kids,Teens
END:VEVENT
BEGIN:VEVENT
DTSTART;TZID=America/New_York:20230607T100000
DTEND;TZID=America/New_York:20230607T103000
DTSTAMP:20260423T054102
CREATED:20230518T234819Z
LAST-MODIFIED:20230518T234819Z
UID:10006376-1686132000-1686133800@www.trailslibrary.org
SUMMARY:Crafty Storytime - Concordia
DESCRIPTION:Ages 4 and up – Storytimes for kids who are a little older and enjoy simple crafting.
URL:https://www.trailslibrary.org/event/crafty-storytime-concordia/
LOCATION:Concordia Branch\, 813 S Main\, Concordia\, MO\, 64020\, United States
CATEGORIES:Children,Kids,Preschool,Storytime
END:VEVENT
END:VCALENDAR