BEGIN:VCALENDAR
VERSION:2.0
PRODID:-//Trails Regional Library - ECPv6.15.20//NONSGML v1.0//EN
CALSCALE:GREGORIAN
METHOD:PUBLISH
X-WR-CALNAME:Trails Regional Library
X-ORIGINAL-URL:https://www.trailslibrary.org
X-WR-CALDESC:Events for Trails Regional Library
REFRESH-INTERVAL;VALUE=DURATION:PT1H
X-Robots-Tag:noindex
X-PUBLISHED-TTL:PT1H
BEGIN:VTIMEZONE
TZID:America/New_York
BEGIN:DAYLIGHT
TZOFFSETFROM:-0500
TZOFFSETTO:-0400
TZNAME:EDT
DTSTART:20230312T070000
END:DAYLIGHT
BEGIN:STANDARD
TZOFFSETFROM:-0400
TZOFFSETTO:-0500
TZNAME:EST
DTSTART:20231105T060000
END:STANDARD
BEGIN:DAYLIGHT
TZOFFSETFROM:-0500
TZOFFSETTO:-0400
TZNAME:EDT
DTSTART:20240310T070000
END:DAYLIGHT
BEGIN:STANDARD
TZOFFSETFROM:-0400
TZOFFSETTO:-0500
TZNAME:EST
DTSTART:20241103T060000
END:STANDARD
BEGIN:DAYLIGHT
TZOFFSETFROM:-0500
TZOFFSETTO:-0400
TZNAME:EDT
DTSTART:20250309T070000
END:DAYLIGHT
BEGIN:STANDARD
TZOFFSETFROM:-0400
TZOFFSETTO:-0500
TZNAME:EST
DTSTART:20251102T060000
END:STANDARD
END:VTIMEZONE
BEGIN:VEVENT
DTSTART;TZID=America/New_York:20240423T100000
DTEND;TZID=America/New_York:20240423T103000
DTSTAMP:20260419T221642
CREATED:20231215T190050Z
LAST-MODIFIED:20231215T190050Z
UID:10007361-1713866400-1713868200@www.trailslibrary.org
SUMMARY:Preschool Storytime-Warrensburg
DESCRIPTION:Ages 0-5: Storytime: Meet up for stories\, music\, dancing\, and of course\, bubbles!
URL:https://www.trailslibrary.org/event/preschool-storytime-warrensburg-67/
LOCATION:Warrensburg Branch\, 432 N. Holden\, Warrensburg\, Missouri\, 64093\, United States
CATEGORIES:Children,Kids,Preschool,Storytime
END:VEVENT
BEGIN:VEVENT
DTSTART;TZID=America/New_York:20240423T103000
DTEND;TZID=America/New_York:20240423T110000
DTSTAMP:20260419T221642
CREATED:20231215T190005Z
LAST-MODIFIED:20231215T190005Z
UID:10007355-1713868200-1713870000@www.trailslibrary.org
SUMMARY:Preschool Craftime-Warrensburg
DESCRIPTION:Ages 0-5: Stay after storytime to make a themed craft with Miss Amy.
URL:https://www.trailslibrary.org/event/preschool-craftime-warrensburg-31/
LOCATION:Warrensburg Branch\, 432 N. Holden\, Warrensburg\, Missouri\, 64093\, United States
CATEGORIES:Children,Kids,Preschool
END:VEVENT
BEGIN:VEVENT
DTSTART;TZID=America/New_York:20240423T150000
DTEND;TZID=America/New_York:20240423T153000
DTSTAMP:20260419T221642
CREATED:20231215T181259Z
LAST-MODIFIED:20231215T181259Z
UID:10006067-1713884400-1713886200@www.trailslibrary.org
SUMMARY:Storytime-Knob Noster
DESCRIPTION:Ages 0-5: Bring your child for stories\, crafts\, songs and bubbles to encourage an early love of literacy!
URL:https://www.trailslibrary.org/event/storytime-knob-noster-92/
LOCATION:Knob Noster Branch\, 202 N. Adams\, Knob Noster\, MO\, 65336\, United States
CATEGORIES:Children,Kids,Preschool,Storytime
END:VEVENT
BEGIN:VEVENT
DTSTART;TZID=America/New_York:20240423T153000
DTEND;TZID=America/New_York:20240423T160000
DTSTAMP:20260419T221642
CREATED:20231215T181415Z
LAST-MODIFIED:20231215T181415Z
UID:10006079-1713886200-1713888000@www.trailslibrary.org
SUMMARY:Kid Connection-Knob Noster
DESCRIPTION:Ages 0-5: Come play\, make new friends and see all the library has to offer!
URL:https://www.trailslibrary.org/event/kid-connection-knob-noster-40/
LOCATION:Knob Noster Branch\, 202 N. Adams\, Knob Noster\, MO\, 65336\, United States
CATEGORIES:Children,Kids,Preschool
END:VEVENT
BEGIN:VEVENT
DTSTART;TZID=America/New_York:20240424T100000
DTEND;TZID=America/New_York:20240424T100000
DTSTAMP:20260419T221642
CREATED:20231215T183935Z
LAST-MODIFIED:20231215T183935Z
UID:10007284-1713952800-1713952800@www.trailslibrary.org
SUMMARY:Storytime-Odessa
DESCRIPTION:Ages 0-5: Storytimes are for building pre-reading skills\, making friends\, and having fun!
URL:https://www.trailslibrary.org/event/storytime-odessa-60/
LOCATION:Odessa Branch\, 107 W. Mason\, Odessa\, MO\, 64076\, United States
CATEGORIES:Children,Kids,Preschool,Storytime
END:VEVENT
BEGIN:VEVENT
DTSTART;TZID=America/New_York:20240424T100000
DTEND;TZID=America/New_York:20240424T103000
DTSTAMP:20260419T221642
CREATED:20231215T180826Z
LAST-MODIFIED:20231215T180826Z
UID:10007127-1713952800-1713954600@www.trailslibrary.org
SUMMARY:Storytime-Holden
DESCRIPTION:Ages 0-5: Come listen to a story at the library and do a craft.
URL:https://www.trailslibrary.org/event/storytime-holden-115/
LOCATION:Holden Branch\, 207 S. Main\, Holden\, MO\, 64040\, United States
CATEGORIES:Children,Kids,Preschool,Storytime
END:VEVENT
BEGIN:VEVENT
DTSTART;TZID=America/New_York:20240424T100000
DTEND;TZID=America/New_York:20240424T103000
DTSTAMP:20260419T221642
CREATED:20231215T181259Z
LAST-MODIFIED:20231215T181259Z
UID:10007165-1713952800-1713954600@www.trailslibrary.org
SUMMARY:Storytime-Knob Noster
DESCRIPTION:Ages 0-5: Bring your child for stories\, crafts\, songs and bubbles to encourage an early love of literacy!
URL:https://www.trailslibrary.org/event/storytime-knob-noster-93/
LOCATION:Knob Noster Branch\, 202 N. Adams\, Knob Noster\, MO\, 65336\, United States
CATEGORIES:Children,Kids,Preschool,Storytime
END:VEVENT
BEGIN:VEVENT
DTSTART;TZID=America/New_York:20240424T100000
DTEND;TZID=America/New_York:20240424T103000
DTSTAMP:20260419T221642
CREATED:20231215T182642Z
LAST-MODIFIED:20231215T182642Z
UID:10006130-1713952800-1713954600@www.trailslibrary.org
SUMMARY:Storytime-Lexington
DESCRIPTION:Ages 0-5: Bring your little ones for storytime! Each week we read\, sing\, play and learn\, all while developing early literacy skills.
URL:https://www.trailslibrary.org/event/storytime-lexington-98/
LOCATION:Lexington Branch\, 1008 Main Street\, Lexington\, MO\, 64067\, United States
CATEGORIES:Children,Kids,Preschool,Storytime
END:VEVENT
BEGIN:VEVENT
DTSTART;TZID=America/New_York:20240424T100000
DTEND;TZID=America/New_York:20240424T110000
DTSTAMP:20260419T221642
CREATED:20231215T175824Z
LAST-MODIFIED:20231215T175824Z
UID:10007113-1713952800-1713956400@www.trailslibrary.org
SUMMARY:Storytime-Corder
DESCRIPTION:Ages: 3-5: Storytimes are for building pre-reading skills\, making friends and having fun!
URL:https://www.trailslibrary.org/event/storytime-corder-104/
LOCATION:Corder Branch\, 221 N. Lafayette\, Corder\, MO\, 64021\, United States
CATEGORIES:Children,Kids,Preschool,Storytime
END:VEVENT
BEGIN:VEVENT
DTSTART;TZID=America/New_York:20240424T103000
DTEND;TZID=America/New_York:20240424T110000
DTSTAMP:20260419T221642
CREATED:20231215T180826Z
LAST-MODIFIED:20231215T180826Z
UID:10007128-1713954600-1713956400@www.trailslibrary.org
SUMMARY:Mother's Day Wind Chimes-Holden
DESCRIPTION:Ages 0-5: Come make a special wind chime craft with us for Mother’s Day.
URL:https://www.trailslibrary.org/event/mothers-day-wind-chimes-holden-2/
LOCATION:Holden Branch\, 207 S. Main\, Holden\, MO\, 64040\, United States
CATEGORIES:Children,Crafts,Kids
END:VEVENT
BEGIN:VEVENT
DTSTART;TZID=America/New_York:20240424T103000
DTEND;TZID=America/New_York:20240424T110000
DTSTAMP:20260419T221642
CREATED:20231215T181415Z
LAST-MODIFIED:20231215T181415Z
UID:10006081-1713954600-1713956400@www.trailslibrary.org
SUMMARY:Kid Connection-Knob Noster
DESCRIPTION:Ages 0-5: Come play\, make new friends and see all the library has to offer!
URL:https://www.trailslibrary.org/event/kid-connection-knob-noster-41/
LOCATION:Knob Noster Branch\, 202 N. Adams\, Knob Noster\, MO\, 65336\, United States
CATEGORIES:Children,Kids,Preschool
END:VEVENT
BEGIN:VEVENT
DTSTART;TZID=America/New_York:20240424T103000
DTEND;TZID=America/New_York:20240424T110000
DTSTAMP:20260419T221642
CREATED:20231215T182916Z
LAST-MODIFIED:20231215T182916Z
UID:10007244-1713954600-1713956400@www.trailslibrary.org
SUMMARY:Stay and Play-Lexington
DESCRIPTION:Ages 0-5: Stay and play after storytime to get your wiggles out! Have some fun\, play games\, and make new friends!
URL:https://www.trailslibrary.org/event/stay-and-play-lexington-37/
LOCATION:Lexington Branch\, 1008 Main Street\, Lexington\, MO\, 64067\, United States
CATEGORIES:Children,Kids,Preschool
END:VEVENT
BEGIN:VEVENT
DTSTART;TZID=America/New_York:20240424T160000
DTEND;TZID=America/New_York:20240424T170000
DTSTAMP:20260419T221642
CREATED:20231215T174608Z
LAST-MODIFIED:20240308T182838Z
UID:10007089-1713974400-1713978000@www.trailslibrary.org
SUMMARY:Cardboard Carnival-Concordia
DESCRIPTION:Ages 5-8: Let’s build some fun games using recycled cardboard\, then it’s play time!
URL:https://www.trailslibrary.org/event/carboard-carnival-concordia/
LOCATION:Concordia Branch\, 813 S Main\, Concordia\, MO\, 64020\, United States
CATEGORIES:Children,Crafts,Kids
END:VEVENT
BEGIN:VEVENT
DTSTART;TZID=America/New_York:20240424T163000
DTEND;TZID=America/New_York:20240424T183000
DTSTAMP:20260419T221642
CREATED:20231215T190521Z
LAST-MODIFIED:20231215T191747Z
UID:10007432-1713976200-1713983400@www.trailslibrary.org
SUMMARY:Libraries Got Game-Warrensburg
DESCRIPTION:All Ages: Get BOARD at the library with your family and friends! Fun and exciting board and XL games.
URL:https://www.trailslibrary.org/event/libraries-got-game-warrensburg-58/
LOCATION:Warrensburg Branch\, 432 N. Holden\, Warrensburg\, Missouri\, 64093\, United States
CATEGORIES:Adult,Adults,All Ages,Children,Family,Kids,preteens,senior,Seniors,Teen,Teens,Youth
END:VEVENT
BEGIN:VEVENT
DTSTART;TZID=America/New_York:20240425T100000
DTEND;TZID=America/New_York:20240425T103000
DTSTAMP:20260419T221642
CREATED:20231215T185820Z
LAST-MODIFIED:20231215T185820Z
UID:10007333-1714039200-1714041000@www.trailslibrary.org
SUMMARY:Music & Movement-Warrensburg
DESCRIPTION:Ages 0-5: Join us to get your wiggles out with singing and dancing. Children will use a variety of musical instruments to increase sensory development\, coordination\, literacy & numeracy skills
URL:https://www.trailslibrary.org/event/music-movement-warrensburg-29/
LOCATION:Warrensburg Branch\, 432 N. Holden\, Warrensburg\, Missouri\, 64093\, United States
CATEGORIES:Children,Kids,Preschool
END:VEVENT
BEGIN:VEVENT
DTSTART;TZID=America/New_York:20240425T103000
DTEND;TZID=America/New_York:20240425T110000
DTSTAMP:20260419T221642
CREATED:20231215T185920Z
LAST-MODIFIED:20231215T185920Z
UID:10007340-1714041000-1714042800@www.trailslibrary.org
SUMMARY:Stay Play and Learn-Warrensburg
DESCRIPTION:Ages 0-5: Stay after Music and Moverment to play and learn with your friends. Activities will focus on improving language\, fine and gross motor skills\, develop social skills and aid with cognitive development.
URL:https://www.trailslibrary.org/event/stay-play-and-learn-warrensburg-29/
LOCATION:Warrensburg Branch\, 432 N. Holden\, Warrensburg\, Missouri\, 64093\, United States
CATEGORIES:Children,Kids,Preschool
END:VEVENT
BEGIN:VEVENT
DTSTART;TZID=America/New_York:20240425T153000
DTEND;TZID=America/New_York:20240425T163000
DTSTAMP:20260419T221642
CREATED:20231215T183626Z
LAST-MODIFIED:20231215T183626Z
UID:10007270-1714059000-1714062600@www.trailslibrary.org
SUMMARY:Kids Club-Lexington
DESCRIPTION:Ages 6-12: If you like crafts\, games and fun science activites (STEAM) then this club if for you. Snack provided. Bring a friend for more FUN!
URL:https://www.trailslibrary.org/event/kids-club-lexington-8/
LOCATION:Lexington Branch\, 1008 Main Street\, Lexington\, MO\, 64067\, United States
CATEGORIES:Children,Crafts,Kids,STEAM
END:VEVENT
BEGIN:VEVENT
DTSTART;TZID=America/New_York:20240425T154500
DTEND;TZID=America/New_York:20240425T170000
DTSTAMP:20260419T221642
CREATED:20231215T182334Z
LAST-MODIFIED:20231215T182334Z
UID:10007226-1714059900-1714064400@www.trailslibrary.org
SUMMARY:Trading Card Club-Leeton
DESCRIPTION:Ages 6-12: Trading card fans\, join Mrs. Schuler for trading card fun to include: playing\, chatting\, trading\, and drawing\,
URL:https://www.trailslibrary.org/event/trading-card-club-leeton-2/
LOCATION:Leeton Express Branch\, 500 N. Main\, Leeton\, MO\, 64761\, United States
CATEGORIES:Children,Crafts,Kids
END:VEVENT
BEGIN:VEVENT
DTSTART;TZID=America/New_York:20240426T160000
DTEND;TZID=America/New_York:20240426T160000
DTSTAMP:20260419T221642
CREATED:20231215T184803Z
LAST-MODIFIED:20231215T184803Z
UID:10007311-1714147200-1714147200@www.trailslibrary.org
SUMMARY:Feature Friday-Odessa
DESCRIPTION:All Ages: Join us for our family movie. We provide the popcorn\, and you supply your favorite drink!
URL:https://www.trailslibrary.org/event/feature-friday-odessa-12/
LOCATION:Odessa Branch\, 107 W. Mason\, Odessa\, MO\, 64076\, United States
CATEGORIES:Adult,Adults,All Ages,Children,Family,Kids,Movie,preteens,senior,Seniors,Teen,Teens,Youth
END:VEVENT
BEGIN:VEVENT
DTSTART;TZID=America/New_York:20240427T100000
DTEND;TZID=America/New_York:20240427T110000
DTSTAMP:20260419T221642
CREATED:20231215T190406Z
LAST-MODIFIED:20231215T190406Z
UID:10006322-1714212000-1714215600@www.trailslibrary.org
SUMMARY:Crafty Family Fun-Warrensburg
DESCRIPTION:All Ages REGISTRATION required: Come join us to make a craft
URL:https://www.trailslibrary.org/event/crafty-family-fun-warrensburg/
LOCATION:Warrensburg Branch\, 432 N. Holden\, Warrensburg\, Missouri\, 64093\, United States
CATEGORIES:Adult,Adults,All Ages,Children,Crafts,Family,Kids,preteens,senior,Seniors,Teen,Teens,Youth
END:VEVENT
BEGIN:VEVENT
DTSTART;TZID=America/New_York:20240430T100000
DTEND;TZID=America/New_York:20240430T103000
DTSTAMP:20260419T221642
CREATED:20231215T190050Z
LAST-MODIFIED:20240119T205540Z
UID:10007362-1714471200-1714473000@www.trailslibrary.org
SUMMARY:Preschool Storytime-Warrensburg
DESCRIPTION:Ages 0-5: Storytime: Meet up for stories\, music\, dancing\, and of course\, bubbles!
URL:https://www.trailslibrary.org/event/preschool-storytime-warrensburg-68/
LOCATION:Warrensburg Branch\, 432 N. Holden\, Warrensburg\, Missouri\, 64093\, United States
CATEGORIES:Children,Kids,Preschool,Storytime
END:VEVENT
BEGIN:VEVENT
DTSTART;TZID=America/New_York:20240430T103000
DTEND;TZID=America/New_York:20240430T110000
DTSTAMP:20260419T221642
CREATED:20231215T190005Z
LAST-MODIFIED:20231215T190005Z
UID:10007356-1714473000-1714474800@www.trailslibrary.org
SUMMARY:Preschool Craftime-Warrensburg
DESCRIPTION:Ages 0-5: Stay after storytime to make a themed craft with Miss Amy.
URL:https://www.trailslibrary.org/event/preschool-craftime-warrensburg-32/
LOCATION:Warrensburg Branch\, 432 N. Holden\, Warrensburg\, Missouri\, 64093\, United States
CATEGORIES:Children,Kids,Preschool
END:VEVENT
BEGIN:VEVENT
DTSTART;TZID=America/New_York:20240501T163000
DTEND;TZID=America/New_York:20240501T183000
DTSTAMP:20260419T221642
CREATED:20231215T190521Z
LAST-MODIFIED:20231215T191747Z
UID:10007433-1714581000-1714588200@www.trailslibrary.org
SUMMARY:Libraries Got Game-Warrensburg
DESCRIPTION:All Ages: Get BOARD at the library with your family and friends! Fun and exciting board and XL games.
URL:https://www.trailslibrary.org/event/libraries-got-game-warrensburg-59/
LOCATION:Warrensburg Branch\, 432 N. Holden\, Warrensburg\, Missouri\, 64093\, United States
CATEGORIES:Adult,Adults,All Ages,Children,Family,Kids,preteens,senior,Seniors,Teen,Teens,Youth
END:VEVENT
BEGIN:VEVENT
DTSTART;TZID=America/New_York:20240504T100000
DTEND;TZID=America/New_York:20240504T110000
DTSTAMP:20260419T221642
CREATED:20231215T182305Z
LAST-MODIFIED:20231215T182305Z
UID:10007219-1714816800-1714820400@www.trailslibrary.org
SUMMARY:Saturday Storytime & Craft-Leeton
DESCRIPTION:All Ages: Join us on the 1st Saturday of the month at 10 AM for Storytime
URL:https://www.trailslibrary.org/event/saturday-storytime-craft-leeton-5/
LOCATION:Leeton Express Branch\, 500 N. Main\, Leeton\, MO\, 64761\, United States
CATEGORIES:Adult,Adults,All Ages,Children,Family,Kids,preteens,senior,Seniors,Storytime,Teen,Teens,Youth
END:VEVENT
BEGIN:VEVENT
DTSTART;TZID=America/New_York:20240504T110000
DTEND;TZID=America/New_York:20240504T130000
DTSTAMP:20260419T221642
CREATED:20231215T182320Z
LAST-MODIFIED:20231215T182320Z
UID:10007224-1714820400-1714827600@www.trailslibrary.org
SUMMARY:Saturday Cinema-Leeton
DESCRIPTION:All Ages: Join us on the 1st Saturday of the month at 11 AM for a family friendly movie. Bring a friend and a drink with a lid. We will provide the popcorn!
URL:https://www.trailslibrary.org/event/saturday-cinema-leeton-7/
LOCATION:Leeton Express Branch\, 500 N. Main\, Leeton\, MO\, 64761\, United States
CATEGORIES:Adult,Adults,All Ages,Children,Family,Kids,Movie,preteens,senior,Seniors,Teen,Teens,Youth
END:VEVENT
BEGIN:VEVENT
DTSTART;TZID=America/New_York:20240504T113000
DTEND;TZID=America/New_York:20240504T130000
DTSTAMP:20260419T221642
CREATED:20231215T181615Z
LAST-MODIFIED:20231215T181615Z
UID:10006106-1714822200-1714827600@www.trailslibrary.org
SUMMARY:Cinema Saturday-Knob Noster
DESCRIPTION:All Ages: Come watch “Pinocchio” with us\, based off of the book by Carlo Collodi!
URL:https://www.trailslibrary.org/event/cinema-saturday-knob-noster-19/
LOCATION:Knob Noster Branch\, 202 N. Adams\, Knob Noster\, MO\, 65336\, United States
CATEGORIES:Adult,Adults,All Ages,Children,Family,Kids,Movie,preteens,senior,Seniors,Teen,Teens,Youth
END:VEVENT
BEGIN:VEVENT
DTSTART;TZID=America/New_York:20240507T160000
DTEND;TZID=America/New_York:20240507T160000
DTSTAMP:20260419T221642
CREATED:20231215T184413Z
LAST-MODIFIED:20231215T184413Z
UID:10007290-1715097600-1715097600@www.trailslibrary.org
SUMMARY:Well-Read Poet's Society-Odessa
DESCRIPTION:Ages 13+: Join us for a cup of tea as we discuss\, read\, and compose poetry
URL:https://www.trailslibrary.org/event/well-read-poets-society-odessa-9/
LOCATION:Odessa Branch\, 107 W. Mason\, Odessa\, MO\, 64076\, United States
CATEGORIES:Book Clubs,Children,Kids,Teens
END:VEVENT
BEGIN:VEVENT
DTSTART;TZID=America/New_York:20240508T163000
DTEND;TZID=America/New_York:20240508T183000
DTSTAMP:20260419T221642
CREATED:20231215T190521Z
LAST-MODIFIED:20231215T191747Z
UID:10007434-1715185800-1715193000@www.trailslibrary.org
SUMMARY:Libraries Got Game-Warrensburg
DESCRIPTION:All Ages: Get BOARD at the library with your family and friends! Fun and exciting board and XL games.
URL:https://www.trailslibrary.org/event/libraries-got-game-warrensburg-60/
LOCATION:Warrensburg Branch\, 432 N. Holden\, Warrensburg\, Missouri\, 64093\, United States
CATEGORIES:Adult,Adults,All Ages,Children,Family,Kids,preteens,senior,Seniors,Teen,Teens,Youth
END:VEVENT
BEGIN:VEVENT
DTSTART;TZID=America/New_York:20240511T100000
DTEND;TZID=America/New_York:20240511T110000
DTSTAMP:20260419T221642
CREATED:20231215T174856Z
LAST-MODIFIED:20231215T174856Z
UID:10007096-1715421600-1715425200@www.trailslibrary.org
SUMMARY:Cartoons and Pancakes-Concordia
DESCRIPTION:All Ages: Join us for an old-fashioned Saturday morning. We eat pancakes and watch cartoons with friends!
URL:https://www.trailslibrary.org/event/cartoons-and-pancakes-concordia-5/
LOCATION:Concordia Branch\, 813 S Main\, Concordia\, MO\, 64020\, United States
CATEGORIES:Adult,Adults,All Ages,Children,Family,Kids,Movie,preteens,senior,Seniors,Teen,Teens,Youth
END:VEVENT
BEGIN:VEVENT
DTSTART;TZID=America/New_York:20240515T163000
DTEND;TZID=America/New_York:20240515T183000
DTSTAMP:20260419T221642
CREATED:20231215T190535Z
LAST-MODIFIED:20231215T191747Z
UID:10007435-1715790600-1715797800@www.trailslibrary.org
SUMMARY:Libraries Got Game-Warrensburg
DESCRIPTION:All Ages: Get BOARD at the library with your family and friends! Fun and exciting board and XL games.
URL:https://www.trailslibrary.org/event/libraries-got-game-warrensburg-61/
LOCATION:Warrensburg Branch\, 432 N. Holden\, Warrensburg\, Missouri\, 64093\, United States
CATEGORIES:Adult,Adults,All Ages,Children,Family,Kids,preteens,senior,Seniors,Teen,Teens,Youth
END:VEVENT
END:VCALENDAR