BEGIN:VCALENDAR
VERSION:2.0
PRODID:-//Trails Regional Library - ECPv6.15.20//NONSGML v1.0//EN
CALSCALE:GREGORIAN
METHOD:PUBLISH
X-ORIGINAL-URL:https://www.trailslibrary.org
X-WR-CALDESC:Events for Trails Regional Library
REFRESH-INTERVAL;VALUE=DURATION:PT1H
X-Robots-Tag:noindex
X-PUBLISHED-TTL:PT1H
BEGIN:VTIMEZONE
TZID:America/New_York
BEGIN:DAYLIGHT
TZOFFSETFROM:-0500
TZOFFSETTO:-0400
TZNAME:EDT
DTSTART:20230312T070000
END:DAYLIGHT
BEGIN:STANDARD
TZOFFSETFROM:-0400
TZOFFSETTO:-0500
TZNAME:EST
DTSTART:20231105T060000
END:STANDARD
BEGIN:DAYLIGHT
TZOFFSETFROM:-0500
TZOFFSETTO:-0400
TZNAME:EDT
DTSTART:20240310T070000
END:DAYLIGHT
BEGIN:STANDARD
TZOFFSETFROM:-0400
TZOFFSETTO:-0500
TZNAME:EST
DTSTART:20241103T060000
END:STANDARD
BEGIN:DAYLIGHT
TZOFFSETFROM:-0500
TZOFFSETTO:-0400
TZNAME:EDT
DTSTART:20250309T070000
END:DAYLIGHT
BEGIN:STANDARD
TZOFFSETFROM:-0400
TZOFFSETTO:-0500
TZNAME:EST
DTSTART:20251102T060000
END:STANDARD
END:VTIMEZONE
BEGIN:VEVENT
DTSTART;TZID=America/New_York:20240214T100000
DTEND;TZID=America/New_York:20240214T110000
DTSTAMP:20260420T021347
CREATED:20231215T175754Z
LAST-MODIFIED:20231215T175754Z
UID:10006006-1707904800-1707908400@www.trailslibrary.org
SUMMARY:Storytime-Corder
DESCRIPTION:Ages: 3-5: Storytimes are for building pre-reading skills\, making friends and having fun!
URL:https://www.trailslibrary.org/event/storytime-corder-94/
LOCATION:Corder Branch\, 221 N. Lafayette\, Corder\, MO\, 64021\, United States
CATEGORIES:Children,Kids,Preschool,Storytime
END:VEVENT
BEGIN:VEVENT
DTSTART;TZID=America/New_York:20240214T103000
DTEND;TZID=America/New_York:20240214T110000
DTSTAMP:20260420T021347
CREATED:20231215T180841Z
LAST-MODIFIED:20231215T180841Z
UID:10007132-1707906600-1707908400@www.trailslibrary.org
SUMMARY:Stay & Play-Holden
DESCRIPTION:Ages 0-5: Stay after storytime and play with your friends. Enjoy the library’s resources and toys.
URL:https://www.trailslibrary.org/event/stay-play-holden-16/
LOCATION:Holden Branch\, 207 S. Main\, Holden\, MO\, 64040\, United States
CATEGORIES:Children,Kids,Preschool,Storytime
END:VEVENT
BEGIN:VEVENT
DTSTART;TZID=America/New_York:20240214T103000
DTEND;TZID=America/New_York:20240214T110000
DTSTAMP:20260420T021347
CREATED:20231215T181314Z
LAST-MODIFIED:20231215T181314Z
UID:10007169-1707906600-1707908400@www.trailslibrary.org
SUMMARY:Kid Connection-Knob Noster
DESCRIPTION:Ages 0-5: Come play\, make new friends and see all the library has to offer!
URL:https://www.trailslibrary.org/event/kid-connection-knob-noster-21/
LOCATION:Knob Noster Branch\, 202 N. Adams\, Knob Noster\, MO\, 65336\, United States
CATEGORIES:Children,Kids,Preschool
END:VEVENT
BEGIN:VEVENT
DTSTART;TZID=America/New_York:20240214T103000
DTEND;TZID=America/New_York:20240214T110000
DTSTAMP:20260420T021347
CREATED:20231215T182657Z
LAST-MODIFIED:20231215T182657Z
UID:10006138-1707906600-1707908400@www.trailslibrary.org
SUMMARY:Stay and Play-Lexington
DESCRIPTION:Ages 0-5: Stay and play after storytime to get your wiggles out! Have some fun\, play games\, and make new friends!
URL:https://www.trailslibrary.org/event/stay-and-play-lexington-27/
LOCATION:Lexington Branch\, 1008 Main Street\, Lexington\, MO\, 64067\, United States
CATEGORIES:Children,Kids,Preschool
END:VEVENT
BEGIN:VEVENT
DTSTART;TZID=America/New_York:20240214T163000
DTEND;TZID=America/New_York:20240214T183000
DTSTAMP:20260420T021347
CREATED:20231215T190451Z
LAST-MODIFIED:20231215T191532Z
UID:10007422-1707928200-1707935400@www.trailslibrary.org
SUMMARY:Libraries Got Game-Warrensburg
DESCRIPTION:All Ages: Get BOARD at the library with your family and friends! Fun and exciting board and XL games.
URL:https://www.trailslibrary.org/event/libraries-got-game-warrensburg-48/
LOCATION:Warrensburg Branch\, 432 N. Holden\, Warrensburg\, Missouri\, 64093\, United States
CATEGORIES:Adult,Adults,All Ages,Children,Family,Kids,preteens,senior,Seniors,Teen,Teens,Youth
END:VEVENT
BEGIN:VEVENT
DTSTART;TZID=America/New_York:20240215T100000
DTEND;TZID=America/New_York:20240215T103000
DTSTAMP:20260420T021347
CREATED:20231215T185804Z
LAST-MODIFIED:20231215T185804Z
UID:10007324-1707991200-1707993000@www.trailslibrary.org
SUMMARY:Music & Movement-Warrensburg
DESCRIPTION:Ages 0-5: Join us to get your wiggles out with singing and dancing. Children will use a variety of musical instruments to increase sensory development\, coordination\, literacy & numeracy skills
URL:https://www.trailslibrary.org/event/music-movement-warrensburg-20/
LOCATION:Warrensburg Branch\, 432 N. Holden\, Warrensburg\, Missouri\, 64093\, United States
CATEGORIES:Children,Kids,Preschool
END:VEVENT
BEGIN:VEVENT
DTSTART;TZID=America/New_York:20240215T103000
DTEND;TZID=America/New_York:20240215T110000
DTSTAMP:20260420T021347
CREATED:20231215T185850Z
LAST-MODIFIED:20231215T185850Z
UID:10006238-1707993000-1707994800@www.trailslibrary.org
SUMMARY:Stay Play and Learn-Warrensburg
DESCRIPTION:Ages 0-5: Stay after Music and Moverment to play and learn with your friends. Activities will focus on improving language\, fine and gross motor skills\, develop social skills and aid with cognitive development.
URL:https://www.trailslibrary.org/event/stay-play-and-learn-warrensburg-20/
LOCATION:Warrensburg Branch\, 432 N. Holden\, Warrensburg\, Missouri\, 64093\, United States
CATEGORIES:Children,Kids,Preschool
END:VEVENT
BEGIN:VEVENT
DTSTART;TZID=America/New_York:20240215T154500
DTEND;TZID=America/New_York:20240215T170000
DTSTAMP:20260420T021347
CREATED:20231215T182303Z
LAST-MODIFIED:20231215T182303Z
UID:10006109-1708011900-1708016400@www.trailslibrary.org
SUMMARY:Third Thursday Fun & Games-Leeton
DESCRIPTION:Ages 6-12: Join Mrs. Schuler and the Boys & Girls Club the 3rd Thursday Fun & Games!
URL:https://www.trailslibrary.org/event/third-thursday-fun-games-leeton/
LOCATION:Leeton Express Branch\, 500 N. Main\, Leeton\, MO\, 64761\, United States
CATEGORIES:Children,Crafts,Kids
END:VEVENT
BEGIN:VEVENT
DTSTART;TZID=America/New_York:20240215T160000
DTEND;TZID=America/New_York:20240215T173000
DTSTAMP:20260420T021347
CREATED:20231215T181615Z
LAST-MODIFIED:20231215T181615Z
UID:10006107-1708012800-1708018200@www.trailslibrary.org
SUMMARY:Family Game Night-Knob Noster
DESCRIPTION:All Ages: REGISTRATION required: Come out and enjoy a night of fun\, games and socializing at the library!
URL:https://www.trailslibrary.org/event/family-game-night-knob-noster-3/
LOCATION:Knob Noster Branch\, 202 N. Adams\, Knob Noster\, MO\, 65336\, United States
CATEGORIES:Adult,Adults,All Ages,Children,Family,Kids,preteens,senior,Seniors,Teen,Teens,Youth
END:VEVENT
BEGIN:VEVENT
DTSTART;TZID=America/New_York:20240217T100000
DTEND;TZID=America/New_York:20240217T110000
DTSTAMP:20260420T021347
CREATED:20231215T185835Z
LAST-MODIFIED:20231215T185835Z
UID:10007335-1708164000-1708167600@www.trailslibrary.org
SUMMARY:Storytime With Granny -Warrensburg
DESCRIPTION:Ages 0-5: Meet up for stories\, music\, dancing\, and of course\, bubbles!
URL:https://www.trailslibrary.org/event/storytime-with-granny-warrensburg-11/
LOCATION:Warrensburg Branch\, 432 N. Holden\, Warrensburg\, Missouri\, 64093\, United States
CATEGORIES:Children,Kids,Preschool,Storytime
END:VEVENT
BEGIN:VEVENT
DTSTART;TZID=America/New_York:20240220T100000
DTEND;TZID=America/New_York:20240220T103000
DTSTAMP:20260420T021347
CREATED:20231215T174522Z
LAST-MODIFIED:20231215T174522Z
UID:10005970-1708423200-1708425000@www.trailslibrary.org
SUMMARY:Storytime-Concordia
DESCRIPTION:Ages 0-5: Storytimes are for building pre-reading skills\, making friends and having fun!
URL:https://www.trailslibrary.org/event/storytime-concordia-89/
LOCATION:Concordia Branch\, 813 S Main\, Concordia\, MO\, 64020\, United States
CATEGORIES:Children,Kids,Preschool,Storytime
END:VEVENT
BEGIN:VEVENT
DTSTART;TZID=America/New_York:20240220T100000
DTEND;TZID=America/New_York:20240220T103000
DTSTAMP:20260420T021347
CREATED:20231215T190020Z
LAST-MODIFIED:20231215T190020Z
UID:10006256-1708423200-1708425000@www.trailslibrary.org
SUMMARY:Preschool Storytime-Warrensburg
DESCRIPTION:Ages 0-5: Storytime: Meet up for stories\, music\, dancing\, and of course\, bubbles!
URL:https://www.trailslibrary.org/event/preschool-storytime-warrensburg-58/
LOCATION:Warrensburg Branch\, 432 N. Holden\, Warrensburg\, Missouri\, 64093\, United States
CATEGORIES:Children,Kids,Preschool,Storytime
END:VEVENT
BEGIN:VEVENT
DTSTART;TZID=America/New_York:20240220T103000
DTEND;TZID=America/New_York:20240220T110000
DTSTAMP:20260420T021347
CREATED:20231215T185935Z
LAST-MODIFIED:20231215T185935Z
UID:10007346-1708425000-1708426800@www.trailslibrary.org
SUMMARY:Preschool Craftime-Warrensburg
DESCRIPTION:Ages 0-5: Stay after storytime to make a themed craft with Miss Amy.
URL:https://www.trailslibrary.org/event/preschool-craftime-warrensburg-22/
LOCATION:Warrensburg Branch\, 432 N. Holden\, Warrensburg\, Missouri\, 64093\, United States
CATEGORIES:Children,Kids,Preschool
END:VEVENT
BEGIN:VEVENT
DTSTART;TZID=America/New_York:20240220T150000
DTEND;TZID=America/New_York:20240220T153000
DTSTAMP:20260420T021347
CREATED:20231215T181145Z
LAST-MODIFIED:20231215T181145Z
UID:10007156-1708441200-1708443000@www.trailslibrary.org
SUMMARY:Storytime-Knob Noster
DESCRIPTION:Ages 0-5: Bring your child for stories\, crafts\, songs and bubbles to encourage an early love of literacy!
URL:https://www.trailslibrary.org/event/storytime-knob-noster-53/
LOCATION:Knob Noster Branch\, 202 N. Adams\, Knob Noster\, MO\, 65336\, United States
CATEGORIES:Children,Kids,Preschool,Storytime
END:VEVENT
BEGIN:VEVENT
DTSTART;TZID=America/New_York:20240220T150000
DTEND;TZID=America/New_York:20240220T170000
DTSTAMP:20260420T021347
CREATED:20231215T180956Z
LAST-MODIFIED:20231215T180956Z
UID:10007146-1708441200-1708448400@www.trailslibrary.org
SUMMARY:Art and Craft Club-Holden
DESCRIPTION:All Ages: Art & Craft Club will be scrapbooking the covers of journals.
URL:https://www.trailslibrary.org/event/art-and-craft-club-holden-5/
LOCATION:Holden Branch\, 207 S. Main\, Holden\, MO\, 64040\, United States
CATEGORIES:Adult,Adults,All Ages,Children,Crafts,Family,Kids,preteens,senior,Seniors,Teen,Teens,Youth
END:VEVENT
BEGIN:VEVENT
DTSTART;TZID=America/New_York:20240220T153000
DTEND;TZID=America/New_York:20240220T160000
DTSTAMP:20260420T021347
CREATED:20231215T181315Z
LAST-MODIFIED:20231215T181315Z
UID:10007170-1708443000-1708444800@www.trailslibrary.org
SUMMARY:Kid Connection-Knob Noster
DESCRIPTION:Ages 0-5: Come play\, make new friends and see all the library has to offer!
URL:https://www.trailslibrary.org/event/kid-connection-knob-noster-22/
LOCATION:Knob Noster Branch\, 202 N. Adams\, Knob Noster\, MO\, 65336\, United States
CATEGORIES:Children,Kids,Preschool
END:VEVENT
BEGIN:VEVENT
DTSTART;TZID=America/New_York:20240221T100000
DTEND;TZID=America/New_York:20240221T100000
DTSTAMP:20260420T021347
CREATED:20231215T183920Z
LAST-MODIFIED:20231215T183920Z
UID:10007279-1708509600-1708509600@www.trailslibrary.org
SUMMARY:Storytime-Odessa
DESCRIPTION:Ages 0-5: Storytimes are for building pre-reading skills\, making friends\, and having fun!
URL:https://www.trailslibrary.org/event/storytime-odessa-55/
LOCATION:Odessa Branch\, 107 W. Mason\, Odessa\, MO\, 64076\, United States
CATEGORIES:Children,Kids,Preschool,Storytime
END:VEVENT
BEGIN:VEVENT
DTSTART;TZID=America/New_York:20240221T100000
DTEND;TZID=America/New_York:20240221T103000
DTSTAMP:20260420T021347
CREATED:20231215T180810Z
LAST-MODIFIED:20231215T180810Z
UID:10006017-1708509600-1708511400@www.trailslibrary.org
SUMMARY:Storytime-Holden
DESCRIPTION:Ages 0-5: Come listen to a story at the library and do a craft.
URL:https://www.trailslibrary.org/event/storytime-holden-106/
LOCATION:Holden Branch\, 207 S. Main\, Holden\, MO\, 64040\, United States
CATEGORIES:Children,Kids,Preschool,Storytime
END:VEVENT
BEGIN:VEVENT
DTSTART;TZID=America/New_York:20240221T100000
DTEND;TZID=America/New_York:20240221T103000
DTSTAMP:20260420T021347
CREATED:20231215T181146Z
LAST-MODIFIED:20231215T181146Z
UID:10007157-1708509600-1708511400@www.trailslibrary.org
SUMMARY:Storytime-Knob Noster
DESCRIPTION:Ages 0-5: Bring your child for stories\, crafts\, songs and bubbles to encourage an early love of literacy!
URL:https://www.trailslibrary.org/event/storytime-knob-noster-54/
LOCATION:Knob Noster Branch\, 202 N. Adams\, Knob Noster\, MO\, 65336\, United States
CATEGORIES:Children,Kids,Preschool,Storytime
END:VEVENT
BEGIN:VEVENT
DTSTART;TZID=America/New_York:20240221T100000
DTEND;TZID=America/New_York:20240221T103000
DTSTAMP:20260420T021347
CREATED:20231215T182626Z
LAST-MODIFIED:20231215T182626Z
UID:10007231-1708509600-1708511400@www.trailslibrary.org
SUMMARY:Storytime-Lexington
DESCRIPTION:Ages 0-5: Bring your little ones for storytime! Each week we read\, sing\, play and learn\, all while developing early literacy skills.
URL:https://www.trailslibrary.org/event/storytime-lexington-89/
LOCATION:Lexington Branch\, 1008 Main Street\, Lexington\, MO\, 64067\, United States
CATEGORIES:Children,Kids,Preschool,Storytime
END:VEVENT
BEGIN:VEVENT
DTSTART;TZID=America/New_York:20240221T100000
DTEND;TZID=America/New_York:20240221T110000
DTSTAMP:20260420T021347
CREATED:20231215T175754Z
LAST-MODIFIED:20231215T175754Z
UID:10007104-1708509600-1708513200@www.trailslibrary.org
SUMMARY:Storytime-Corder
DESCRIPTION:Ages: 3-5: Storytimes are for building pre-reading skills\, making friends and having fun!
URL:https://www.trailslibrary.org/event/storytime-corder-95/
LOCATION:Corder Branch\, 221 N. Lafayette\, Corder\, MO\, 64021\, United States
CATEGORIES:Children,Kids,Preschool,Storytime
END:VEVENT
BEGIN:VEVENT
DTSTART;TZID=America/New_York:20240221T103000
DTEND;TZID=America/New_York:20240221T110000
DTSTAMP:20260420T021347
CREATED:20231215T180841Z
LAST-MODIFIED:20231215T180841Z
UID:10007133-1708511400-1708513200@www.trailslibrary.org
SUMMARY:Stay & Play-Holden
DESCRIPTION:Ages 0-5: Stay after storytime and play with your friends. Enjoy the library’s resources and toys.
URL:https://www.trailslibrary.org/event/stay-play-holden-17/
LOCATION:Holden Branch\, 207 S. Main\, Holden\, MO\, 64040\, United States
CATEGORIES:Children,Kids,Preschool,Storytime
END:VEVENT
BEGIN:VEVENT
DTSTART;TZID=America/New_York:20240221T103000
DTEND;TZID=America/New_York:20240221T110000
DTSTAMP:20260420T021347
CREATED:20231215T181315Z
LAST-MODIFIED:20231215T181315Z
UID:10007171-1708511400-1708513200@www.trailslibrary.org
SUMMARY:Kid Connection-Knob Noster
DESCRIPTION:Ages 0-5: Come play\, make new friends and see all the library has to offer!
URL:https://www.trailslibrary.org/event/kid-connection-knob-noster-23/
LOCATION:Knob Noster Branch\, 202 N. Adams\, Knob Noster\, MO\, 65336\, United States
CATEGORIES:Children,Kids,Preschool
END:VEVENT
BEGIN:VEVENT
DTSTART;TZID=America/New_York:20240221T103000
DTEND;TZID=America/New_York:20240221T110000
DTSTAMP:20260420T021347
CREATED:20231215T182657Z
LAST-MODIFIED:20231215T182657Z
UID:10006140-1708511400-1708513200@www.trailslibrary.org
SUMMARY:Stay and Play-Lexington
DESCRIPTION:Ages 0-5: Stay and play after storytime to get your wiggles out! Have some fun\, play games\, and make new friends!
URL:https://www.trailslibrary.org/event/stay-and-play-lexington-28/
LOCATION:Lexington Branch\, 1008 Main Street\, Lexington\, MO\, 64067\, United States
CATEGORIES:Children,Kids,Preschool
END:VEVENT
BEGIN:VEVENT
DTSTART;TZID=America/New_York:20240221T150000
DTEND;TZID=America/New_York:20240221T160000
DTSTAMP:20260420T021347
CREATED:20231215T181545Z
LAST-MODIFIED:20231215T181545Z
UID:10007209-1708527600-1708531200@www.trailslibrary.org
SUMMARY:Eureka! Steam Program-Knob Noster
DESCRIPTION:Ages 6-12: A fun afternoon of STEAM activities! Learn\, play\, and socialize all at the same time.
URL:https://www.trailslibrary.org/event/eureka-steam-program-knob-noster/
LOCATION:Knob Noster Branch\, 202 N. Adams\, Knob Noster\, MO\, 65336\, United States
CATEGORIES:Children,Kids,STEAM
END:VEVENT
BEGIN:VEVENT
DTSTART;TZID=America/New_York:20240221T163000
DTEND;TZID=America/New_York:20240221T183000
DTSTAMP:20260420T021347
CREATED:20231215T190451Z
LAST-MODIFIED:20231215T191532Z
UID:10007423-1708533000-1708540200@www.trailslibrary.org
SUMMARY:Libraries Got Game-Warrensburg
DESCRIPTION:All Ages: Get BOARD at the library with your family and friends! Fun and exciting board and XL games.
URL:https://www.trailslibrary.org/event/libraries-got-game-warrensburg-49/
LOCATION:Warrensburg Branch\, 432 N. Holden\, Warrensburg\, Missouri\, 64093\, United States
CATEGORIES:Adult,Adults,All Ages,Children,Family,Kids,preteens,senior,Seniors,Teen,Teens,Youth
END:VEVENT
BEGIN:VEVENT
DTSTART;TZID=America/New_York:20240222T100000
DTEND;TZID=America/New_York:20240222T103000
DTSTAMP:20260420T021347
CREATED:20231215T185805Z
LAST-MODIFIED:20231215T185805Z
UID:10007325-1708596000-1708597800@www.trailslibrary.org
SUMMARY:Music & Movement-Warrensburg
DESCRIPTION:Ages 0-5: Join us to get your wiggles out with singing and dancing. Children will use a variety of musical instruments to increase sensory development\, coordination\, literacy & numeracy skills
URL:https://www.trailslibrary.org/event/music-movement-warrensburg-21/
LOCATION:Warrensburg Branch\, 432 N. Holden\, Warrensburg\, Missouri\, 64093\, United States
CATEGORIES:Children,Kids,Preschool
END:VEVENT
BEGIN:VEVENT
DTSTART;TZID=America/New_York:20240222T103000
DTEND;TZID=America/New_York:20240222T110000
DTSTAMP:20260420T021347
CREATED:20231215T185850Z
LAST-MODIFIED:20231215T185850Z
UID:10006240-1708597800-1708599600@www.trailslibrary.org
SUMMARY:Stay Play and Learn-Warrensburg
DESCRIPTION:Ages 0-5: Stay after Music and Moverment to play and learn with your friends. Activities will focus on improving language\, fine and gross motor skills\, develop social skills and aid with cognitive development.
URL:https://www.trailslibrary.org/event/stay-play-and-learn-warrensburg-21/
LOCATION:Warrensburg Branch\, 432 N. Holden\, Warrensburg\, Missouri\, 64093\, United States
CATEGORIES:Children,Kids,Preschool
END:VEVENT
BEGIN:VEVENT
DTSTART;TZID=America/New_York:20240222T153000
DTEND;TZID=America/New_York:20240222T163000
DTSTAMP:20260420T021347
CREATED:20231215T183625Z
LAST-MODIFIED:20231215T183625Z
UID:10007268-1708615800-1708619400@www.trailslibrary.org
SUMMARY:Kids Club-Lexington
DESCRIPTION:Ages 6-12:  If you like crafts\, games and fun science activites (STEAM) then this club is for you. Snack provided. Bring a friend for more FUN!
URL:https://www.trailslibrary.org/event/kids-club-lexington-6/
LOCATION:Lexington Branch\, 1008 Main Street\, Lexington\, MO\, 64067\, United States
CATEGORIES:Children,Crafts,Kids,STEAM
END:VEVENT
BEGIN:VEVENT
DTSTART;TZID=America/New_York:20240223T100000
DTEND;TZID=America/New_York:20240223T110000
DTSTAMP:20260420T021347
CREATED:20231215T190550Z
LAST-MODIFIED:20231215T190550Z
UID:10006334-1708682400-1708686000@www.trailslibrary.org
SUMMARY:Get Hooked-Warrensburg
DESCRIPTION:All Ages: Get Hooked! Come join us for tips and tricks\, learn how to crochet or knit.
URL:https://www.trailslibrary.org/event/get-hooked-warrensburg-24/
LOCATION:Warrensburg Branch\, 432 N. Holden\, Warrensburg\, Missouri\, 64093\, United States
CATEGORIES:Adult,Adults,All Ages,Children,Crafts,Family,Kids,preteens,senior,Seniors,Teen,Teens,Youth
END:VEVENT
END:VCALENDAR