BEGIN:VCALENDAR
VERSION:2.0
PRODID:-//Trails Regional Library - ECPv6.15.20//NONSGML v1.0//EN
CALSCALE:GREGORIAN
METHOD:PUBLISH
X-ORIGINAL-URL:https://www.trailslibrary.org
X-WR-CALDESC:Events for Trails Regional Library
REFRESH-INTERVAL;VALUE=DURATION:PT1H
X-Robots-Tag:noindex
X-PUBLISHED-TTL:PT1H
BEGIN:VTIMEZONE
TZID:America/New_York
BEGIN:DAYLIGHT
TZOFFSETFROM:-0500
TZOFFSETTO:-0400
TZNAME:EDT
DTSTART:20230312T070000
END:DAYLIGHT
BEGIN:STANDARD
TZOFFSETFROM:-0400
TZOFFSETTO:-0500
TZNAME:EST
DTSTART:20231105T060000
END:STANDARD
BEGIN:DAYLIGHT
TZOFFSETFROM:-0500
TZOFFSETTO:-0400
TZNAME:EDT
DTSTART:20240310T070000
END:DAYLIGHT
BEGIN:STANDARD
TZOFFSETFROM:-0400
TZOFFSETTO:-0500
TZNAME:EST
DTSTART:20241103T060000
END:STANDARD
BEGIN:DAYLIGHT
TZOFFSETFROM:-0500
TZOFFSETTO:-0400
TZNAME:EDT
DTSTART:20250309T070000
END:DAYLIGHT
BEGIN:STANDARD
TZOFFSETFROM:-0400
TZOFFSETTO:-0500
TZNAME:EST
DTSTART:20251102T060000
END:STANDARD
END:VTIMEZONE
BEGIN:VEVENT
DTSTART;TZID=America/New_York:20240403T100000
DTEND;TZID=America/New_York:20240403T110000
DTSTAMP:20260419T221833
CREATED:20231215T175810Z
LAST-MODIFIED:20231215T175810Z
UID:10007110-1712138400-1712142000@www.trailslibrary.org
SUMMARY:Storytime-Corder
DESCRIPTION:Ages: 3-5: Storytimes are for building pre-reading skills\, making friends and having fun!
URL:https://www.trailslibrary.org/event/storytime-corder-101/
LOCATION:Corder Branch\, 221 N. Lafayette\, Corder\, MO\, 64021\, United States
CATEGORIES:Children,Kids,Preschool,Storytime
END:VEVENT
BEGIN:VEVENT
DTSTART;TZID=America/New_York:20240403T103000
DTEND;TZID=America/New_York:20240403T110000
DTSTAMP:20260419T221833
CREATED:20231215T180910Z
LAST-MODIFIED:20231215T180910Z
UID:10006031-1712140200-1712142000@www.trailslibrary.org
SUMMARY:Stay & Play-Holden
DESCRIPTION:Ages 0-5: Stay after storytime and play with your friends. Enjoy the library’s resources and toys.
URL:https://www.trailslibrary.org/event/stay-play-holden-23/
LOCATION:Holden Branch\, 207 S. Main\, Holden\, MO\, 64040\, United States
CATEGORIES:Children,Kids,Preschool,Storytime
END:VEVENT
BEGIN:VEVENT
DTSTART;TZID=America/New_York:20240403T103000
DTEND;TZID=America/New_York:20240403T110000
DTSTAMP:20260419T221833
CREATED:20231215T181400Z
LAST-MODIFIED:20231215T181400Z
UID:10007183-1712140200-1712142000@www.trailslibrary.org
SUMMARY:Kid Connection-Knob Noster
DESCRIPTION:Ages 0-5: Come play\, make new friends and see all the library has to offer!
URL:https://www.trailslibrary.org/event/kid-connection-knob-noster-35/
LOCATION:Knob Noster Branch\, 202 N. Adams\, Knob Noster\, MO\, 65336\, United States
CATEGORIES:Children,Kids,Preschool
END:VEVENT
BEGIN:VEVENT
DTSTART;TZID=America/New_York:20240403T103000
DTEND;TZID=America/New_York:20240403T110000
DTSTAMP:20260419T221833
CREATED:20231215T182715Z
LAST-MODIFIED:20231215T182715Z
UID:10007241-1712140200-1712142000@www.trailslibrary.org
SUMMARY:Stay and Play-Lexington
DESCRIPTION:Ages 0-5: Stay and play after storytime to get your wiggles out! Have some fun\, play games\, and make new friends!
URL:https://www.trailslibrary.org/event/stay-and-play-lexington-34/
LOCATION:Lexington Branch\, 1008 Main Street\, Lexington\, MO\, 64067\, United States
CATEGORIES:Children,Kids,Preschool
END:VEVENT
BEGIN:VEVENT
DTSTART;TZID=America/New_York:20240403T163000
DTEND;TZID=America/New_York:20240403T183000
DTSTAMP:20260419T221833
CREATED:20231215T190506Z
LAST-MODIFIED:20231215T191547Z
UID:10007429-1712161800-1712169000@www.trailslibrary.org
SUMMARY:Libraries Got Game-Warrensburg
DESCRIPTION:All Ages: Get BOARD at the library with your family and friends! Fun and exciting board and XL games.
URL:https://www.trailslibrary.org/event/libraries-got-game-warrensburg-55/
LOCATION:Warrensburg Branch\, 432 N. Holden\, Warrensburg\, Missouri\, 64093\, United States
CATEGORIES:Adult,Adults,All Ages,Children,Family,Kids,preteens,senior,Seniors,Teen,Teens,Youth
END:VEVENT
BEGIN:VEVENT
DTSTART;TZID=America/New_York:20240404T100000
DTEND;TZID=America/New_York:20240404T103000
DTSTAMP:20260419T221833
CREATED:20231215T221936Z
LAST-MODIFIED:20231215T221936Z
UID:10007439-1712224800-1712226600@www.trailslibrary.org
SUMMARY:Music & Movement-Warrensburg
DESCRIPTION:Ages 0-5: Join us to get your wiggles out with singing and dancing. Children will use a variety of musical instruments to increase sensory development\, coordination\, literacy & numeracy skills
URL:https://www.trailslibrary.org/event/music-movement-warrensburg-30/
LOCATION:Warrensburg Branch\, 432 N. Holden\, Warrensburg\, Missouri\, 64093\, United States
CATEGORIES:Children,Kids,Preschool
END:VEVENT
BEGIN:VEVENT
DTSTART;TZID=America/New_York:20240404T103000
DTEND;TZID=America/New_York:20240404T110000
DTSTAMP:20260419T221833
CREATED:20231215T221936Z
LAST-MODIFIED:20231215T221936Z
UID:10007440-1712226600-1712228400@www.trailslibrary.org
SUMMARY:Stay Play and Learn-Warrensburg
DESCRIPTION:Ages 0-5: Stay after Music and Moverment to play and learn with your friends. Activities will focus on improving language\, fine and gross motor skills\, develop social skills and aid with cognitive development.
URL:https://www.trailslibrary.org/event/stay-play-and-learn-warrensburg-30/
LOCATION:Warrensburg Branch\, 432 N. Holden\, Warrensburg\, Missouri\, 64093\, United States
CATEGORIES:Children,Kids,Preschool
END:VEVENT
BEGIN:VEVENT
DTSTART;TZID=America/New_York:20240404T160000
DTEND;TZID=America/New_York:20240404T173000
DTSTAMP:20260419T221833
CREATED:20231215T181600Z
LAST-MODIFIED:20231215T181600Z
UID:10007213-1712246400-1712251800@www.trailslibrary.org
SUMMARY:Investigaton at the Library-Knob Noster
DESCRIPTION:All Ages REGISTRATION required: There’s been a booknapping at the library! Can you help us track it down and catch the booknapper?
URL:https://www.trailslibrary.org/event/investigaton-at-the-library-knob-noster/
LOCATION:Knob Noster Branch\, 202 N. Adams\, Knob Noster\, MO\, 65336\, United States
CATEGORIES:Adult,Adults,All Ages,Children,Family,Kids,preteens,senior,Seniors,Teen,Teens,Youth
END:VEVENT
BEGIN:VEVENT
DTSTART;TZID=America/New_York:20240405T100000
DTEND;TZID=America/New_York:20240405T110000
DTSTAMP:20260419T221833
CREATED:20231215T190551Z
LAST-MODIFIED:20231215T210139Z
UID:10006338-1712311200-1712314800@www.trailslibrary.org
SUMMARY:Get Hooked-Warrensburg
DESCRIPTION:All Ages: Get Hooked! Come join us for tips and tricks\, learn how to crochet or knit.
URL:https://www.trailslibrary.org/event/get-hooked-warrensburg-27/
LOCATION:Warrensburg Branch\, 432 N. Holden\, Warrensburg\, Missouri\, 64093\, United States
CATEGORIES:Adult,Adults,All Ages,Children,Crafts,Family,Kids,preteens,senior,Seniors,Teen,Teens,Youth
END:VEVENT
BEGIN:VEVENT
DTSTART;TZID=America/New_York:20240406T100000
DTEND;TZID=America/New_York:20240406T110000
DTSTAMP:20260419T221833
CREATED:20231215T182305Z
LAST-MODIFIED:20231215T182305Z
UID:10007218-1712397600-1712401200@www.trailslibrary.org
SUMMARY:Saturday Storytime & Craft-Leeton
DESCRIPTION:All Ages: Join us on the 1st Saturday of the month at 10 AM for Storytime
URL:https://www.trailslibrary.org/event/saturday-storytime-craft-leeton-4/
LOCATION:Leeton Express Branch\, 500 N. Main\, Leeton\, MO\, 64761\, United States
CATEGORIES:Adult,Adults,All Ages,Children,Family,Kids,preteens,senior,Seniors,Storytime,Teen,Teens,Youth
END:VEVENT
BEGIN:VEVENT
DTSTART;TZID=America/New_York:20240406T100000
DTEND;TZID=America/New_York:20240406T110000
DTSTAMP:20260419T221833
CREATED:20231215T190335Z
LAST-MODIFIED:20231215T190335Z
UID:10007406-1712397600-1712401200@www.trailslibrary.org
SUMMARY:Full STEAM ahead-Warrensburg
DESCRIPTION:Ages 2-6: Join us for science\, technology\, engineering\, art and mathematics activities for little learners.
URL:https://www.trailslibrary.org/event/full-steam-ahead-warrensburg-3/
LOCATION:Warrensburg Branch\, 432 N. Holden\, Warrensburg\, Missouri\, 64093\, United States
CATEGORIES:Children,Kids,STEAM
END:VEVENT
BEGIN:VEVENT
DTSTART;TZID=America/New_York:20240406T110000
DTEND;TZID=America/New_York:20240406T130000
DTSTAMP:20260419T221833
CREATED:20231215T181011Z
LAST-MODIFIED:20231215T181011Z
UID:10007151-1712401200-1712408400@www.trailslibrary.org
SUMMARY:Family Movie Matinee-Holden
DESCRIPTION:All Ages: Come to the library and enjoy a family friendly movie.
URL:https://www.trailslibrary.org/event/family-movie-matinee-holden-8/
LOCATION:Holden Branch\, 207 S. Main\, Holden\, MO\, 64040\, United States
CATEGORIES:Adult,Adults,All Ages,Children,Family,Kids,Movie,preteens,senior,Seniors,Teen,Teens,Youth
END:VEVENT
BEGIN:VEVENT
DTSTART;TZID=America/New_York:20240406T110000
DTEND;TZID=America/New_York:20240406T130000
DTSTAMP:20260419T221833
CREATED:20231215T182320Z
LAST-MODIFIED:20231215T182320Z
UID:10007223-1712401200-1712408400@www.trailslibrary.org
SUMMARY:Saturday Cinema-Leeton
DESCRIPTION:All Ages: Join us on the 1st Saturday of the month at 11 AM for a family friendly movie. Bring a friend and a drink with a lid. We will provide the popcorn!
URL:https://www.trailslibrary.org/event/saturday-cinema-leeton-6/
LOCATION:Leeton Express Branch\, 500 N. Main\, Leeton\, MO\, 64761\, United States
CATEGORIES:Adult,Adults,All Ages,Children,Family,Kids,Movie,preteens,senior,Seniors,Teen,Teens,Youth
END:VEVENT
BEGIN:VEVENT
DTSTART;TZID=America/New_York:20240406T113000
DTEND;TZID=America/New_York:20240406T130000
DTSTAMP:20260419T221833
CREATED:20231215T181600Z
LAST-MODIFIED:20231215T181600Z
UID:10007215-1712403000-1712408400@www.trailslibrary.org
SUMMARY:Cinema Saturday-Knob Noster
DESCRIPTION:All Ages: Come watch “Escape from Mr. Lemoncello’s Library” with us\, based off of the book by Chris Grabenstein!
URL:https://www.trailslibrary.org/event/cinema-saturday-knob-noster-17/
LOCATION:Knob Noster Branch\, 202 N. Adams\, Knob Noster\, MO\, 65336\, United States
CATEGORIES:Adult,Adults,All Ages,Children,Family,Kids,Movie,preteens,senior,Seniors,Teen,Teens,Youth
END:VEVENT
BEGIN:VEVENT
DTSTART;TZID=America/New_York:20240408T090000
DTEND;TZID=America/New_York:20240413T170000
DTSTAMP:20260419T221833
CREATED:20231215T190421Z
LAST-MODIFIED:20231215T190421Z
UID:10007412-1712566800-1713027600@www.trailslibrary.org
SUMMARY:Pop-Up Program-Warrensburg
DESCRIPTION:All Ages: A surprise Program is scheduled
URL:https://www.trailslibrary.org/event/pop-up-program-warrensburg-2/
LOCATION:Warrensburg Branch\, 432 N. Holden\, Warrensburg\, Missouri\, 64093\, United States
CATEGORIES:Adult,Adults,All Ages,Children,Family,Kids,preteens,senior,Seniors,Teen,Teens,Youth
END:VEVENT
BEGIN:VEVENT
DTSTART;TZID=America/New_York:20240408T100000
DTEND;TZID=America/New_York:20240408T100000
DTSTAMP:20260419T221833
CREATED:20231215T181615Z
LAST-MODIFIED:20231215T181615Z
UID:10006108-1712570400-1712570400@www.trailslibrary.org
SUMMARY:Total Solar Eclipse-Knob Noster
DESCRIPTION:All Ages: This will be the last total solar eclipse visible from the contingent US until 2044!
URL:https://www.trailslibrary.org/event/total-solar-eclipse-knob-noster/
LOCATION:Knob Noster Branch\, 202 N. Adams\, Knob Noster\, MO\, 65336\, United States
CATEGORIES:Adult,Adults,All Ages,Children,Family,Kids,preteens,senior,Seniors,Teen,Teens,Youth
END:VEVENT
BEGIN:VEVENT
DTSTART;TZID=America/New_York:20240408T100000
DTEND;TZID=America/New_York:20240408T103000
DTSTAMP:20260419T221833
CREATED:20231215T185504Z
LAST-MODIFIED:20231215T185504Z
UID:10007312-1712570400-1712572200@www.trailslibrary.org
SUMMARY:Storytime-Waverly
DESCRIPTION:Ages 0-5: Storytimes are for building pre-reading skills\, making friends and having fun!
URL:https://www.trailslibrary.org/event/storytime-waverly-101/
LOCATION:Waverly Branch\, 203 E. Kelling\, Waverly\, MO\, 64096\, United States
CATEGORIES:Children,Kids,Preschool,Storytime
END:VEVENT
BEGIN:VEVENT
DTSTART;TZID=America/New_York:20240408T160000
DTEND;TZID=America/New_York:20240408T160000
DTSTAMP:20260419T221833
CREATED:20231215T184613Z
LAST-MODIFIED:20231215T184613Z
UID:10007302-1712592000-1712592000@www.trailslibrary.org
SUMMARY:Junior Engineers-Odessa
DESCRIPTION:Ages 5-8:  Welcome all engineers\, builders\, inventors and tinkers ages 5-8! Join the fun of snap circuits\, where you can build from a pattern or create something new.
URL:https://www.trailslibrary.org/event/junior-engineers-odessa/
LOCATION:Odessa Branch\, 107 W. Mason\, Odessa\, MO\, 64076\, United States
CATEGORIES:Children,Kids,STEAM
END:VEVENT
BEGIN:VEVENT
DTSTART;TZID=America/New_York:20240409T100000
DTEND;TZID=America/New_York:20240409T103000
DTSTAMP:20260419T221833
CREATED:20231215T174538Z
LAST-MODIFIED:20231215T174538Z
UID:10007077-1712656800-1712658600@www.trailslibrary.org
SUMMARY:Storytime-Concordia
DESCRIPTION:Ages 0-5: Storytimes are for building pre-reading skills\, making friends and having fun!
URL:https://www.trailslibrary.org/event/storytime-concordia-96/
LOCATION:Concordia Branch\, 813 S Main\, Concordia\, MO\, 64020\, United States
CATEGORIES:Children,Kids,Preschool,Storytime
END:VEVENT
BEGIN:VEVENT
DTSTART;TZID=America/New_York:20240409T100000
DTEND;TZID=America/New_York:20240409T103000
DTSTAMP:20260419T221833
CREATED:20231215T190036Z
LAST-MODIFIED:20231215T190036Z
UID:10006271-1712656800-1712658600@www.trailslibrary.org
SUMMARY:Preschool Storytime-Warrensburg
DESCRIPTION:Ages 0-5: Storytime: Meet up for stories\, music\, dancing\, and of course\, bubbles!
URL:https://www.trailslibrary.org/event/preschool-storytime-warrensburg-65/
LOCATION:Warrensburg Branch\, 432 N. Holden\, Warrensburg\, Missouri\, 64093\, United States
CATEGORIES:Children,Kids,Preschool,Storytime
END:VEVENT
BEGIN:VEVENT
DTSTART;TZID=America/New_York:20240409T103000
DTEND;TZID=America/New_York:20240409T110000
DTSTAMP:20260419T221833
CREATED:20231215T185951Z
LAST-MODIFIED:20231215T185951Z
UID:10007353-1712658600-1712660400@www.trailslibrary.org
SUMMARY:Preschool Craftime-Warrensburg
DESCRIPTION:Ages 0-5: Stay after storytime to make a themed craft with Miss Amy.
URL:https://www.trailslibrary.org/event/preschool-craftime-warrensburg-29/
LOCATION:Warrensburg Branch\, 432 N. Holden\, Warrensburg\, Missouri\, 64093\, United States
CATEGORIES:Children,Kids,Preschool
END:VEVENT
BEGIN:VEVENT
DTSTART;TZID=America/New_York:20240409T150000
DTEND;TZID=America/New_York:20240409T153000
DTSTAMP:20260419T221833
CREATED:20231215T181244Z
LAST-MODIFIED:20231215T181244Z
UID:10006062-1712674800-1712676600@www.trailslibrary.org
SUMMARY:Storytime-Knob Noster
DESCRIPTION:Ages 0-5: Bring your child for stories\, crafts\, songs and bubbles to encourage an early love of literacy!
URL:https://www.trailslibrary.org/event/storytime-knob-noster-88/
LOCATION:Knob Noster Branch\, 202 N. Adams\, Knob Noster\, MO\, 65336\, United States
CATEGORIES:Children,Kids,Preschool,Storytime
END:VEVENT
BEGIN:VEVENT
DTSTART;TZID=America/New_York:20240409T153000
DTEND;TZID=America/New_York:20240409T160000
DTSTAMP:20260419T221833
CREATED:20231215T181400Z
LAST-MODIFIED:20231215T181400Z
UID:10007184-1712676600-1712678400@www.trailslibrary.org
SUMMARY:Kid Connection-Knob Noster
DESCRIPTION:Ages 0-5: Come play\, make new friends and see all the library has to offer!
URL:https://www.trailslibrary.org/event/kid-connection-knob-noster-36/
LOCATION:Knob Noster Branch\, 202 N. Adams\, Knob Noster\, MO\, 65336\, United States
CATEGORIES:Children,Kids,Preschool
END:VEVENT
BEGIN:VEVENT
DTSTART;TZID=America/New_York:20240410T100000
DTEND;TZID=America/New_York:20240410T100000
DTSTAMP:20260419T221833
CREATED:20231215T183935Z
LAST-MODIFIED:20231215T183935Z
UID:10007285-1712743200-1712743200@www.trailslibrary.org
SUMMARY:Storytime-Odessa
DESCRIPTION:Ages 0-5:Storytimes are for building pre-reading skills\, making friends\, and having fun!
URL:https://www.trailslibrary.org/event/storytime-odessa-61/
LOCATION:Odessa Branch\, 107 W. Mason\, Odessa\, MO\, 64076\, United States
CATEGORIES:Children,Kids,Preschool,Storytime
END:VEVENT
BEGIN:VEVENT
DTSTART;TZID=America/New_York:20240410T100000
DTEND;TZID=America/New_York:20240410T103000
DTSTAMP:20260419T221833
CREATED:20231215T180826Z
LAST-MODIFIED:20231215T180826Z
UID:10007125-1712743200-1712745000@www.trailslibrary.org
SUMMARY:Storytime-Holden
DESCRIPTION:Ages 0-5: Come listen to a story at the library and do a craft.
URL:https://www.trailslibrary.org/event/storytime-holden-113/
LOCATION:Holden Branch\, 207 S. Main\, Holden\, MO\, 64040\, United States
CATEGORIES:Children,Kids,Preschool,Storytime
END:VEVENT
BEGIN:VEVENT
DTSTART;TZID=America/New_York:20240410T100000
DTEND;TZID=America/New_York:20240410T103000
DTSTAMP:20260419T221833
CREATED:20231215T181244Z
LAST-MODIFIED:20231215T181244Z
UID:10006063-1712743200-1712745000@www.trailslibrary.org
SUMMARY:Storytime-Knob Noster
DESCRIPTION:Ages 0-5: Bring your child for stories\, crafts\, songs and bubbles to encourage an early love of literacy!
URL:https://www.trailslibrary.org/event/storytime-knob-noster-89/
LOCATION:Knob Noster Branch\, 202 N. Adams\, Knob Noster\, MO\, 65336\, United States
CATEGORIES:Children,Kids,Preschool,Storytime
END:VEVENT
BEGIN:VEVENT
DTSTART;TZID=America/New_York:20240410T100000
DTEND;TZID=America/New_York:20240410T103000
DTSTAMP:20260419T221833
CREATED:20231215T182642Z
LAST-MODIFIED:20231215T182642Z
UID:10007238-1712743200-1712745000@www.trailslibrary.org
SUMMARY:Storytime-Lexington
DESCRIPTION:Ages 0-5: Bring your little ones for storytime! Each week we read\, sing\, play and learn\, all while developing early literacy skills.
URL:https://www.trailslibrary.org/event/storytime-lexington-96/
LOCATION:Lexington Branch\, 1008 Main Street\, Lexington\, MO\, 64067\, United States
CATEGORIES:Children,Kids,Preschool,Storytime
END:VEVENT
BEGIN:VEVENT
DTSTART;TZID=America/New_York:20240410T100000
DTEND;TZID=America/New_York:20240410T110000
DTSTAMP:20260419T221833
CREATED:20231215T175810Z
LAST-MODIFIED:20231215T175810Z
UID:10007111-1712743200-1712746800@www.trailslibrary.org
SUMMARY:Storytime-Corder
DESCRIPTION:Ages: 3-5: Storytimes are for building pre-reading skills\, making friends and having fun!
URL:https://www.trailslibrary.org/event/storytime-corder-102/
LOCATION:Corder Branch\, 221 N. Lafayette\, Corder\, MO\, 64021\, United States
CATEGORIES:Children,Kids,Preschool,Storytime
END:VEVENT
BEGIN:VEVENT
DTSTART;TZID=America/New_York:20240410T103000
DTEND;TZID=America/New_York:20240410T110000
DTSTAMP:20260419T221833
CREATED:20231215T180911Z
LAST-MODIFIED:20231215T180911Z
UID:10006033-1712745000-1712746800@www.trailslibrary.org
SUMMARY:Stay & Play-Holden
DESCRIPTION:Ages 0-5: Stay after storytime and play with your friends. Enjoy the library’s resources and toys.
URL:https://www.trailslibrary.org/event/stay-play-holden-24/
LOCATION:Holden Branch\, 207 S. Main\, Holden\, MO\, 64040\, United States
CATEGORIES:Children,Kids,Preschool,Storytime
END:VEVENT
BEGIN:VEVENT
DTSTART;TZID=America/New_York:20240410T103000
DTEND;TZID=America/New_York:20240410T110000
DTSTAMP:20260419T221833
CREATED:20231215T181400Z
LAST-MODIFIED:20231215T181400Z
UID:10007185-1712745000-1712746800@www.trailslibrary.org
SUMMARY:Kid Connection-Knob Noster
DESCRIPTION:Ages 0-5: Come play\, make new friends and see all the library has to offer!
URL:https://www.trailslibrary.org/event/kid-connection-knob-noster-37/
LOCATION:Knob Noster Branch\, 202 N. Adams\, Knob Noster\, MO\, 65336\, United States
CATEGORIES:Children,Kids,Preschool
END:VEVENT
END:VCALENDAR