BEGIN:VCALENDAR
VERSION:2.0
PRODID:-//Trails Regional Library - ECPv6.15.20//NONSGML v1.0//EN
CALSCALE:GREGORIAN
METHOD:PUBLISH
X-WR-CALNAME:Trails Regional Library
X-ORIGINAL-URL:https://www.trailslibrary.org
X-WR-CALDESC:Events for Trails Regional Library
REFRESH-INTERVAL;VALUE=DURATION:PT1H
X-Robots-Tag:noindex
X-PUBLISHED-TTL:PT1H
BEGIN:VTIMEZONE
TZID:America/New_York
BEGIN:DAYLIGHT
TZOFFSETFROM:-0500
TZOFFSETTO:-0400
TZNAME:EDT
DTSTART:20220313T070000
END:DAYLIGHT
BEGIN:STANDARD
TZOFFSETFROM:-0400
TZOFFSETTO:-0500
TZNAME:EST
DTSTART:20221106T060000
END:STANDARD
BEGIN:DAYLIGHT
TZOFFSETFROM:-0500
TZOFFSETTO:-0400
TZNAME:EDT
DTSTART:20230312T070000
END:DAYLIGHT
BEGIN:STANDARD
TZOFFSETFROM:-0400
TZOFFSETTO:-0500
TZNAME:EST
DTSTART:20231105T060000
END:STANDARD
BEGIN:DAYLIGHT
TZOFFSETFROM:-0500
TZOFFSETTO:-0400
TZNAME:EDT
DTSTART:20240310T070000
END:DAYLIGHT
BEGIN:STANDARD
TZOFFSETFROM:-0400
TZOFFSETTO:-0500
TZNAME:EST
DTSTART:20241103T060000
END:STANDARD
END:VTIMEZONE
BEGIN:VEVENT
DTSTART;TZID=America/New_York:20230714T110000
DTEND;TZID=America/New_York:20230714T120000
DTSTAMP:20260423T054148
CREATED:20230623T150002Z
LAST-MODIFIED:20230623T150002Z
UID:10006604-1689332400-1689336000@www.trailslibrary.org
SUMMARY:Family Lego Club
DESCRIPTION:All Ages – Bring the whole family for fun building challenges!
URL:https://www.trailslibrary.org/event/family-lego-club/
LOCATION:Knob Noster Branch\, 202 N. Adams\, Knob Noster\, MO\, 65336\, United States
CATEGORIES:Adults,All Ages,Children,Family,Kids,Movies,Teen,Teens
END:VEVENT
BEGIN:VEVENT
DTSTART;TZID=America/New_York:20230715T140000
DTEND;TZID=America/New_York:20230715T160000
DTSTAMP:20260423T054148
CREATED:20230623T150002Z
LAST-MODIFIED:20230623T150002Z
UID:10006605-1689429600-1689436800@www.trailslibrary.org
SUMMARY:Cinema Saturday
DESCRIPTION:All Ages – Come and enjoy a movie at the Library!
URL:https://www.trailslibrary.org/event/cinema-saturday/
LOCATION:Warrensburg Branch\, 432 N. Holden\, Warrensburg\, Missouri\, 64093\, United States
CATEGORIES:Adult,Adults,All Ages,Children,Family,Kids,Movie,Teens
END:VEVENT
BEGIN:VEVENT
DTSTART;TZID=America/New_York:20230717T100000
DTEND;TZID=America/New_York:20230717T103000
DTSTAMP:20260423T054148
CREATED:20230622T134427Z
LAST-MODIFIED:20230622T154349Z
UID:10006512-1689588000-1689589800@www.trailslibrary.org
SUMMARY:Story Time
DESCRIPTION:Ages 0-5 – Join us for 30 minutes of fun with a book reading and fun activities.
URL:https://www.trailslibrary.org/event/story-time-4/
LOCATION:Waverly Branch\, 203 E. Kelling\, Waverly\, MO\, 64096\, United States
CATEGORIES:Children,Kids,Preschool,Storytime
END:VEVENT
BEGIN:VEVENT
DTSTART;TZID=America/New_York:20230718T100000
DTEND;TZID=America/New_York:20230718T103000
DTSTAMP:20260423T054148
CREATED:20230622T134457Z
LAST-MODIFIED:20230622T154424Z
UID:10005406-1689674400-1689676200@www.trailslibrary.org
SUMMARY:Storytime in the stacks
DESCRIPTION:Ages 0-5 – Storytime in the Stacks: Meet up in the Children’s area for stories\, music\, dancing\, and of course\, bubbles!
URL:https://www.trailslibrary.org/event/storytime-in-the-stacks-2/
LOCATION:Warrensburg Branch\, 432 N. Holden\, Warrensburg\, Missouri\, 64093\, United States
CATEGORIES:Children,Kids,Preschool,Storytime
END:VEVENT
BEGIN:VEVENT
DTSTART;TZID=America/New_York:20230718T100000
DTEND;TZID=America/New_York:20230718T103000
DTSTAMP:20260423T054148
CREATED:20230711T205437Z
LAST-MODIFIED:20230711T205438Z
UID:10006629-1689674400-1689676200@www.trailslibrary.org
SUMMARY:Bubbly Storytime for Littles - Concordia
DESCRIPTION:Ages 0-3 – Storytimes focus on building pre-reading skills\, making friends\, and having fun! We like to finish with a bubble dance!
URL:https://www.trailslibrary.org/event/bubbly-storytime-for-littles-concordia-5/
LOCATION:Concordia Branch\, 813 S Main\, Concordia\, MO\, 64020\, United States
CATEGORIES:Children,Kids,Preschool,Storytime,Toddlers
END:VEVENT
BEGIN:VEVENT
DTSTART;TZID=America/New_York:20230719T100000
DTEND;TZID=America/New_York:20230719T103000
DTSTAMP:20260423T054148
CREATED:20230622T134327Z
LAST-MODIFIED:20230622T154241Z
UID:10006500-1689760800-1689762600@www.trailslibrary.org
SUMMARY:Storytots
DESCRIPTION:Ages 0-3 – Introduce your tot to the library through songs\, fingerplays\, and books!
URL:https://www.trailslibrary.org/event/storytots-3/
LOCATION:Knob Noster Branch\, 202 N. Adams\, Knob Noster\, MO\, 65336\, United States
CATEGORIES:Children,Kids,Preschool,Storytime
END:VEVENT
BEGIN:VEVENT
DTSTART;TZID=America/New_York:20230719T100000
DTEND;TZID=America/New_York:20230719T103000
DTSTAMP:20260423T054148
CREATED:20230623T150318Z
LAST-MODIFIED:20230623T150318Z
UID:10005524-1689760800-1689762600@www.trailslibrary.org
SUMMARY:Flower Power
DESCRIPTION:All Ages-Erin from C&M farms with be here to teach us how to properly plant flowers.  Each family will go home with their own flower plant.
URL:https://www.trailslibrary.org/event/flower-power/
LOCATION:Corder Branch\, 221 N. Lafayette\, Corder\, MO\, 64021\, United States
CATEGORIES:Adult,Adults,All Ages,Children,Family,Kids,senior,Seniors,Teen,Teens
END:VEVENT
BEGIN:VEVENT
DTSTART;TZID=America/New_York:20230719T100000
DTEND;TZID=America/New_York:20230719T103000
DTSTAMP:20260423T054148
CREATED:20230711T193830Z
LAST-MODIFIED:20230711T193831Z
UID:10006627-1689760800-1689762600@www.trailslibrary.org
SUMMARY:Crafty Storytime
DESCRIPTION:Ages 4+ – Storytime for kids who are a little older and enjoy simple crafting.
URL:https://www.trailslibrary.org/event/crafty-storytime-3/
LOCATION:Concordia Branch\, 813 S Main\, Concordia\, MO\, 64020\, United States
CATEGORIES:Children,Crafts,Kids,Preschool,Storytime,Toddlers
END:VEVENT
BEGIN:VEVENT
DTSTART;TZID=America/New_York:20230719T100000
DTEND;TZID=America/New_York:20230719T103000
DTSTAMP:20260423T054148
CREATED:20230711T194641Z
LAST-MODIFIED:20230711T194642Z
UID:10006628-1689760800-1689762600@www.trailslibrary.org
SUMMARY:Storytime - Holden
DESCRIPTION:Ages 0-5 – Storytimes focus on building pre-reading skills\, making friends\, and having fun!
URL:https://www.trailslibrary.org/event/storytime-holden-50/
LOCATION:Holden Branch\, 207 S. Main\, Holden\, MO\, 64040\, United States
CATEGORIES:Children,Kids,Preschool,Storytime,Toddlers
END:VEVENT
BEGIN:VEVENT
DTSTART;TZID=America/New_York:20230719T100000
DTEND;TZID=America/New_York:20230719T103000
DTSTAMP:20260423T054148
CREATED:20230711T205851Z
LAST-MODIFIED:20230711T205852Z
UID:10006630-1689760800-1689762600@www.trailslibrary.org
SUMMARY:Storytime-Odessa
DESCRIPTION:Storytimes focus on building pre-reading skills\, making friends\, and having fun!
URL:https://www.trailslibrary.org/event/storytime-odessa-8/
LOCATION:Odessa Branch\, 107 W. Mason\, Odessa\, MO\, 64076\, United States
CATEGORIES:Children,Kids,Preschool,Storytime,Toddlers
END:VEVENT
BEGIN:VEVENT
DTSTART;TZID=America/New_York:20230719T103000
DTEND;TZID=America/New_York:20230719T110000
DTSTAMP:20260423T054148
CREATED:20230622T134357Z
LAST-MODIFIED:20230622T154320Z
UID:10006508-1689762600-1689764400@www.trailslibrary.org
SUMMARY:Kids Connection
DESCRIPTION:Ages 0-5 – Come play\, hang out\, make new friends\, and see everything the library has to offer!
URL:https://www.trailslibrary.org/event/kids-connection-3/
LOCATION:Knob Noster Branch\, 202 N. Adams\, Knob Noster\, MO\, 65336\, United States
CATEGORIES:Children,Kids,Preschool
END:VEVENT
BEGIN:VEVENT
DTSTART;TZID=America/New_York:20230719T103000
DTEND;TZID=America/New_York:20230719T110000
DTSTAMP:20260423T054148
CREATED:20230622T134457Z
LAST-MODIFIED:20230622T154431Z
UID:10006518-1689762600-1689764400@www.trailslibrary.org
SUMMARY:Stay and Play
DESCRIPTION:Ages 0-5 – Stay and play after storytime to get your wiggles out! Have some fun\, play games\, and make new friends!
URL:https://www.trailslibrary.org/event/stay-and-play-3/
LOCATION:Lexington Branch\, 1008 Main Street\, Lexington\, MO\, 64067\, United States
CATEGORIES:Children,Kids,Preschool
END:VEVENT
BEGIN:VEVENT
DTSTART;TZID=America/New_York:20230719T110000
DTEND;TZID=America/New_York:20230719T113000
DTSTAMP:20260423T054148
CREATED:20230622T134929Z
LAST-MODIFIED:20230622T154611Z
UID:10006525-1689764400-1689766200@www.trailslibrary.org
SUMMARY:Preschool Storytime
DESCRIPTION:Ages 3+ – Bring your preschoolers for stories\, crafts\, songs and bubbles to encourage growth in literacy!
URL:https://www.trailslibrary.org/event/preschool-storytime-3/
LOCATION:Knob Noster Branch\, 202 N. Adams\, Knob Noster\, MO\, 65336\, United States
CATEGORIES:Children,Kids,Preschool,Storytime
END:VEVENT
BEGIN:VEVENT
DTSTART;TZID=America/New_York:20230719T140000
DTEND;TZID=America/New_York:20230719T150000
DTSTAMP:20260423T054148
CREATED:20230623T150102Z
LAST-MODIFIED:20230623T150102Z
UID:10006622-1689775200-1689778800@www.trailslibrary.org
SUMMARY:Chill Out!
DESCRIPTION:All Ages – Stay in and cool off! Spend some time inside and learn about the wonderful world outside.
URL:https://www.trailslibrary.org/event/chill-out-3/
LOCATION:Odessa Branch\, 107 W. Mason\, Odessa\, MO\, 64076\, United States
CATEGORIES:Adults,All Ages,Children,Family,Kids,Movies,Teen,Teens
END:VEVENT
BEGIN:VEVENT
DTSTART;TZID=America/New_York:20230719T163000
DTEND;TZID=America/New_York:20230719T173000
DTSTAMP:20260423T054148
CREATED:20230623T150032Z
LAST-MODIFIED:20230623T150032Z
UID:10006612-1689784200-1689787800@www.trailslibrary.org
SUMMARY:Libraries Got Game
DESCRIPTION:All Ages – Get BOARD at the library with your family and friends! Fun and exciting board and XL games.
URL:https://www.trailslibrary.org/event/libraries-got-game-2/
LOCATION:Warrensburg Branch\, 432 N. Holden\, Warrensburg\, Missouri\, 64093\, United States
CATEGORIES:Adults,All Ages,Children,Family,Kids,Movies,Teen,Teens
END:VEVENT
BEGIN:VEVENT
DTSTART;TZID=America/New_York:20230720T170000
DTEND;TZID=America/New_York:20230720T190000
DTSTAMP:20260423T054148
CREATED:20230623T150001Z
LAST-MODIFIED:20230623T150001Z
UID:10006603-1689872400-1689879600@www.trailslibrary.org
SUMMARY:Family Game Night
DESCRIPTION:All Ages – Bring out the whole family and enjoy time together playing board games!
URL:https://www.trailslibrary.org/event/family-game-night/
LOCATION:Knob Noster Branch\, 202 N. Adams\, Knob Noster\, MO\, 65336\, United States
CATEGORIES:Adults,All Ages,Children,Family,Kids,Movies,Teen,Teens
END:VEVENT
BEGIN:VEVENT
DTSTART;TZID=America/New_York:20230721T000000
DTEND;TZID=America/New_York:20230721T235959
DTSTAMP:20260423T054148
CREATED:20230623T150032Z
LAST-MODIFIED:20230623T150032Z
UID:10006614-1689897600-1689983999@www.trailslibrary.org
SUMMARY:Pop Up Program
DESCRIPTION:All Ages – It’s a mystery! Keep a watch on facebook and in the branch for notification of a Pop-Up eventduring this time!
URL:https://www.trailslibrary.org/event/pop-up-program/
LOCATION:Warrensburg Branch\, 432 N. Holden\, Warrensburg\, Missouri\, 64093\, United States
CATEGORIES:Adults,All Ages,Children,Family,Kids,Movies,Teen,Teens
END:VEVENT
BEGIN:VEVENT
DTSTART;TZID=America/New_York:20230722T130000
DTEND;TZID=America/New_York:20230722T140000
DTSTAMP:20260423T054148
CREATED:20230623T150103Z
LAST-MODIFIED:20230623T150103Z
UID:10006624-1690030800-1690034400@www.trailslibrary.org
SUMMARY:Family Fun Day
DESCRIPTION:All Ages – The end of the Summer Reading Program may be approaching but that doesn’t mean we have to stop celebrating teamwork and spending time together. Join us for an afternoon of fun\, collaborative games and activities.
URL:https://www.trailslibrary.org/event/family-fun-day/
LOCATION:Odessa Branch\, 107 W. Mason\, Odessa\, MO\, 64076\, United States
CATEGORIES:Adults,All Ages,Children,Family,Kids,Movies,Teen,Teens
END:VEVENT
BEGIN:VEVENT
DTSTART;TZID=America/New_York:20230724T100000
DTEND;TZID=America/New_York:20230724T103000
DTSTAMP:20260423T054148
CREATED:20230622T134427Z
LAST-MODIFIED:20230725T142714Z
UID:10006513-1690192800-1690194600@www.trailslibrary.org
SUMMARY:Story Time - Waverly
DESCRIPTION:Ages 0-5 – Join us for 30 minutes of fun with a book reading and fun activities.
URL:https://www.trailslibrary.org/event/story-time-5/
LOCATION:Waverly Branch\, 203 E. Kelling\, Waverly\, MO\, 64096\, United States
CATEGORIES:Children,Kids,Preschool,Storytime
END:VEVENT
BEGIN:VEVENT
DTSTART;TZID=America/New_York:20230724T130000
DTEND;TZID=America/New_York:20230724T140000
DTSTAMP:20260423T054148
CREATED:20230623T150303Z
LAST-MODIFIED:20230725T142509Z
UID:10005516-1690203600-1690207200@www.trailslibrary.org
SUMMARY:Jay and Leslie - Corder
DESCRIPTION:All Ages-Do you enjoy watching jugglers? So do we! Do you enjoy stories told with humor and heart? So do we! Do you like having fun at the library? So do we! Join Jay and Leslie for their 2023 summer reading program “United We Laugh”.
URL:https://www.trailslibrary.org/event/jay-and-leslie-3/
LOCATION:Corder Branch\, 221 N. Lafayette\, Corder\, MO\, 64021\, United States
CATEGORIES:Adult,Adults,All Ages,Family,Guest Speakers,Kids,Preschool,senior,Seniors,Teen,Teens
ORGANIZER;CN="Jay and Leslie":MAILTO:laughling@leslieandjay.com
END:VEVENT
BEGIN:VEVENT
DTSTART;TZID=America/New_York:20230724T150000
DTEND;TZID=America/New_York:20230724T160000
DTSTAMP:20260423T054148
CREATED:20230623T150318Z
LAST-MODIFIED:20230725T142427Z
UID:10005522-1690210800-1690214400@www.trailslibrary.org
SUMMARY:Jay and Leslie - Waverly
DESCRIPTION:All Ages-Do you enjoy watching jugglers? So do we! Do you enjoy stories told with humor and heart? So do we! Do you like having fun at the library? So do we! Join Jay and Leslie for their 2023 summer reading program “United We Laugh”.
URL:https://www.trailslibrary.org/event/jay-and-leslie-6/
LOCATION:Waverly Branch\, 203 E. Kelling\, Waverly\, MO\, 64096\, United States
CATEGORIES:Adult,Adults,All Ages,Family,Guest Speakers,Kids,Preschool,senior,Seniors,Teen,Teens
ORGANIZER;CN="Jay and Leslie":MAILTO:laughling@leslieandjay.com
END:VEVENT
BEGIN:VEVENT
DTSTART;TZID=America/New_York:20230725T090000
DTEND;TZID=America/New_York:20230725T100000
DTSTAMP:20260423T054148
CREATED:20230623T150047Z
LAST-MODIFIED:20230725T142052Z
UID:10006616-1690275600-1690279200@www.trailslibrary.org
SUMMARY:Get Hooked - Warrensburg
DESCRIPTION:All Ages – Join us to learn the art of plarning and how to turn plastic bags into sleeping mats
URL:https://www.trailslibrary.org/event/get-hooked-3/
LOCATION:Warrensburg Branch\, 432 N. Holden\, Warrensburg\, Missouri\, 64093\, United States
CATEGORIES:Adults,All Ages,Children,Family,Kids,Movies,Teen,Teens
END:VEVENT
BEGIN:VEVENT
DTSTART;TZID=America/New_York:20230725T100000
DTEND;TZID=America/New_York:20230725T103000
DTSTAMP:20260423T054148
CREATED:20230622T134512Z
LAST-MODIFIED:20230725T142029Z
UID:10005408-1690279200-1690281000@www.trailslibrary.org
SUMMARY:Storytime in the stacks - Warrensburg
DESCRIPTION:Ages 0-5 – Storytime in the Stacks: Meet up in the Children’s area for stories\, music\, dancing\, and of course\, bubbles!
URL:https://www.trailslibrary.org/event/storytime-in-the-stacks-3/
LOCATION:Warrensburg Branch\, 432 N. Holden\, Warrensburg\, Missouri\, 64093\, United States
CATEGORIES:Children,Kids,Preschool,Storytime
END:VEVENT
BEGIN:VEVENT
DTSTART;TZID=America/New_York:20230725T100000
DTEND;TZID=America/New_York:20230725T110000
DTSTAMP:20260423T054148
CREATED:20230623T150303Z
LAST-MODIFIED:20230725T141955Z
UID:10005518-1690279200-1690282800@www.trailslibrary.org
SUMMARY:Jay and Leslie - Knob Noster
DESCRIPTION:All Ages-Do you enjoy watching jugglers? So do we! Do you enjoy stories told with humor and heart? So do we! Do you like having fun at the library? So do we! Join Jay and Leslie for their 2023 summer reading program “United We Laugh”.
URL:https://www.trailslibrary.org/event/jay-and-leslie-4/
LOCATION:Knob Noster Branch\, 202 N. Adams\, Knob Noster\, MO\, 65336\, United States
CATEGORIES:Adult,Adults,All Ages,Family,Guest Speakers,Kids,Preschool,senior,Seniors,Teen,Teens
END:VEVENT
BEGIN:VEVENT
DTSTART;TZID=America/New_York:20230725T130000
DTEND;TZID=America/New_York:20230725T140000
DTSTAMP:20260423T054148
CREATED:20230720T180851Z
LAST-MODIFIED:20230724T194232Z
UID:10006632-1690290000-1690293600@www.trailslibrary.org
SUMMARY:Jay and Leslie - Leeton Branch
DESCRIPTION:All Ages-Do you enjoy watching jugglers? So do we! Do you enjoy stories told with humor and heart? So do we! Do you like having fun at the library? So do we! Join Jay and Leslie for their 2023 summer reading program “United We Laugh”.
URL:https://www.trailslibrary.org/event/jay-and-leslie-concordia-branch/
LOCATION:Leeton Express Branch\, 500 N. Main\, Leeton\, MO\, 64761\, United States
CATEGORIES:Adult,Adults,All Ages,Children,Family,Kids,Music,Performers,Pre-Teen,Pre-Teens,Preschool,Preteen,preteens,senior,Seniors,Teen,Teens,Toddlers,Youth
ORGANIZER;CN="Jay and Leslie":MAILTO:laughling@leslieandjay.com
END:VEVENT
BEGIN:VEVENT
DTSTART;TZID=America/New_York:20230725T170000
DTEND;TZID=America/New_York:20230725T180000
DTSTAMP:20260423T054148
CREATED:20230623T150047Z
LAST-MODIFIED:20230725T141805Z
UID:10006617-1690304400-1690308000@www.trailslibrary.org
SUMMARY:Get Hooked - Warrensburg
DESCRIPTION:All Ages – Join us to learn the art of plarning and how to turn plastic bags into sleeping mats
URL:https://www.trailslibrary.org/event/get-hooked-4/
LOCATION:Warrensburg Branch\, 432 N. Holden\, Warrensburg\, Missouri\, 64093\, United States
CATEGORIES:Adults,All Ages,Children,Family,Kids,Movies,Teen,Teens
END:VEVENT
BEGIN:VEVENT
DTSTART;TZID=America/New_York:20230726T100000
DTEND;TZID=America/New_York:20230726T103000
DTSTAMP:20260423T054148
CREATED:20230622T134512Z
LAST-MODIFIED:20230725T141619Z
UID:10006503-1690365600-1690367400@www.trailslibrary.org
SUMMARY:Storytime - Odessa
DESCRIPTION:Ages 0-5 – Storytimes focus on building pre-reading skills\, making friends\, and having fun!
URL:https://www.trailslibrary.org/event/storytime-2/
LOCATION:Odessa Branch\, 107 W. Mason\, Odessa\, MO\, 64076\, United States
CATEGORIES:Children,Kids,Preschool,Storytime
END:VEVENT
BEGIN:VEVENT
DTSTART;TZID=America/New_York:20230726T100000
DTEND;TZID=America/New_York:20230726T103000
DTSTAMP:20260423T054148
CREATED:20230623T150002Z
LAST-MODIFIED:20230725T141601Z
UID:10006606-1690365600-1690367400@www.trailslibrary.org
SUMMARY:Jay and Leslie - Holden
DESCRIPTION:All Ages – Come celebrate Summer Reading with this comedic duo. There will be juggling\, stories and laughs galore.
URL:https://www.trailslibrary.org/event/jay-and-leslie/
LOCATION:Holden Branch\, 207 S. Main\, Holden\, MO\, 64040\, United States
CATEGORIES:All Ages,Children,Family,Guest Speaker,Kids,Preschool
ORGANIZER;CN="Jay and Leslie":MAILTO:laughling@leslieandjay.com
END:VEVENT
BEGIN:VEVENT
DTSTART;TZID=America/New_York:20230726T100000
DTEND;TZID=America/New_York:20230726T110000
DTSTAMP:20260423T054148
CREATED:20230622T134327Z
LAST-MODIFIED:20230725T141536Z
UID:10006501-1690365600-1690369200@www.trailslibrary.org
SUMMARY:Storytots - Knob Noster
DESCRIPTION:Ages 0-3 – Introduce your tot to the library through songs\, fingerplays\, and books!
URL:https://www.trailslibrary.org/event/storytots-4/
LOCATION:Knob Noster Branch\, 202 N. Adams\, Knob Noster\, MO\, 65336\, United States
CATEGORIES:Children,Kids,Preschool,Storytime
END:VEVENT
BEGIN:VEVENT
DTSTART;TZID=America/New_York:20230726T100000
DTEND;TZID=America/New_York:20230726T110000
DTSTAMP:20260423T054148
CREATED:20230623T150302Z
LAST-MODIFIED:20230725T141515Z
UID:10005512-1690365600-1690369200@www.trailslibrary.org
SUMMARY:Field Day - Corder
DESCRIPTION:All Ages- Join us as we celebrate the end of the summer reading program with a field day. We will have snacks and field day games for the whole family to enjoy!
URL:https://www.trailslibrary.org/event/field-day/
LOCATION:Corder Branch\, 221 N. Lafayette\, Corder\, MO\, 64021\, United States
CATEGORIES:All Ages,Children,Family,Kids,Pre-Teen,Pre-Teens,Teen,Teens
END:VEVENT
END:VCALENDAR