BEGIN:VCALENDAR
VERSION:2.0
PRODID:-//Trails Regional Library - ECPv6.15.20//NONSGML v1.0//EN
CALSCALE:GREGORIAN
METHOD:PUBLISH
X-WR-CALNAME:Trails Regional Library
X-ORIGINAL-URL:https://www.trailslibrary.org
X-WR-CALDESC:Events for Trails Regional Library
REFRESH-INTERVAL;VALUE=DURATION:PT1H
X-Robots-Tag:noindex
X-PUBLISHED-TTL:PT1H
BEGIN:VTIMEZONE
TZID:America/New_York
BEGIN:DAYLIGHT
TZOFFSETFROM:-0500
TZOFFSETTO:-0400
TZNAME:EDT
DTSTART:20220313T070000
END:DAYLIGHT
BEGIN:STANDARD
TZOFFSETFROM:-0400
TZOFFSETTO:-0500
TZNAME:EST
DTSTART:20221106T060000
END:STANDARD
BEGIN:DAYLIGHT
TZOFFSETFROM:-0500
TZOFFSETTO:-0400
TZNAME:EDT
DTSTART:20230312T070000
END:DAYLIGHT
BEGIN:STANDARD
TZOFFSETFROM:-0400
TZOFFSETTO:-0500
TZNAME:EST
DTSTART:20231105T060000
END:STANDARD
BEGIN:DAYLIGHT
TZOFFSETFROM:-0500
TZOFFSETTO:-0400
TZNAME:EDT
DTSTART:20240310T070000
END:DAYLIGHT
BEGIN:STANDARD
TZOFFSETFROM:-0400
TZOFFSETTO:-0500
TZNAME:EST
DTSTART:20241103T060000
END:STANDARD
END:VTIMEZONE
BEGIN:VEVENT
DTSTART;TZID=America/New_York:20230727T100000
DTEND;TZID=America/New_York:20230727T110000
DTSTAMP:20260423T041327
CREATED:20230623T150017Z
LAST-MODIFIED:20230623T150017Z
UID:10006609-1690452000-1690455600@www.trailslibrary.org
SUMMARY:Jay and Leslie
DESCRIPTION:All Ages – Do you enjoy watching jugglers? So do we! Do you enjoy stories told with humor and heart? So do we! Do you like having fun at the library? So do we! Join Jay and Leslie for their 2023 summer reading program “United We Laugh!”
URL:https://www.trailslibrary.org/event/jay-and-leslie-2/
LOCATION:Odessa Branch\, 107 W. Mason\, Odessa\, MO\, 64076\, United States
CATEGORIES:Adult,Adults,All Ages,Family,Guest Speakers,Kids,Preschool,senior,Seniors,Teen,Teens
END:VEVENT
BEGIN:VEVENT
DTSTART;TZID=America/New_York:20230727T130000
DTEND;TZID=America/New_York:20230727T140000
DTSTAMP:20260423T041327
CREATED:20230623T150018Z
LAST-MODIFIED:20230725T141119Z
UID:10006610-1690462800-1690466400@www.trailslibrary.org
SUMMARY:Jay & Leslie - Lexington
DESCRIPTION:All Ages – Do you enjoy watching jugglers? So do we! Do you enjoy stories told with humor and heart? So do we! Do you like having fun at the library? So do we! Join Jay and Leslie for their 2023 summer reading program “United We Laugh”.
URL:https://www.trailslibrary.org/event/jay-leslie/
LOCATION:Lexington Branch\, 1008 Main Street\, Lexington\, MO\, 64067\, United States
CATEGORIES:Adult,Adults,All Ages,Family,Guest Speakers,Kids,Preschool,senior,Seniors,Teen,Teens
END:VEVENT
BEGIN:VEVENT
DTSTART;TZID=America/New_York:20230728T150000
DTEND;TZID=America/New_York:20230728T170000
DTSTAMP:20260423T041327
CREATED:20230623T150319Z
LAST-MODIFIED:20230725T141039Z
UID:10005526-1690556400-1690563600@www.trailslibrary.org
SUMMARY:Feature Friday - Odessa
DESCRIPTION:All Ages-Join us for our family movie. We provide the popcorn\, you supply your favorite drink.
URL:https://www.trailslibrary.org/event/feature-friday/
LOCATION:Odessa Branch\, 107 W. Mason\, Odessa\, MO\, 64076\, United States
CATEGORIES:Adult,Adults,All Ages,Children,Family,Kids,Movie,Teens
END:VEVENT
BEGIN:VEVENT
DTSTART;TZID=America/New_York:20230731T100000
DTEND;TZID=America/New_York:20230731T103000
DTSTAMP:20260423T041327
CREATED:20230622T134427Z
LAST-MODIFIED:20230725T141015Z
UID:10006514-1690797600-1690799400@www.trailslibrary.org
SUMMARY:Story Time - Waverly
DESCRIPTION:Ages 0-5 – Join us for 30 minutes of fun with a book reading and fun activities.
URL:https://www.trailslibrary.org/event/story-time/
LOCATION:Waverly Branch\, 203 E. Kelling\, Waverly\, MO\, 64096\, United States
CATEGORIES:Children,Kids,Preschool,Storytime
END:VEVENT
BEGIN:VEVENT
DTSTART;TZID=America/New_York:20230731T140000
DTEND;TZID=America/New_York:20230731T160000
DTSTAMP:20260423T041327
CREATED:20230623T150302Z
LAST-MODIFIED:20230725T140954Z
UID:10005514-1690812000-1690819200@www.trailslibrary.org
SUMMARY:Monday Matinee - Waverly
DESCRIPTION:All Ages- Monday Matinee at the Library! Bring a friend and enjoy movie and popcorn.
URL:https://www.trailslibrary.org/event/monday-matinee/
LOCATION:Waverly Branch\, 203 E. Kelling\, Waverly\, MO\, 64096\, United States
CATEGORIES:Adult,Adults,All Ages,Children,Family,Kids,Movie,Teens
END:VEVENT
BEGIN:VEVENT
DTSTART;TZID=America/New_York:20230801T100000
DTEND;TZID=America/New_York:20230801T103000
DTSTAMP:20260423T041327
CREATED:20230622T161312Z
LAST-MODIFIED:20230725T140936Z
UID:10006540-1690884000-1690885800@www.trailslibrary.org
SUMMARY:Bubbly Storytime - Concordia
DESCRIPTION:Ages 0-3 – Storytimes focus on building pre-reading skills\, making friends\, and having fun! We like to finish with a bubble dance!
URL:https://www.trailslibrary.org/event/bubbly-storytime-concordia/
LOCATION:Concordia Branch\, 813 S Main\, Concordia\, MO\, 64020\, United States
CATEGORIES:Children,Kids,Preschool,Storytime
END:VEVENT
BEGIN:VEVENT
DTSTART;TZID=America/New_York:20230801T100000
DTEND;TZID=America/New_York:20230801T103000
DTSTAMP:20260423T041327
CREATED:20230622T162742Z
LAST-MODIFIED:20230622T162742Z
UID:10006587-1690884000-1690885800@www.trailslibrary.org
SUMMARY:Storytime in the Stacks - Warrensburg
DESCRIPTION:Ages 0-5 – Storytime in the Stacks: Meet up in the Children’s area for stories\, music\, dancing\, and of course\, bubbles!
URL:https://www.trailslibrary.org/event/storytime-in-the-stacks-warrensburg-13/
LOCATION:MO
CATEGORIES:Children,Kids,Preschool,Storytime
END:VEVENT
BEGIN:VEVENT
DTSTART;TZID=America/New_York:20230802T100000
DTEND;TZID=America/New_York:20230802T103000
DTSTAMP:20260423T041327
CREATED:20230622T161536Z
LAST-MODIFIED:20230622T161536Z
UID:10006556-1690970400-1690972200@www.trailslibrary.org
SUMMARY:Storytots - Knob Noster
DESCRIPTION:Ages 0-3 – Introduce your tot to the library through songs\, fingerplays\, and books!
URL:https://www.trailslibrary.org/event/storytots-knob-noster-19/
LOCATION:MO
CATEGORIES:Children,Kids,Preschool,Storytime
END:VEVENT
BEGIN:VEVENT
DTSTART;TZID=America/New_York:20230802T103000
DTEND;TZID=America/New_York:20230802T110000
DTSTAMP:20260423T041327
CREATED:20230622T161522Z
LAST-MODIFIED:20230622T161522Z
UID:10006551-1690972200-1690974000@www.trailslibrary.org
SUMMARY:Kids Connection - Knob Noster
DESCRIPTION:Ages 0-5 – Kiddos! Come play and hang out\, make new friends\, and see all the library has to offer!
URL:https://www.trailslibrary.org/event/kids-connection-knob-noster-5/
LOCATION:MO
CATEGORIES:Children,Kids,Preschool
END:VEVENT
BEGIN:VEVENT
DTSTART;TZID=America/New_York:20230802T110000
DTEND;TZID=America/New_York:20230802T113000
DTSTAMP:20260423T041327
CREATED:20230622T161536Z
LAST-MODIFIED:20230622T161536Z
UID:10006554-1690974000-1690975800@www.trailslibrary.org
SUMMARY:Preschool Storytime - Knob Noster
DESCRIPTION:Ages 3+ – Bring your preschoolers for stories\, crafts\, songs and bubbles to encourage growth in literacy!
URL:https://www.trailslibrary.org/event/preschool-storytime-knob-noster-21/
LOCATION:MO
CATEGORIES:Children,Kids,Preschool,Storytime
END:VEVENT
BEGIN:VEVENT
DTSTART;TZID=America/New_York:20230807T100000
DTEND;TZID=America/New_York:20230807T103000
DTSTAMP:20260423T041327
CREATED:20230622T162943Z
LAST-MODIFIED:20230622T162943Z
UID:10006593-1691402400-1691404200@www.trailslibrary.org
SUMMARY:Story Time - Waverly
DESCRIPTION:Ages 0-5 – Join us for 30 minutes of fun with a book reading and fun activities.
URL:https://www.trailslibrary.org/event/story-time-waverly/
LOCATION:MO
CATEGORIES:Children,Kids,Preschool,Storytime
END:VEVENT
BEGIN:VEVENT
DTSTART;TZID=America/New_York:20230808T100000
DTEND;TZID=America/New_York:20230808T103000
DTSTAMP:20260423T041327
CREATED:20230622T161312Z
LAST-MODIFIED:20230725T140913Z
UID:10006541-1691488800-1691490600@www.trailslibrary.org
SUMMARY:Bubbly Storytime - Concordia
DESCRIPTION:Ages 0-3 – Storytimes focus on building pre-reading skills\, making friends\, and having fun! We like to finish with a bubble dance!
URL:https://www.trailslibrary.org/event/bubbly-storytime-concordia-2/
LOCATION:Concordia Branch\, 813 S Main\, Concordia\, MO\, 64020\, United States
CATEGORIES:Children,Kids,Preschool,Storytime
END:VEVENT
BEGIN:VEVENT
DTSTART;TZID=America/New_York:20230808T100000
DTEND;TZID=America/New_York:20230808T103000
DTSTAMP:20260423T041327
CREATED:20230622T162942Z
LAST-MODIFIED:20230622T162942Z
UID:10006589-1691488800-1691490600@www.trailslibrary.org
SUMMARY:Storytime in the Stacks - Warrensburg
DESCRIPTION:Ages 0-5 – Storytime in the Stacks: Meet up in the Children’s area for stories\, music\, dancing\, and of course\, bubbles!
URL:https://www.trailslibrary.org/event/storytime-in-the-stacks-warrensburg-14/
LOCATION:MO
CATEGORIES:Children,Kids,Preschool,Storytime
END:VEVENT
BEGIN:VEVENT
DTSTART;TZID=America/New_York:20230809T100000
DTEND;TZID=America/New_York:20230809T103000
DTSTAMP:20260423T041327
CREATED:20230622T161537Z
LAST-MODIFIED:20230622T161537Z
UID:10006557-1691575200-1691577000@www.trailslibrary.org
SUMMARY:Storytots - Knob Noster
DESCRIPTION:Ages 0-3 – Introduce your tot to the library through songs\, fingerplays\, and books!
URL:https://www.trailslibrary.org/event/storytots-knob-noster-20/
LOCATION:MO
CATEGORIES:Children,Kids,Preschool,Storytime
END:VEVENT
BEGIN:VEVENT
DTSTART;TZID=America/New_York:20230809T103000
DTEND;TZID=America/New_York:20230809T110000
DTSTAMP:20260423T041327
CREATED:20230622T161522Z
LAST-MODIFIED:20230622T161522Z
UID:10006552-1691577000-1691578800@www.trailslibrary.org
SUMMARY:Kids Connection - Knob Noster
DESCRIPTION:Ages 0-5 – Kiddos! Come play and hang out\, make new friends\, and see all the library has to offer!
URL:https://www.trailslibrary.org/event/kids-connection-knob-noster-6/
LOCATION:MO
CATEGORIES:Children,Kids,Preschool
END:VEVENT
BEGIN:VEVENT
DTSTART;TZID=America/New_York:20230809T110000
DTEND;TZID=America/New_York:20230809T113000
DTSTAMP:20260423T041327
CREATED:20230622T161536Z
LAST-MODIFIED:20230622T161536Z
UID:10006555-1691578800-1691580600@www.trailslibrary.org
SUMMARY:Preschool Storytime - Knob Noster
DESCRIPTION:Ages 3+ – Bring your preschoolers for stories\, crafts\, songs and bubbles to encourage growth in literacy!
URL:https://www.trailslibrary.org/event/preschool-storytime-knob-noster-22/
LOCATION:MO
CATEGORIES:Children,Kids,Preschool,Storytime
END:VEVENT
BEGIN:VEVENT
DTSTART;TZID=America/New_York:20230812T100000
DTEND;TZID=America/New_York:20230812T103000
DTSTAMP:20260423T041327
CREATED:20230622T161314Z
LAST-MODIFIED:20230725T223510Z
UID:10006546-1691834400-1691836200@www.trailslibrary.org
SUMMARY:Second Saturdays - Concordia
DESCRIPTION:All Ages – Join us for an old-fashioned Saturday morning. We eat pancakes and watch cartoons with friends!
URL:https://www.trailslibrary.org/event/second-saturdays-concordia/
LOCATION:Concordia Branch\, 813 S Main\, Concordia\, MO\, 64020\, United States
CATEGORIES:Children,Kids,Preschool,Storytime
END:VEVENT
BEGIN:VEVENT
DTSTART;TZID=America/New_York:20230812T100000
DTEND;TZID=America/New_York:20230812T110000
DTSTAMP:20260423T041327
CREATED:20230622T161736Z
LAST-MODIFIED:20230622T161736Z
UID:10006561-1691834400-1691838000@www.trailslibrary.org
SUMMARY:Saturday Morning Storytime - Leeton
DESCRIPTION:Ages 0-5 – Back to School is around the Corner… lets celebrate school with a story and craft!
URL:https://www.trailslibrary.org/event/saturday-morning-storytime-leeton-2/
LOCATION:MO
CATEGORIES:Children,Kids,Preschool,Storytime
END:VEVENT
BEGIN:VEVENT
DTSTART;TZID=America/New_York:20230814T100000
DTEND;TZID=America/New_York:20230814T103000
DTSTAMP:20260423T041327
CREATED:20230622T170028Z
LAST-MODIFIED:20230622T170028Z
UID:10006594-1692007200-1692009000@www.trailslibrary.org
SUMMARY:Story Time - Waverly
DESCRIPTION:Ages 0-5 – Join us for 30 minutes of fun with a book reading and fun activities.
URL:https://www.trailslibrary.org/event/story-time-waverly-2/
LOCATION:MO
CATEGORIES:Children,Kids,Preschool,Storytime
END:VEVENT
BEGIN:VEVENT
DTSTART;TZID=America/New_York:20230815T100000
DTEND;TZID=America/New_York:20230815T103000
DTSTAMP:20260423T041327
CREATED:20230622T161312Z
LAST-MODIFIED:20230725T140758Z
UID:10006542-1692093600-1692095400@www.trailslibrary.org
SUMMARY:Bubbly Storytime - Concordia
DESCRIPTION:Ages 0-3 – Storytimes focus on building pre-reading skills\, making friends\, and having fun! We like to finish with a bubble dance!
URL:https://www.trailslibrary.org/event/bubbly-storytime-concordia-3/
LOCATION:Concordia Branch\, 813 S Main\, Concordia\, MO\, 64020\, United States
CATEGORIES:Children,Kids,Preschool,Storytime
END:VEVENT
BEGIN:VEVENT
DTSTART;TZID=America/New_York:20230815T100000
DTEND;TZID=America/New_York:20230815T103000
DTSTAMP:20260423T041327
CREATED:20230622T162943Z
LAST-MODIFIED:20230622T162943Z
UID:10006590-1692093600-1692095400@www.trailslibrary.org
SUMMARY:Storytime in the Stacks - Warrensburg
DESCRIPTION:Ages 0-5 – Storytime in the Stacks: Meet up in the Children’s area for stories\, music\, dancing\, and of course\, bubbles!
URL:https://www.trailslibrary.org/event/storytime-in-the-stacks-warrensburg-15/
LOCATION:MO
CATEGORIES:Children,Kids,Preschool,Storytime
END:VEVENT
BEGIN:VEVENT
DTSTART;TZID=America/New_York:20230821T100000
DTEND;TZID=America/New_York:20230821T100000
DTSTAMP:20260423T041327
CREATED:20230622T170028Z
LAST-MODIFIED:20230622T170028Z
UID:10006595-1692612000-1692612000@www.trailslibrary.org
SUMMARY:Story Time - Waverly
DESCRIPTION:Ages 0-5 – Join us for 30 minutes of fun with a book reading and fun activities.
URL:https://www.trailslibrary.org/event/story-time-waverly-3/
LOCATION:MO
CATEGORIES:Children,Kids,Preschool,Storytime
END:VEVENT
BEGIN:VEVENT
DTSTART;TZID=America/New_York:20230822T100000
DTEND;TZID=America/New_York:20230822T103000
DTSTAMP:20260423T041327
CREATED:20230622T161312Z
LAST-MODIFIED:20230725T140644Z
UID:10006543-1692698400-1692700200@www.trailslibrary.org
SUMMARY:Bubbly Storytime - Concordia
DESCRIPTION:Ages 0-3 – Storytimes focus on building pre-reading skills\, making friends\, and having fun! We like to finish with a bubble dance!
URL:https://www.trailslibrary.org/event/bubbly-storytime-concordia-4/
LOCATION:Concordia Branch\, 813 S Main\, Concordia\, MO\, 64020\, United States
CATEGORIES:Children,Kids,Preschool,Storytime
END:VEVENT
BEGIN:VEVENT
DTSTART;TZID=America/New_York:20230823T100000
DTEND;TZID=America/New_York:20230823T100000
DTSTAMP:20260423T041327
CREATED:20230622T161923Z
LAST-MODIFIED:20230622T161923Z
UID:10006572-1692784800-1692784800@www.trailslibrary.org
SUMMARY:Storytime - Lexington
DESCRIPTION:Ages 0-5 – Bring your little ones for singing\, dancing\, and stories. For more fun\, bring a friend.
URL:https://www.trailslibrary.org/event/storytime-lexington-28/
LOCATION:MO
CATEGORIES:Children,Kids,Preschool,Storytime
END:VEVENT
BEGIN:VEVENT
DTSTART;TZID=America/New_York:20230823T103000
DTEND;TZID=America/New_York:20230823T110000
DTSTAMP:20260423T041327
CREATED:20230622T161922Z
LAST-MODIFIED:20230622T161922Z
UID:10006570-1692786600-1692788400@www.trailslibrary.org
SUMMARY:Stay and Play - Lexington
DESCRIPTION:Ages 0-5 – Stay and play after storytime to get your wiggles out! Have some fun\, play games\, and make new friends!
URL:https://www.trailslibrary.org/event/stay-and-play-lexington-5/
LOCATION:MO
CATEGORIES:Children,Kids,Preschool
END:VEVENT
BEGIN:VEVENT
DTSTART;TZID=America/New_York:20230828T100000
DTEND;TZID=America/New_York:20230828T103000
DTSTAMP:20260423T041327
CREATED:20230622T170029Z
LAST-MODIFIED:20230622T170029Z
UID:10006596-1693216800-1693218600@www.trailslibrary.org
SUMMARY:Story Time - Waverly
DESCRIPTION:Ages 0-5 – Join us for 30 minutes of fun with a book reading and fun activities.
URL:https://www.trailslibrary.org/event/story-time-waverly-4/
LOCATION:MO
CATEGORIES:Children,Kids,Preschool,Storytime
END:VEVENT
BEGIN:VEVENT
DTSTART;TZID=America/New_York:20230829T100000
DTEND;TZID=America/New_York:20230829T103000
DTSTAMP:20260423T041327
CREATED:20230622T161314Z
LAST-MODIFIED:20230725T140538Z
UID:10006544-1693303200-1693305000@www.trailslibrary.org
SUMMARY:Bubbly Storytime - Concordia
DESCRIPTION:Ages 0-3 – Storytimes focus on building pre-reading skills\, making friends\, and having fun! We like to finish with a bubble dance!
URL:https://www.trailslibrary.org/event/bubbly-storytime-concordia-5/
LOCATION:Concordia Branch\, 813 S Main\, Concordia\, MO\, 64020\, United States
CATEGORIES:Children,Kids,Preschool,Storytime
END:VEVENT
BEGIN:VEVENT
DTSTART;TZID=America/New_York:20230830T100000
DTEND;TZID=America/New_York:20230830T103000
DTSTAMP:20260423T041327
CREATED:20230622T161923Z
LAST-MODIFIED:20230622T161923Z
UID:10006573-1693389600-1693391400@www.trailslibrary.org
SUMMARY:Storytime - Lexington
DESCRIPTION:Ages 0-5 – Bring your little ones for singing\, dancing\, and stories. For more fun\, bring a friend.
URL:https://www.trailslibrary.org/event/storytime-lexington-66/
LOCATION:MO
CATEGORIES:Children,Kids,Preschool,Storytime
END:VEVENT
BEGIN:VEVENT
DTSTART;TZID=America/New_York:20230830T103000
DTEND;TZID=America/New_York:20230830T110000
DTSTAMP:20260423T041327
CREATED:20230622T161923Z
LAST-MODIFIED:20230622T161923Z
UID:10006571-1693391400-1693393200@www.trailslibrary.org
SUMMARY:Stay and Play - Lexington
DESCRIPTION:Ages 0-5 – Stay and play after storytime to get your wiggles out! Have some fun\, play games\, and make new friends!
URL:https://www.trailslibrary.org/event/stay-and-play-lexington-6/
LOCATION:MO
CATEGORIES:Children,Kids,Preschool
END:VEVENT
BEGIN:VEVENT
DTSTART;TZID=America/New_York:20230902T100000
DTEND;TZID=America/New_York:20230902T110000
DTSTAMP:20260423T041327
CREATED:20230818T201041Z
LAST-MODIFIED:20230818T201041Z
UID:10006734-1693648800-1693652400@www.trailslibrary.org
SUMMARY:Saturday Storytime & Craft - Leeton Express Branch
DESCRIPTION:All Ages: Join us on the 1st Saturday of the month at 10 AM for Storytime
URL:https://www.trailslibrary.org/event/saturday-storytime-craft-leeton-express-branch/
LOCATION:Leeton Express Branch\, 500 N. Main\, Leeton\, MO\, 64761\, United States
CATEGORIES:Children,Kids,Preschool,Storytime
END:VEVENT
END:VCALENDAR