BEGIN:VCALENDAR
VERSION:2.0
PRODID:-//Trails Regional Library - ECPv6.15.20//NONSGML v1.0//EN
CALSCALE:GREGORIAN
METHOD:PUBLISH
X-WR-CALNAME:Trails Regional Library
X-ORIGINAL-URL:https://www.trailslibrary.org
X-WR-CALDESC:Events for Trails Regional Library
REFRESH-INTERVAL;VALUE=DURATION:PT1H
X-Robots-Tag:noindex
X-PUBLISHED-TTL:PT1H
BEGIN:VTIMEZONE
TZID:America/New_York
BEGIN:DAYLIGHT
TZOFFSETFROM:-0500
TZOFFSETTO:-0400
TZNAME:EDT
DTSTART:20230312T070000
END:DAYLIGHT
BEGIN:STANDARD
TZOFFSETFROM:-0400
TZOFFSETTO:-0500
TZNAME:EST
DTSTART:20231105T060000
END:STANDARD
BEGIN:DAYLIGHT
TZOFFSETFROM:-0500
TZOFFSETTO:-0400
TZNAME:EDT
DTSTART:20240310T070000
END:DAYLIGHT
BEGIN:STANDARD
TZOFFSETFROM:-0400
TZOFFSETTO:-0500
TZNAME:EST
DTSTART:20241103T060000
END:STANDARD
BEGIN:DAYLIGHT
TZOFFSETFROM:-0500
TZOFFSETTO:-0400
TZNAME:EDT
DTSTART:20250309T070000
END:DAYLIGHT
BEGIN:STANDARD
TZOFFSETFROM:-0400
TZOFFSETTO:-0500
TZNAME:EST
DTSTART:20251102T060000
END:STANDARD
END:VTIMEZONE
BEGIN:VEVENT
DTSTART;TZID=America/New_York:20240113T100000
DTEND;TZID=America/New_York:20240113T110000
DTSTAMP:20260420T205355
CREATED:20231215T190605Z
LAST-MODIFIED:20231215T190605Z
UID:10006342-1705140000-1705143600@www.trailslibrary.org
SUMMARY:Flapjacks & Funnies-Warrensburg
DESCRIPTION:All Ages: Join us for classic cartoons and a bite of breakfast.
URL:https://www.trailslibrary.org/event/flapjacks-funnies-warrensburg/
LOCATION:Warrensburg Branch\, 432 N. Holden\, Warrensburg\, Missouri\, 64093\, United States
CATEGORIES:Adult,Adults,All Ages,Children,Family,Kids,Movie,preteens,senior,Seniors,Teen,Teens,Youth
END:VEVENT
BEGIN:VEVENT
DTSTART;TZID=America/New_York:20240113T100000
DTEND;TZID=America/New_York:20240113T113000
DTSTAMP:20260420T205355
CREATED:20231215T174809Z
LAST-MODIFIED:20231215T174809Z
UID:10007092-1705140000-1705145400@www.trailslibrary.org
SUMMARY:Cartoons and Pancakes-Concordia
DESCRIPTION:All Ages: Join us for an old-fashioned Saturday morning. We eat pancakes and watch cartoons with friends!
URL:https://www.trailslibrary.org/event/cartoons-and-pancakes-concordia/
LOCATION:Concordia Branch\, 813 S Main\, Concordia\, MO\, 64020\, United States
CATEGORIES:Adult,Adults,All Ages,Children,Family,Kids,Movie,preteens,senior,Seniors,Teen,Teens,Youth
END:VEVENT
BEGIN:VEVENT
DTSTART;TZID=America/New_York:20240116T100000
DTEND;TZID=America/New_York:20240116T103000
DTSTAMP:20260420T205355
CREATED:20231215T190005Z
LAST-MODIFIED:20231215T190005Z
UID:10007357-1705399200-1705401000@www.trailslibrary.org
SUMMARY:Preschool Storytime-Warrensburg
DESCRIPTION:Ages 0-5: Storytime: Meet up for stories\, music\, dancing\, and of course\, bubbles!
URL:https://www.trailslibrary.org/event/preschool-storytime-warrensburg-53/
LOCATION:Warrensburg Branch\, 432 N. Holden\, Warrensburg\, Missouri\, 64093\, United States
CATEGORIES:Children,Kids,Preschool,Storytime
END:VEVENT
BEGIN:VEVENT
DTSTART;TZID=America/New_York:20240116T103000
DTEND;TZID=America/New_York:20240116T110000
DTSTAMP:20260420T205355
CREATED:20231215T185920Z
LAST-MODIFIED:20231215T185920Z
UID:10007341-1705401000-1705402800@www.trailslibrary.org
SUMMARY:Preschool Craftime-Warrensburg
DESCRIPTION:Ages 0-5: Stay after storytime to make a themed craft with Miss Amy.
URL:https://www.trailslibrary.org/event/preschool-craftime-warrensburg-17/
LOCATION:Warrensburg Branch\, 432 N. Holden\, Warrensburg\, Missouri\, 64093\, United States
CATEGORIES:Children,Kids,Preschool
END:VEVENT
BEGIN:VEVENT
DTSTART;TZID=America/New_York:20240117T163000
DTEND;TZID=America/New_York:20240117T183000
DTSTAMP:20260420T205355
CREATED:20231215T190436Z
LAST-MODIFIED:20231215T191531Z
UID:10007418-1705509000-1705516200@www.trailslibrary.org
SUMMARY:Libraries Got Game-Warrensburg
DESCRIPTION:All Ages: Get BOARD at the library with your family and friends! Fun and exciting board and XL games.
URL:https://www.trailslibrary.org/event/libraries-got-game-warrensburg-44/
LOCATION:Warrensburg Branch\, 432 N. Holden\, Warrensburg\, Missouri\, 64093\, United States
CATEGORIES:Adult,Adults,All Ages,Children,Family,Kids,preteens,senior,Seniors,Teen,Teens,Youth
END:VEVENT
BEGIN:VEVENT
DTSTART;TZID=America/New_York:20240118T100000
DTEND;TZID=America/New_York:20240118T103000
DTSTAMP:20260420T205355
CREATED:20231215T185804Z
LAST-MODIFIED:20231215T185804Z
UID:10007321-1705572000-1705573800@www.trailslibrary.org
SUMMARY:Music & Movement-Warrensburg
DESCRIPTION:Ages 0-5: Join us to get your wiggles out with singing and dancing. Children will use a variety of musical instruments to increase sensory development\, coordination\, literacy & numeracy skills
URL:https://www.trailslibrary.org/event/music-movement-warrensburg-17/
LOCATION:Warrensburg Branch\, 432 N. Holden\, Warrensburg\, Missouri\, 64093\, United States
CATEGORIES:Children,Kids,Preschool
END:VEVENT
BEGIN:VEVENT
DTSTART;TZID=America/New_York:20240118T103000
DTEND;TZID=America/New_York:20240118T110000
DTSTAMP:20260420T205355
CREATED:20231215T185835Z
LAST-MODIFIED:20231215T185835Z
UID:10006232-1705573800-1705575600@www.trailslibrary.org
SUMMARY:Stay Play and Learn-Warrensburg
DESCRIPTION:Ages 0-5: Stay after Music and Moverment to play and learn with your friends. Activities will focus on improving language\, fine and gross motor skills\, develop social skills and aid with cognitive development.
URL:https://www.trailslibrary.org/event/stay-play-and-learn-warrensburg-17/
LOCATION:Warrensburg Branch\, 432 N. Holden\, Warrensburg\, Missouri\, 64093\, United States
CATEGORIES:Children,Kids,Preschool
END:VEVENT
BEGIN:VEVENT
DTSTART;TZID=America/New_York:20240118T154500
DTEND;TZID=America/New_York:20240118T170000
DTSTAMP:20260420T205355
CREATED:20231215T182303Z
LAST-MODIFIED:20231215T182303Z
UID:10006116-1705592700-1705597200@www.trailslibrary.org
SUMMARY:Third Thursday Fun & Games-Leeton
DESCRIPTION:Ages 6-12: Join Mrs. Schuler and the Boys & Girls Club the first 3rd Thursday Fun & Games of 2024! This will be the first meeting of the Trading Card Club. Pokemon\, Yu-Gu-Oh\, Baseball cards… you name it! We will even be making our own trading cards!
URL:https://www.trailslibrary.org/event/third-thursday-fun-games-leeton-5/
LOCATION:Leeton Express Branch\, 500 N. Main\, Leeton\, MO\, 64761\, United States
CATEGORIES:Children,Crafts,Kids
END:VEVENT
BEGIN:VEVENT
DTSTART;TZID=America/New_York:20240120T100000
DTEND;TZID=America/New_York:20240120T110000
DTSTAMP:20260420T205355
CREATED:20231215T185821Z
LAST-MODIFIED:20240119T203514Z
UID:10007334-1705744800-1705748400@www.trailslibrary.org
SUMMARY:Storytime With Granny -Warrensburg
DESCRIPTION:Ages 0-5: Meet up for stories\, music\, dancing\, and of course\, bubbles!
URL:https://www.trailslibrary.org/event/storytime-with-granny-warrensburg-10/
LOCATION:Warrensburg Branch\, 432 N. Holden\, Warrensburg\, Missouri\, 64093\, United States
CATEGORIES:Children,Kids,Preschool,Storytime
END:VEVENT
BEGIN:VEVENT
DTSTART;TZID=America/New_York:20240122T100000
DTEND;TZID=America/New_York:20240122T103000
DTSTAMP:20260420T205355
CREATED:20231215T185502Z
LAST-MODIFIED:20231215T185502Z
UID:10006204-1705917600-1705919400@www.trailslibrary.org
SUMMARY:Storytime-Waverly
DESCRIPTION:Ages 0-5: Storytimes are for building pre-reading skills\, making friends and having fun!
URL:https://www.trailslibrary.org/event/storytime-waverly-47/
LOCATION:Waverly Branch\, 203 E. Kelling\, Waverly\, MO\, 64096\, United States
CATEGORIES:Children,Kids,Preschool,Storytime
END:VEVENT
BEGIN:VEVENT
DTSTART;TZID=America/New_York:20240122T160000
DTEND;TZID=America/New_York:20240122T160000
DTSTAMP:20260420T205355
CREATED:20231215T184558Z
LAST-MODIFIED:20231215T184558Z
UID:10007300-1705939200-1705939200@www.trailslibrary.org
SUMMARY:Squishy Time-Odessa
DESCRIPTION:Ages 5-8:  Can you resist the squish? Join us as we make a unique squishy out of double sided tape.
URL:https://www.trailslibrary.org/event/squishy-time-odessa/
LOCATION:Odessa Branch\, 107 W. Mason\, Odessa\, MO\, 64076\, United States
CATEGORIES:Children,Crafts,Kids
END:VEVENT
BEGIN:VEVENT
DTSTART;TZID=America/New_York:20240123T100000
DTEND;TZID=America/New_York:20240123T103000
DTSTAMP:20260420T205355
CREATED:20231215T174507Z
LAST-MODIFIED:20240119T215849Z
UID:10005962-1706004000-1706005800@www.trailslibrary.org
SUMMARY:Storytime-Concordia
DESCRIPTION:Ages 0-5: Storytimes are for building pre-reading skills\, making friends and having fun!
URL:https://www.trailslibrary.org/event/storytime-concordia-85/
LOCATION:Concordia Branch\, 813 S Main\, Concordia\, MO\, 64020\, United States
CATEGORIES:Children,Kids,Preschool,Storytime
ATTACH;FMTTYPE=image/png:https://www.trailslibrary.org/wp-content/uploads/2023/12/CC-ST.png
END:VEVENT
BEGIN:VEVENT
DTSTART;TZID=America/New_York:20240123T100000
DTEND;TZID=America/New_York:20240123T103000
DTSTAMP:20260420T205355
CREATED:20231215T190005Z
LAST-MODIFIED:20231215T190005Z
UID:10007358-1706004000-1706005800@www.trailslibrary.org
SUMMARY:Preschool Storytime-Warrensburg
DESCRIPTION:Ages 0-5: Storytime: Meet up for stories\, music\, dancing\, and of course\, bubbles!
URL:https://www.trailslibrary.org/event/preschool-storytime-warrensburg-54/
LOCATION:Warrensburg Branch\, 432 N. Holden\, Warrensburg\, Missouri\, 64093\, United States
CATEGORIES:Children,Kids,Preschool,Storytime
END:VEVENT
BEGIN:VEVENT
DTSTART;TZID=America/New_York:20240123T103000
DTEND;TZID=America/New_York:20240123T110000
DTSTAMP:20260420T205355
CREATED:20231215T185920Z
LAST-MODIFIED:20231215T185920Z
UID:10007342-1706005800-1706007600@www.trailslibrary.org
SUMMARY:Preschool Craftime-Warrensburg
DESCRIPTION:Ages 0-5: Stay after storytime to make a themed craft with Miss Amy.
URL:https://www.trailslibrary.org/event/preschool-craftime-warrensburg-18/
LOCATION:Warrensburg Branch\, 432 N. Holden\, Warrensburg\, Missouri\, 64093\, United States
CATEGORIES:Children,Kids,Preschool
END:VEVENT
BEGIN:VEVENT
DTSTART;TZID=America/New_York:20240124T100000
DTEND;TZID=America/New_York:20240124T100000
DTSTAMP:20260420T205355
CREATED:20231215T183919Z
LAST-MODIFIED:20231220T151347Z
UID:10007275-1706090400-1706090400@www.trailslibrary.org
SUMMARY:Storytime-Odessa
DESCRIPTION:Ages 0-5: Storytimes are for building pre-reading skills\, making friends\, and having fun!
URL:https://www.trailslibrary.org/event/storytime-odessa-51/
LOCATION:Odessa Branch\, 107 W. Mason\, Odessa\, MO\, 64076\, United States
CATEGORIES:Children,Kids,Preschool,Storytime
END:VEVENT
BEGIN:VEVENT
DTSTART;TZID=America/New_York:20240124T100000
DTEND;TZID=America/New_York:20240124T103000
DTSTAMP:20260420T205355
CREATED:20231215T180809Z
LAST-MODIFIED:20231215T180809Z
UID:10006013-1706090400-1706092200@www.trailslibrary.org
SUMMARY:Storytime-Holden
DESCRIPTION:Ages 0-5: Come listen to a story at the library and do a craft.
URL:https://www.trailslibrary.org/event/storytime-holden-102/
LOCATION:Holden Branch\, 207 S. Main\, Holden\, MO\, 64040\, United States
CATEGORIES:Children,Kids,Preschool,Storytime
END:VEVENT
BEGIN:VEVENT
DTSTART;TZID=America/New_York:20240124T100000
DTEND;TZID=America/New_York:20240124T103000
DTSTAMP:20260420T205355
CREATED:20231215T182625Z
LAST-MODIFIED:20231215T182625Z
UID:10007227-1706090400-1706092200@www.trailslibrary.org
SUMMARY:Storytime-Lexington
DESCRIPTION:Ages 0-5: Bring your little ones for storytime! Each week we read\, sing\, play and learn\, all while developing early literacy skills.
URL:https://www.trailslibrary.org/event/storytime-lexington-85/
LOCATION:Lexington Branch\, 1008 Main Street\, Lexington\, MO\, 64067\, United States
CATEGORIES:Children,Kids,Preschool,Storytime
END:VEVENT
BEGIN:VEVENT
DTSTART;TZID=America/New_York:20240124T100000
DTEND;TZID=America/New_York:20240124T110000
DTSTAMP:20260420T205355
CREATED:20231215T175739Z
LAST-MODIFIED:20231215T175739Z
UID:10006001-1706090400-1706094000@www.trailslibrary.org
SUMMARY:Storytime-Corder
DESCRIPTION:Ages: 3-5: Storytimes are for building pre-reading skills\, making friends and having fun!
URL:https://www.trailslibrary.org/event/storytime-corder-55/
LOCATION:Corder Branch\, 221 N. Lafayette\, Corder\, MO\, 64021\, United States
CATEGORIES:Children,Kids,Preschool,Storytime
END:VEVENT
BEGIN:VEVENT
DTSTART;TZID=America/New_York:20240124T103000
DTEND;TZID=America/New_York:20240124T110000
DTSTAMP:20260420T205355
CREATED:20231215T180841Z
LAST-MODIFIED:20231215T180841Z
UID:10007129-1706092200-1706094000@www.trailslibrary.org
SUMMARY:Stay & Play-Holden
DESCRIPTION:Ages 0-5: Stay after storytime and play with your friends. Enjoy the library’s resources and toys.
URL:https://www.trailslibrary.org/event/stay-play-holden-13/
LOCATION:Holden Branch\, 207 S. Main\, Holden\, MO\, 64040\, United States
CATEGORIES:Children,Kids,Preschool,Storytime
END:VEVENT
BEGIN:VEVENT
DTSTART;TZID=America/New_York:20240124T103000
DTEND;TZID=America/New_York:20240124T110000
DTSTAMP:20260420T205355
CREATED:20231215T182642Z
LAST-MODIFIED:20231215T182642Z
UID:10006132-1706092200-1706094000@www.trailslibrary.org
SUMMARY:Stay and Play-Lexington
DESCRIPTION:Ages 0-5: Stay and play after storytime to get your wiggles out! Have some fun\, play games\, and make new friends!
URL:https://www.trailslibrary.org/event/stay-and-play-lexington-24/
LOCATION:Lexington Branch\, 1008 Main Street\, Lexington\, MO\, 64067\, United States
CATEGORIES:Children,Kids,Preschool
END:VEVENT
BEGIN:VEVENT
DTSTART;TZID=America/New_York:20240124T163000
DTEND;TZID=America/New_York:20240124T183000
DTSTAMP:20260420T205355
CREATED:20231215T190436Z
LAST-MODIFIED:20231215T191531Z
UID:10007419-1706113800-1706121000@www.trailslibrary.org
SUMMARY:Libraries Got Game-Warrensburg
DESCRIPTION:All Ages: Get BOARD at the library with your family and friends! Fun and exciting board and XL games.
URL:https://www.trailslibrary.org/event/libraries-got-game-warrensburg-45/
LOCATION:Warrensburg Branch\, 432 N. Holden\, Warrensburg\, Missouri\, 64093\, United States
CATEGORIES:Adult,Adults,All Ages,Children,Family,Kids,preteens,senior,Seniors,Teen,Teens,Youth
END:VEVENT
BEGIN:VEVENT
DTSTART;TZID=America/New_York:20240125T100000
DTEND;TZID=America/New_York:20240125T103000
DTSTAMP:20260420T205355
CREATED:20231215T185804Z
LAST-MODIFIED:20231215T185804Z
UID:10007322-1706176800-1706178600@www.trailslibrary.org
SUMMARY:Music & Movement-Warrensburg
DESCRIPTION:Ages 0-5: Join us to get your wiggles out with singing and dancing. Children will use a variety of musical instruments to increase sensory development\, coordination\, literacy & numeracy skills
URL:https://www.trailslibrary.org/event/music-movement-warrensburg-18/
LOCATION:Warrensburg Branch\, 432 N. Holden\, Warrensburg\, Missouri\, 64093\, United States
CATEGORIES:Children,Kids,Preschool
END:VEVENT
BEGIN:VEVENT
DTSTART;TZID=America/New_York:20240125T103000
DTEND;TZID=America/New_York:20240125T110000
DTSTAMP:20260420T205355
CREATED:20231215T185836Z
LAST-MODIFIED:20231215T185836Z
UID:10006234-1706178600-1706180400@www.trailslibrary.org
SUMMARY:Stay Play and Learn-Warrensburg
DESCRIPTION:Ages 0-5: Stay after Music and Moverment to play and learn with your friends. Activities will focus on improving language\, fine and gross motor skills\, develop social skills and aid with cognitive development.
URL:https://www.trailslibrary.org/event/stay-play-and-learn-warrensburg-18/
LOCATION:Warrensburg Branch\, 432 N. Holden\, Warrensburg\, Missouri\, 64093\, United States
CATEGORIES:Children,Kids,Preschool
END:VEVENT
BEGIN:VEVENT
DTSTART;TZID=America/New_York:20240125T153000
DTEND;TZID=America/New_York:20240125T163000
DTSTAMP:20260420T205355
CREATED:20231215T183625Z
LAST-MODIFIED:20231215T183625Z
UID:10007267-1706196600-1706200200@www.trailslibrary.org
SUMMARY:Kids Club-Lexington
DESCRIPTION:Ages 6-12:  If you like crafts\, games and fun science activites (STEAM) then this club is for you. Snack provided. Bring a friend for more FUN!
URL:https://www.trailslibrary.org/event/kids-club-lexington-5/
LOCATION:Lexington Branch\, 1008 Main Street\, Lexington\, MO\, 64067\, United States
CATEGORIES:Children,Crafts,Kids,STEAM
END:VEVENT
BEGIN:VEVENT
DTSTART;TZID=America/New_York:20240126T100000
DTEND;TZID=America/New_York:20240126T110000
DTSTAMP:20260420T205355
CREATED:20231215T190536Z
LAST-MODIFIED:20231215T190536Z
UID:10006332-1706263200-1706266800@www.trailslibrary.org
SUMMARY:Get Hooked-Warrensburg
DESCRIPTION:All Ages: Get Hooked! Come join us for tips and tricks\, learn how to crochet or knit.
URL:https://www.trailslibrary.org/event/get-hooked-warrensburg-22/
LOCATION:Warrensburg Branch\, 432 N. Holden\, Warrensburg\, Missouri\, 64093\, United States
CATEGORIES:Adult,Adults,All Ages,Children,Crafts,Family,Kids,preteens,senior,Seniors,Teen,Teens,Youth
END:VEVENT
BEGIN:VEVENT
DTSTART;TZID=America/New_York:20240126T160000
DTEND;TZID=America/New_York:20240126T160000
DTSTAMP:20260420T205355
CREATED:20231215T184802Z
LAST-MODIFIED:20231215T184802Z
UID:10007308-1706284800-1706284800@www.trailslibrary.org
SUMMARY:Feature Friday-Odessa
DESCRIPTION:All Ages: Join us for our family movie. We provide the popcorn\, and you supply your favorite drink!
URL:https://www.trailslibrary.org/event/feature-friday-odessa-9/
LOCATION:Odessa Branch\, 107 W. Mason\, Odessa\, MO\, 64076\, United States
CATEGORIES:Adult,Adults,All Ages,Children,Family,Kids,Movie,preteens,senior,Seniors,Teen,Teens,Youth
END:VEVENT
BEGIN:VEVENT
DTSTART;TZID=America/New_York:20240127T100000
DTEND;TZID=America/New_York:20240127T120000
DTSTAMP:20260420T205355
CREATED:20231215T190421Z
LAST-MODIFIED:20231215T190421Z
UID:10007413-1706349600-1706356800@www.trailslibrary.org
SUMMARY:The Great Puzzle Exchange-Warrensburg
DESCRIPTION:All Ages: Celebrate National Puzzle Month with Trails. Exchange your gently used jigsaw puzzles for new-to-you ones. Stay and work on one of our puzzles with fellow jigsaw fans. Puzzles should be in excellent\, complete condition (not missing pieces or a picture of the finished puzzle).
URL:https://www.trailslibrary.org/event/the-great-puzzle-exchange-warrensburg/
LOCATION:Warrensburg Branch\, 432 N. Holden\, Warrensburg\, Missouri\, 64093\, United States
CATEGORIES:Adult,Adults,All Ages,Children,Crafts,Family,Kids,preteens,senior,Seniors,Teen,Teens,Youth
END:VEVENT
BEGIN:VEVENT
DTSTART;TZID=America/New_York:20240129T100000
DTEND;TZID=America/New_York:20240129T103000
DTSTAMP:20260420T205355
CREATED:20231215T185502Z
LAST-MODIFIED:20231215T185502Z
UID:10006206-1706522400-1706524200@www.trailslibrary.org
SUMMARY:Storytime-Waverly
DESCRIPTION:Ages 0-5: Storytimes are for building pre-reading skills\, making friends and having fun!
URL:https://www.trailslibrary.org/event/storytime-waverly-93/
LOCATION:Waverly Branch\, 203 E. Kelling\, Waverly\, MO\, 64096\, United States
CATEGORIES:Children,Kids,Preschool,Storytime
END:VEVENT
BEGIN:VEVENT
DTSTART;TZID=America/New_York:20240129T160000
DTEND;TZID=America/New_York:20240129T160000
DTSTAMP:20260420T205355
CREATED:20231215T184614Z
LAST-MODIFIED:20231215T184614Z
UID:10007304-1706544000-1706544000@www.trailslibrary.org
SUMMARY:Wigglebots-Odessa
DESCRIPTION:Ages 9-12 REGISTRATION required: Wiggle\, Wiggle\, its a Wigglebot time.  This STEAM program will teach you how to create a wigglebot.
URL:https://www.trailslibrary.org/event/wigglebots-odessa/
LOCATION:Odessa Branch\, 107 W. Mason\, Odessa\, MO\, 64076\, United States
CATEGORIES:Children,Kids,STEAM
END:VEVENT
BEGIN:VEVENT
DTSTART;TZID=America/New_York:20240130T100000
DTEND;TZID=America/New_York:20240130T103000
DTSTAMP:20260420T205355
CREATED:20231215T174508Z
LAST-MODIFIED:20231215T174508Z
UID:10005964-1706608800-1706610600@www.trailslibrary.org
SUMMARY:Storytime-Concordia
DESCRIPTION:Ages 0-5: Storytimes are for building pre-reading skills\, making friends and having fun!
URL:https://www.trailslibrary.org/event/storytime-concordia-86/
LOCATION:Concordia Branch\, 813 S Main\, Concordia\, MO\, 64020\, United States
CATEGORIES:Children,Kids,Preschool,Storytime
END:VEVENT
END:VCALENDAR