BEGIN:VCALENDAR
VERSION:2.0
PRODID:-//Trails Regional Library - ECPv6.15.20//NONSGML v1.0//EN
CALSCALE:GREGORIAN
METHOD:PUBLISH
X-ORIGINAL-URL:https://www.trailslibrary.org
X-WR-CALDESC:Events for Trails Regional Library
REFRESH-INTERVAL;VALUE=DURATION:PT1H
X-Robots-Tag:noindex
X-PUBLISHED-TTL:PT1H
BEGIN:VTIMEZONE
TZID:America/New_York
BEGIN:DAYLIGHT
TZOFFSETFROM:-0500
TZOFFSETTO:-0400
TZNAME:EDT
DTSTART:20220313T070000
END:DAYLIGHT
BEGIN:STANDARD
TZOFFSETFROM:-0400
TZOFFSETTO:-0500
TZNAME:EST
DTSTART:20221106T060000
END:STANDARD
BEGIN:DAYLIGHT
TZOFFSETFROM:-0500
TZOFFSETTO:-0400
TZNAME:EDT
DTSTART:20230312T070000
END:DAYLIGHT
BEGIN:STANDARD
TZOFFSETFROM:-0400
TZOFFSETTO:-0500
TZNAME:EST
DTSTART:20231105T060000
END:STANDARD
BEGIN:DAYLIGHT
TZOFFSETFROM:-0500
TZOFFSETTO:-0400
TZNAME:EDT
DTSTART:20240310T070000
END:DAYLIGHT
BEGIN:STANDARD
TZOFFSETFROM:-0400
TZOFFSETTO:-0500
TZNAME:EST
DTSTART:20241103T060000
END:STANDARD
END:VTIMEZONE
BEGIN:VEVENT
DTSTART;TZID=America/New_York:20230823T100000
DTEND;TZID=America/New_York:20230823T100000
DTSTAMP:20260423T054210
CREATED:20230622T161923Z
LAST-MODIFIED:20230622T161923Z
UID:10006572-1692784800-1692784800@www.trailslibrary.org
SUMMARY:Storytime - Lexington
DESCRIPTION:Ages 0-5 – Bring your little ones for singing\, dancing\, and stories. For more fun\, bring a friend.
URL:https://www.trailslibrary.org/event/storytime-lexington-28/
LOCATION:MO
CATEGORIES:Children,Kids,Preschool,Storytime
END:VEVENT
BEGIN:VEVENT
DTSTART;TZID=America/New_York:20230823T103000
DTEND;TZID=America/New_York:20230823T110000
DTSTAMP:20260423T054210
CREATED:20230622T161922Z
LAST-MODIFIED:20230622T161922Z
UID:10006570-1692786600-1692788400@www.trailslibrary.org
SUMMARY:Stay and Play - Lexington
DESCRIPTION:Ages 0-5 – Stay and play after storytime to get your wiggles out! Have some fun\, play games\, and make new friends!
URL:https://www.trailslibrary.org/event/stay-and-play-lexington-5/
LOCATION:MO
CATEGORIES:Children,Kids,Preschool
END:VEVENT
BEGIN:VEVENT
DTSTART;TZID=America/New_York:20230828T100000
DTEND;TZID=America/New_York:20230828T103000
DTSTAMP:20260423T054210
CREATED:20230622T170029Z
LAST-MODIFIED:20230622T170029Z
UID:10006596-1693216800-1693218600@www.trailslibrary.org
SUMMARY:Story Time - Waverly
DESCRIPTION:Ages 0-5 – Join us for 30 minutes of fun with a book reading and fun activities.
URL:https://www.trailslibrary.org/event/story-time-waverly-4/
LOCATION:MO
CATEGORIES:Children,Kids,Preschool,Storytime
END:VEVENT
BEGIN:VEVENT
DTSTART;TZID=America/New_York:20230829T100000
DTEND;TZID=America/New_York:20230829T103000
DTSTAMP:20260423T054210
CREATED:20230622T161314Z
LAST-MODIFIED:20230725T140538Z
UID:10006544-1693303200-1693305000@www.trailslibrary.org
SUMMARY:Bubbly Storytime - Concordia
DESCRIPTION:Ages 0-3 – Storytimes focus on building pre-reading skills\, making friends\, and having fun! We like to finish with a bubble dance!
URL:https://www.trailslibrary.org/event/bubbly-storytime-concordia-5/
LOCATION:Concordia Branch\, 813 S Main\, Concordia\, MO\, 64020\, United States
CATEGORIES:Children,Kids,Preschool,Storytime
END:VEVENT
BEGIN:VEVENT
DTSTART;TZID=America/New_York:20230830T100000
DTEND;TZID=America/New_York:20230830T103000
DTSTAMP:20260423T054210
CREATED:20230622T161923Z
LAST-MODIFIED:20230622T161923Z
UID:10006573-1693389600-1693391400@www.trailslibrary.org
SUMMARY:Storytime - Lexington
DESCRIPTION:Ages 0-5 – Bring your little ones for singing\, dancing\, and stories. For more fun\, bring a friend.
URL:https://www.trailslibrary.org/event/storytime-lexington-66/
LOCATION:MO
CATEGORIES:Children,Kids,Preschool,Storytime
END:VEVENT
BEGIN:VEVENT
DTSTART;TZID=America/New_York:20230830T103000
DTEND;TZID=America/New_York:20230830T110000
DTSTAMP:20260423T054210
CREATED:20230622T161923Z
LAST-MODIFIED:20230622T161923Z
UID:10006571-1693391400-1693393200@www.trailslibrary.org
SUMMARY:Stay and Play - Lexington
DESCRIPTION:Ages 0-5 – Stay and play after storytime to get your wiggles out! Have some fun\, play games\, and make new friends!
URL:https://www.trailslibrary.org/event/stay-and-play-lexington-6/
LOCATION:MO
CATEGORIES:Children,Kids,Preschool
END:VEVENT
BEGIN:VEVENT
DTSTART;TZID=America/New_York:20230902T100000
DTEND;TZID=America/New_York:20230902T110000
DTSTAMP:20260423T054210
CREATED:20230818T201041Z
LAST-MODIFIED:20230818T201041Z
UID:10006734-1693648800-1693652400@www.trailslibrary.org
SUMMARY:Saturday Storytime & Craft - Leeton Express Branch
DESCRIPTION:All Ages: Join us on the 1st Saturday of the month at 10 AM for Storytime
URL:https://www.trailslibrary.org/event/saturday-storytime-craft-leeton-express-branch/
LOCATION:Leeton Express Branch\, 500 N. Main\, Leeton\, MO\, 64761\, United States
CATEGORIES:Children,Kids,Preschool,Storytime
END:VEVENT
BEGIN:VEVENT
DTSTART;TZID=America/New_York:20230902T100000
DTEND;TZID=America/New_York:20230902T110000
DTSTAMP:20260423T054210
CREATED:20230818T201432Z
LAST-MODIFIED:20230820T063715Z
UID:10005679-1693648800-1693652400@www.trailslibrary.org
SUMMARY:Flapjacks and Funnies - Warrensburg
DESCRIPTION:All Ages: Come join us for classic cartoons and a bite of breakfast.
URL:https://www.trailslibrary.org/event/flapjacks-and-funnies-warrensburg/
LOCATION:Warrensburg Branch\, 432 N. Holden\, Warrensburg\, Missouri\, 64093\, United States
CATEGORIES:Adult,Adults,All Ages,Children,Family,Kids,preteens,senior,Seniors,Teen,Teens,Youth
END:VEVENT
BEGIN:VEVENT
DTSTART;TZID=America/New_York:20230902T110000
DTEND;TZID=America/New_York:20230902T130000
DTSTAMP:20260423T054210
CREATED:20230818T201042Z
LAST-MODIFIED:20230818T201042Z
UID:10006735-1693652400-1693659600@www.trailslibrary.org
SUMMARY:Saturday Cinema - Leeton Express Branch
DESCRIPTION:All Ages: Join us on the 1st Saturday of the month at 11 AM for a family friendly movie. Bring a friend and a drink with a lid. We will provide the popcorn!
URL:https://www.trailslibrary.org/event/saturday-cinema-leeton-express-branch/
LOCATION:Leeton Express Branch\, 500 N. Main\, Leeton\, MO\, 64761\, United States
CATEGORIES:Adult,Adults,All Ages,Children,Family,Kids,Movie,Teens
END:VEVENT
BEGIN:VEVENT
DTSTART;TZID=America/New_York:20230905T090000
DTEND;TZID=America/New_York:20230905T100000
DTSTAMP:20260423T054210
CREATED:20230818T201447Z
LAST-MODIFIED:20230820T063730Z
UID:10005689-1693904400-1693908000@www.trailslibrary.org
SUMMARY:Get Hooked - Warrensburg
DESCRIPTION:All Ages: Get Hooked! Come join us for tips and tricks\, learn how to crochet or knit.
URL:https://www.trailslibrary.org/event/get-hooked-warrensburg-14/
LOCATION:Warrensburg Branch\, 432 N. Holden\, Warrensburg\, Missouri\, 64093\, United States
CATEGORIES:Adult,Adults,All Ages,Children,Crafts,Family,Kids,preteens,senior,Seniors,Teen,Teens,Youth
END:VEVENT
BEGIN:VEVENT
DTSTART;TZID=America/New_York:20230905T100000
DTEND;TZID=America/New_York:20230905T103000
DTSTAMP:20260423T054210
CREATED:20230818T155152Z
LAST-MODIFIED:20230818T161036Z
UID:10006636-1693908000-1693909800@www.trailslibrary.org
SUMMARY:Storytime - Concordia
DESCRIPTION:Ages 0-5: Storytimes are for building pre-reading skills\, making friends and having fun!
URL:https://www.trailslibrary.org/event/storytime-3/
LOCATION:Concordia Branch\, 813 S Main\, Concordia\, MO\, 64020\, United States
CATEGORIES:Children,Kids,Preschool,Storytime
END:VEVENT
BEGIN:VEVENT
DTSTART;TZID=America/New_York:20230905T100000
DTEND;TZID=America/New_York:20230905T103000
DTSTAMP:20260423T054210
CREATED:20230820T064102Z
LAST-MODIFIED:20230820T064102Z
UID:10006953-1693908000-1693909800@www.trailslibrary.org
SUMMARY:Preschool Storytime - Warrensburg
DESCRIPTION:Ages 0-5: Storytime: Meet up for stories\, music\, dancing\, and of course\, bubbles!
URL:https://www.trailslibrary.org/event/preschool-storytime-warrensburg-3/
LOCATION:Warrensburg Branch\, 432 N. Holden\, Warrensburg\, Missouri\, 64093\, United States
CATEGORIES:Children,Kids,Preschool,Storytime
END:VEVENT
BEGIN:VEVENT
DTSTART;TZID=America/New_York:20230905T100000
DTEND;TZID=America/New_York:20230905T103000
DTSTAMP:20260423T054210
CREATED:20230820T065405Z
LAST-MODIFIED:20230820T065405Z
UID:10007009-1693908000-1693909800@www.trailslibrary.org
SUMMARY:Storytime
DESCRIPTION:Ages 0-5: Storytimes are for building pre-reading skills\, making friends and having fun!
URL:https://www.trailslibrary.org/event/storytime-20/
LOCATION:Concordia Branch\, 813 S Main\, Concordia\, MO\, 64020\, United States
CATEGORIES:Children,Kids,Preschool,Storytime
END:VEVENT
BEGIN:VEVENT
DTSTART;TZID=America/New_York:20230905T103000
DTEND;TZID=America/New_York:20230905T110000
DTSTAMP:20260423T054210
CREATED:20230820T064015Z
LAST-MODIFIED:20230820T064015Z
UID:10005835-1693909800-1693911600@www.trailslibrary.org
SUMMARY:Preschool Craftime - Warrensburg
DESCRIPTION:Ages 0-5: Stay after storytime to make a themed craft with Miss Amy.
URL:https://www.trailslibrary.org/event/preschool-craftime-warrensburg/
LOCATION:Warrensburg Branch\, 432 N. Holden\, Warrensburg\, Missouri\, 64093\, United States
CATEGORIES:Children,Craft,Crafts,Kids,Preschool
END:VEVENT
BEGIN:VEVENT
DTSTART;TZID=America/New_York:20230906T100000
DTEND;TZID=America/New_York:20230906T103000
DTSTAMP:20260423T054210
CREATED:20230818T200435Z
LAST-MODIFIED:20230818T200435Z
UID:10005560-1693994400-1693996200@www.trailslibrary.org
SUMMARY:Story Time - Corder
DESCRIPTION:Ages: 3-5: Storytimes are for building pre-reading skills\, making friends and having fun!
URL:https://www.trailslibrary.org/event/story-time-corder-2/
LOCATION:Corder Branch\, 221 N. Lafayette\, Corder\, MO\, 64021\, United States
CATEGORIES:Children,Kids,Preschool,Storytime
END:VEVENT
BEGIN:VEVENT
DTSTART;TZID=America/New_York:20230906T100000
DTEND;TZID=America/New_York:20230906T103000
DTSTAMP:20260423T054210
CREATED:20230820T042613Z
LAST-MODIFIED:20230820T042613Z
UID:10005741-1693994400-1693996200@www.trailslibrary.org
SUMMARY:Storytime - Lexington
DESCRIPTION:Ages 0-5: Bring your little ones for storytime! Each week we read\, sing\, play and learn\, all while developing early literacy skills.
URL:https://www.trailslibrary.org/event/storytime-lexington-68/
LOCATION:Lexington Branch\, 1008 Main Street\, Lexington\, MO\, 64067\, United States
CATEGORIES:Children,Kids,Preschool,Storytime
END:VEVENT
BEGIN:VEVENT
DTSTART;TZID=America/New_York:20230906T100000
DTEND;TZID=America/New_York:20230906T103000
DTSTAMP:20260423T054210
CREATED:20230820T045714Z
LAST-MODIFIED:20230820T055200Z
UID:10006895-1693994400-1693996200@www.trailslibrary.org
SUMMARY:Storytots - Knob Noster
DESCRIPTION:Ages 0-3: Introduce your tot to the library through songs\, fingerplays\, and books!
URL:https://www.trailslibrary.org/event/storytots-knob-noster-21/
LOCATION:Knob Noster Branch\, 202 N. Adams\, Knob Noster\, MO\, 65336\, United States
CATEGORIES:Children,Kids,Storytime
END:VEVENT
BEGIN:VEVENT
DTSTART;TZID=America/New_York:20230906T100000
DTEND;TZID=America/New_York:20230906T103000
DTSTAMP:20260423T054210
CREATED:20230820T065045Z
LAST-MODIFIED:20230820T065045Z
UID:10005892-1693994400-1693996200@www.trailslibrary.org
SUMMARY:Storytime - Holden
DESCRIPTION:Ages 0-5: Come listen to a story at the library and do a craft.
URL:https://www.trailslibrary.org/event/storytime-holden-88/
LOCATION:Holden Branch\, 207 S. Main\, Holden\, MO\, 64040\, United States
CATEGORIES:Children,Kids,Preschool,Storytime
END:VEVENT
BEGIN:VEVENT
DTSTART;TZID=America/New_York:20230906T100000
DTEND;TZID=America/New_York:20230906T104500
DTSTAMP:20260423T054210
CREATED:20230818T212637Z
LAST-MODIFIED:20230818T212637Z
UID:10006818-1693994400-1693997100@www.trailslibrary.org
SUMMARY:Storytime - Odessa
DESCRIPTION:Ages 0-5: Storytimes focus on building pre-reading skills\, making friends\, and having fun!
URL:https://www.trailslibrary.org/event/storytime-odessa-9/
LOCATION:Odessa Branch\, 107 W. Mason\, Odessa\, MO\, 64076\, United States
CATEGORIES:Children,Kids,Preschool,Storytime,Toddlers
END:VEVENT
BEGIN:VEVENT
DTSTART;TZID=America/New_York:20230906T103000
DTEND;TZID=America/New_York:20230906T110000
DTSTAMP:20260423T054210
CREATED:20230820T042527Z
LAST-MODIFIED:20230820T042527Z
UID:10006835-1693996200-1693998000@www.trailslibrary.org
SUMMARY:Stay and Play - Lexington
DESCRIPTION:Ages 0-5: Stay and play after storytime to get your wiggles out! Have some fun\, play games\, and make new friends!
URL:https://www.trailslibrary.org/event/stay-and-play-lexington-7/
LOCATION:Lexington Branch\, 1008 Main Street\, Lexington\, MO\, 64067\, United States
CATEGORIES:Children,Kids,Preschool
END:VEVENT
BEGIN:VEVENT
DTSTART;TZID=America/New_York:20230906T103000
DTEND;TZID=America/New_York:20230906T110000
DTSTAMP:20260423T054210
CREATED:20230820T045019Z
LAST-MODIFIED:20230820T054914Z
UID:10006864-1693996200-1693998000@www.trailslibrary.org
SUMMARY:Kid Connection - Knob Noster
DESCRIPTION:Ages 0-5: Kiddos! Come play and hang out\, make new friends\, and see all the library has to offer!
URL:https://www.trailslibrary.org/event/kid-connection-knob-noster/
LOCATION:Knob Noster Branch\, 202 N. Adams\, Knob Noster\, MO\, 65336\, United States
CATEGORIES:Children,Kids,Preschool,Storytime
END:VEVENT
BEGIN:VEVENT
DTSTART;TZID=America/New_York:20230906T103000
DTEND;TZID=America/New_York:20230906T110000
DTSTAMP:20260423T054210
CREATED:20230820T064930Z
LAST-MODIFIED:20230820T064930Z
UID:10006990-1693996200-1693998000@www.trailslibrary.org
SUMMARY:Stay & Play - Holden
DESCRIPTION:Ages 0-5: Stay after storytime and play with your friends. Enjoy the library’s resources and toys.
URL:https://www.trailslibrary.org/event/stay-play-holden/
LOCATION:Holden Branch\, 207 S. Main\, Holden\, MO\, 64040\, United States
CATEGORIES:Children,Kids,Preschool
END:VEVENT
BEGIN:VEVENT
DTSTART;TZID=America/New_York:20230906T110000
DTEND;TZID=America/New_York:20230906T120000
DTSTAMP:20260423T054210
CREATED:20230820T045414Z
LAST-MODIFIED:20230820T055018Z
UID:10006877-1693998000-1694001600@www.trailslibrary.org
SUMMARY:Preschool Storytime - Knob Noster
DESCRIPTION:Ages 3-5: Bring your preschoolers for stories\, crafts\, songs and bubbles to encourage growth in literacy!
URL:https://www.trailslibrary.org/event/preschool-storytime-knob-noster-23/
LOCATION:Knob Noster Branch\, 202 N. Adams\, Knob Noster\, MO\, 65336\, United States
CATEGORIES:Children,Kids,Preschool
END:VEVENT
BEGIN:VEVENT
DTSTART;TZID=America/New_York:20230906T163000
DTEND;TZID=America/New_York:20230906T180000
DTSTAMP:20260423T054210
CREATED:20230820T063815Z
LAST-MODIFIED:20230820T063815Z
UID:10006918-1694017800-1694023200@www.trailslibrary.org
SUMMARY:Libraries Got Game - Warrensburg
DESCRIPTION:All Ages: Get BOARD at the library with your family and friends! Fun and exciting board and XL games.
URL:https://www.trailslibrary.org/event/libraries-got-game-warrensburg-25/
LOCATION:Warrensburg Branch\, 432 N. Holden\, Warrensburg\, Missouri\, 64093\, United States
CATEGORIES:Adult,Adults,All Ages,Children,Family,Kids,preteens,senior,Seniors,Teen,Teens,Youth
END:VEVENT
BEGIN:VEVENT
DTSTART;TZID=America/New_York:20230907T093000
DTEND;TZID=America/New_York:20230907T100000
DTSTAMP:20260423T054210
CREATED:20230820T063902Z
LAST-MODIFIED:20230820T063902Z
UID:10006926-1694079000-1694080800@www.trailslibrary.org
SUMMARY:Music & Movement - Warrensburg
DESCRIPTION:Ages 0-5: Join us to get your wiggles our with singing and dancing. Children will use a variety of musical instruments to increase sensory development\, coordination\, literacy & numeracy skills
URL:https://www.trailslibrary.org/event/music-movement-warrensburg/
LOCATION:Warrensburg Branch\, 432 N. Holden\, Warrensburg\, Missouri\, 64093\, United States
CATEGORIES:Children,Kids,Pre-School,Preschool,Toddlers
END:VEVENT
BEGIN:VEVENT
DTSTART;TZID=America/New_York:20230907T100000
DTEND;TZID=America/New_York:20230907T103000
DTSTAMP:20260423T054210
CREATED:20230820T064202Z
LAST-MODIFIED:20230820T064202Z
UID:10006971-1694080800-1694082600@www.trailslibrary.org
SUMMARY:Stay Play and Learn - Warrensburg
DESCRIPTION:Ages 0-5: Stay after Music and Moverment to play and learn with your friends. Activities will focus on improving language\, fine and gross motor skills\, develop social skills and aid with cognitive development.
URL:https://www.trailslibrary.org/event/stay-play-and-learn-warrensburg/
LOCATION:Warrensburg Branch\, 432 N. Holden\, Warrensburg\, Missouri\, 64093\, United States
CATEGORIES:Children,Kids,Pre-School,Preschool,Toddlers
END:VEVENT
BEGIN:VEVENT
DTSTART;TZID=America/New_York:20230909T100000
DTEND;TZID=America/New_York:20230909T113000
DTSTAMP:20260423T054210
CREATED:20230818T155152Z
LAST-MODIFIED:20230818T161027Z
UID:10006638-1694253600-1694259000@www.trailslibrary.org
SUMMARY:Morning Movie - Concordia
DESCRIPTION:All Ages: Join us on Saturday morning for a family friendly film
URL:https://www.trailslibrary.org/event/morning-movie/
LOCATION:Concordia Branch\, 813 S Main\, Concordia\, MO\, 64020\, United States
CATEGORIES:Adult,Adults,All Ages,Children,Family,Kids,Movie,senior,Seniors,Teen,Teens
END:VEVENT
BEGIN:VEVENT
DTSTART;TZID=America/New_York:20230909T100000
DTEND;TZID=America/New_York:20230909T113000
DTSTAMP:20260423T054210
CREATED:20230820T065406Z
LAST-MODIFIED:20230820T065406Z
UID:10007011-1694253600-1694259000@www.trailslibrary.org
SUMMARY:Morning Movie
DESCRIPTION:All Ages: Join us on Saturday morning for a family friendly film
URL:https://www.trailslibrary.org/event/morning-movie-3/
LOCATION:Concordia Branch\, 813 S Main\, Concordia\, MO\, 64020\, United States
CATEGORIES:Adult,Adults,All Ages,Children,Family,Kids,Movie,senior,Seniors,Teen,Teens
END:VEVENT
BEGIN:VEVENT
DTSTART;TZID=America/New_York:20230909T110000
DTEND;TZID=America/New_York:20230909T130000
DTSTAMP:20260423T054210
CREATED:20230818T200725Z
LAST-MODIFIED:20230820T064713Z
UID:10006694-1694257200-1694264400@www.trailslibrary.org
SUMMARY:Family Movie Matinee - Holden
DESCRIPTION:All Ages: Come to the library and enjoy a family friendly movie.
URL:https://www.trailslibrary.org/event/family-movie-matinee-holden-2/
LOCATION:Holden Branch\, 207 S. Main\, Holden\, MO\, 64040\, United States
CATEGORIES:Adult,Adults,All Ages,Children,Family,Kids,senior,Seniors,Teen,Teens
END:VEVENT
BEGIN:VEVENT
DTSTART;TZID=America/New_York:20230911T100000
DTEND;TZID=America/New_York:20230911T103000
DTSTAMP:20260423T054210
CREATED:20230818T201518Z
LAST-MODIFIED:20230917T051418Z
UID:10006806-1694426400-1694428200@www.trailslibrary.org
SUMMARY:Story Time - Waverly
DESCRIPTION:Ages 0-5: Let’s foster early literacy by talking\, playing music\, reading\, writing\, and playing together.
URL:https://www.trailslibrary.org/event/story-time-waverly-5/
LOCATION:Waverly Branch\, 203 E. Kelling\, Waverly\, MO\, 64096\, United States
CATEGORIES:Children,Kids,Pre-School,Preschool,Storytime,Toddlers
END:VEVENT
END:VCALENDAR