BEGIN:VCALENDAR
VERSION:2.0
PRODID:-//Trails Regional Library - ECPv6.15.20//NONSGML v1.0//EN
CALSCALE:GREGORIAN
METHOD:PUBLISH
X-WR-CALNAME:Trails Regional Library
X-ORIGINAL-URL:https://www.trailslibrary.org
X-WR-CALDESC:Events for Trails Regional Library
REFRESH-INTERVAL;VALUE=DURATION:PT1H
X-Robots-Tag:noindex
X-PUBLISHED-TTL:PT1H
BEGIN:VTIMEZONE
TZID:America/New_York
BEGIN:DAYLIGHT
TZOFFSETFROM:-0500
TZOFFSETTO:-0400
TZNAME:EDT
DTSTART:20230312T070000
END:DAYLIGHT
BEGIN:STANDARD
TZOFFSETFROM:-0400
TZOFFSETTO:-0500
TZNAME:EST
DTSTART:20231105T060000
END:STANDARD
BEGIN:DAYLIGHT
TZOFFSETFROM:-0500
TZOFFSETTO:-0400
TZNAME:EDT
DTSTART:20240310T070000
END:DAYLIGHT
BEGIN:STANDARD
TZOFFSETFROM:-0400
TZOFFSETTO:-0500
TZNAME:EST
DTSTART:20241103T060000
END:STANDARD
BEGIN:DAYLIGHT
TZOFFSETFROM:-0500
TZOFFSETTO:-0400
TZNAME:EDT
DTSTART:20250309T070000
END:DAYLIGHT
BEGIN:STANDARD
TZOFFSETFROM:-0400
TZOFFSETTO:-0500
TZNAME:EST
DTSTART:20251102T060000
END:STANDARD
END:VTIMEZONE
BEGIN:VEVENT
DTSTART;TZID=America/New_York:20240911T100000
DTEND;TZID=America/New_York:20240911T110000
DTSTAMP:20260419T221823
CREATED:20240822T162007Z
LAST-MODIFIED:20240822T162007Z
UID:10007864-1726048800-1726052400@www.trailslibrary.org
SUMMARY:Storytime - Corder
DESCRIPTION:Ages 0-5: Storytimes are for building pre-reading skills\, making friends\, and having fun!
URL:https://www.trailslibrary.org/event/storytime-corder-106/
LOCATION:Corder Branch\, 221 N. Lafayette\, Corder\, MO\, 64021\, United States
CATEGORIES:Children,Kids,Pre-School,Preschool,Storytime,Toddlers
END:VEVENT
BEGIN:VEVENT
DTSTART;TZID=America/New_York:20240911T100000
DTEND;TZID=America/New_York:20240911T110000
DTSTAMP:20260419T221823
CREATED:20240822T210705Z
LAST-MODIFIED:20240822T210705Z
UID:10008358-1726048800-1726052400@www.trailslibrary.org
SUMMARY:Storytime - Knob Noster
DESCRIPTION:Ages 0-5: Help your child develop a love for literacy with stories\, music\, & bubbles!
URL:https://www.trailslibrary.org/event/storytime-knob-noster-110/
LOCATION:Knob Noster Branch\, 202 N. Adams\, Knob Noster\, MO\, 65336\, United States
CATEGORIES:Children,Kids,Pre-School,Preschool,Storytime,Toddlers
END:VEVENT
BEGIN:VEVENT
DTSTART;TZID=America/New_York:20240911T143000
DTEND;TZID=America/New_York:20240911T160000
DTSTAMP:20260419T221823
CREATED:20240822T210401Z
LAST-MODIFIED:20240822T210401Z
UID:10008329-1726065000-1726070400@www.trailslibrary.org
SUMMARY:Crafternoon - Knob Noster
DESCRIPTION:Ages 6-12: Join us every second Wednesday for early out while we do a fun new craft.
URL:https://www.trailslibrary.org/event/crafternoon-knob-noster/
LOCATION:Knob Noster Branch\, 202 N. Adams\, Knob Noster\, MO\, 65336\, United States
CATEGORIES:Children,Crafts,Kids
END:VEVENT
BEGIN:VEVENT
DTSTART;TZID=America/New_York:20240911T150000
DTEND;TZID=America/New_York:20240911T180000
DTSTAMP:20260419T221823
CREATED:20240822T194706Z
LAST-MODIFIED:20240822T194706Z
UID:10008238-1726066800-1726077600@www.trailslibrary.org
SUMMARY:Libraries Got Game - Warrensburg
DESCRIPTION:All Ages: Get BOARD at the library with your family and friends! Fun and exciting board and XL games.
URL:https://www.trailslibrary.org/event/libraries-got-game-warrensburg-76/
LOCATION:Warrensburg Branch\, 432 N. Holden\, Warrensburg\, Missouri\, 64093\, United States
CATEGORIES:Adult,Adults,All Ages,Children,Family,Kids,preteens,senior,Seniors,Teen,Teens,Youth
END:VEVENT
BEGIN:VEVENT
DTSTART;TZID=America/New_York:20240912T100000
DTEND;TZID=America/New_York:20240912T110000
DTSTAMP:20260419T221823
CREATED:20240822T195350Z
LAST-MODIFIED:20240822T195350Z
UID:10008259-1726135200-1726138800@www.trailslibrary.org
SUMMARY:Music and More - Warrensburg
DESCRIPTION:Ages 0-5: Join us to get your wiggles out with singing and dancing. Children will use a variety of musical instruments to increase sensory development\, coordination\, literacy & numeracy skills. Stay and play with friends.
URL:https://www.trailslibrary.org/event/music-and-more-warrensburg-2/
LOCATION:Warrensburg Branch\, 432 N. Holden\, Warrensburg\, Missouri\, 64093\, United States
CATEGORIES:Children,Kids,Pre-School,Preschool,Toddlers
END:VEVENT
BEGIN:VEVENT
DTSTART;TZID=America/New_York:20240912T153000
DTEND;TZID=America/New_York:20240912T170000
DTSTAMP:20260419T221823
CREATED:20240822T185352Z
LAST-MODIFIED:20240822T185352Z
UID:10008077-1726155000-1726160400@www.trailslibrary.org
SUMMARY:Kids Club - Lexington
DESCRIPTION:Ages 6-12: If you like crafts\, games and fun science activites (STEAM) then this club is for you. Snack provided. Bring a friend for more FUN!
URL:https://www.trailslibrary.org/event/kids-club-lexington-12/
LOCATION:Lexington Branch\, 1008 Main Street\, Lexington\, MO\, 64067\, United States
CATEGORIES:Children,Crafts,Kids
END:VEVENT
BEGIN:VEVENT
DTSTART;TZID=America/New_York:20240912T154500
DTEND;TZID=America/New_York:20240912T164500
DTSTAMP:20260419T221823
CREATED:20240822T184029Z
LAST-MODIFIED:20240822T184029Z
UID:10008069-1726155900-1726159500@www.trailslibrary.org
SUMMARY:Trading Card Club - Leeton
DESCRIPTION:Ages 6-12: Trading card fans\, join Mrs. Schuler for trading card fun to include: playing\, chatting\, trading\, and more!
URL:https://www.trailslibrary.org/event/trading-card-club-leeton-10/
LOCATION:Leeton Express Branch\, 500 N. Main\, Leeton\, MO\, 64761\, United States
CATEGORIES:Children,Kids,Youth
END:VEVENT
BEGIN:VEVENT
DTSTART;TZID=America/New_York:20240912T173000
DTEND;TZID=America/New_York:20240912T173000
DTSTAMP:20260419T221823
CREATED:20240822T211133Z
LAST-MODIFIED:20240822T211133Z
UID:10008402-1726162200-1726162200@www.trailslibrary.org
SUMMARY:Play and Learn - Odessa
DESCRIPTION:Ages 0-5: Bring your toddlers to Play and Learn to give them an opportunity to develop their motor skills and play with other children
URL:https://www.trailslibrary.org/event/play-and-learn-odessa/
LOCATION:Odessa Branch\, 107 W. Mason\, Odessa\, MO\, 64076\, United States
CATEGORIES:Children,Kids,Pre-School,Preschool,Toddlers
END:VEVENT
BEGIN:VEVENT
DTSTART;TZID=America/New_York:20240914T093000
DTEND;TZID=America/New_York:20240914T103000
DTSTAMP:20260419T221823
CREATED:20240822T163619Z
LAST-MODIFIED:20240822T163619Z
UID:10007940-1726306200-1726309800@www.trailslibrary.org
SUMMARY:Roblox Saturday - Corder
DESCRIPTION:Ages 6-18: Join in the fun as we talk and play all things Roblox!
URL:https://www.trailslibrary.org/event/roblox-saturday-corder-2/
LOCATION:Corder Branch\, 221 N. Lafayette\, Corder\, MO\, 64021\, United States
CATEGORIES:Children,Kids,Pre-Teen,Pre-Teens,Teen,Teens
END:VEVENT
BEGIN:VEVENT
DTSTART;TZID=America/New_York:20240914T100000
DTEND;TZID=America/New_York:20240914T110000
DTSTAMP:20260419T221823
CREATED:20240822T161429Z
LAST-MODIFIED:20240822T161429Z
UID:10007859-1726308000-1726311600@www.trailslibrary.org
SUMMARY:Cartoons & Pancakes - Concordia
DESCRIPTION:All Ages: It’s Second Saturday! Let’s enjoy pancakes and cartoons!
URL:https://www.trailslibrary.org/event/cartoons-pancakes-concordia-5/
LOCATION:Concordia Branch\, 813 S Main\, Concordia\, MO\, 64020\, United States
CATEGORIES:Adult,Adults,All Ages,Children,Family,Kids,Movie,preteens,senior,Seniors,Teen,Teens,Youth
END:VEVENT
BEGIN:VEVENT
DTSTART;TZID=America/New_York:20240914T100000
DTEND;TZID=America/New_York:20240914T230000
DTSTAMP:20260419T221823
CREATED:20240822T194051Z
LAST-MODIFIED:20240822T194051Z
UID:10008220-1726308000-1726354800@www.trailslibrary.org
SUMMARY:Cryptid Adventures with Lyle Blackburn - Warrensburg
DESCRIPTION:Ages 11+: Join a lively\, virtual discussion on cryptic creatures including Missouri’s own MOMO!
URL:https://www.trailslibrary.org/event/cryptid-adventures-with-lyle-blackburn-warrensburg/
LOCATION:Warrensburg Branch\, 432 N. Holden\, Warrensburg\, Missouri\, 64093\, United States
CATEGORIES:Adult,Adults,Children,Guest Speakers,Kids,preteens,senior,Seniors,Teen,Teens,Youth
END:VEVENT
BEGIN:VEVENT
DTSTART;TZID=America/New_York:20240914T120000
DTEND;TZID=America/New_York:20240914T130000
DTSTAMP:20260419T221823
CREATED:20240822T162621Z
LAST-MODIFIED:20240822T162621Z
UID:10007899-1726315200-1726318800@www.trailslibrary.org
SUMMARY:Chess Club - Corder
DESCRIPTION:Ages 6-18: Come test your skills with friendly opponents.
URL:https://www.trailslibrary.org/event/chess-club-corder-4/
LOCATION:Corder Branch\, 221 N. Lafayette\, Corder\, MO\, 64021\, United States
CATEGORIES:Children,Kids,Pre-Teen,Pre-Teens,Teen,Teens
END:VEVENT
BEGIN:VEVENT
DTSTART;TZID=America/New_York:20240916T093000
DTEND;TZID=America/New_York:20240916T100000
DTSTAMP:20260419T221823
CREATED:20240822T163047Z
LAST-MODIFIED:20240822T163047Z
UID:10007922-1726479000-1726480800@www.trailslibrary.org
SUMMARY:Monday Melodies - Corder
DESCRIPTION:Ages 0-5: Join us for fun-filled music and movement sessions tailored for toddlers! These engaging programs encourage physical activity\, coordination\, and early literacy through songs\, dance\, and interactive play. It’s a wonderful opportunity for your little one to socialize\, learn\, and enjoy the joyful world of music in a welcoming environment.
URL:https://www.trailslibrary.org/event/monday-melodies-corder-2/
LOCATION:Corder Branch\, 221 N. Lafayette\, Corder\, MO\, 64021\, United States
CATEGORIES:Children,Kids,Pre-School,Preschool,Toddlers
END:VEVENT
BEGIN:VEVENT
DTSTART;TZID=America/New_York:20240916T100000
DTEND;TZID=America/New_York:20240916T100000
DTSTAMP:20260419T221823
CREATED:20240822T192621Z
LAST-MODIFIED:20240822T192621Z
UID:10008173-1726480800-1726480800@www.trailslibrary.org
SUMMARY:Storytime - Waverly
DESCRIPTION:Ages 0-5: Come and enjoy stories\, crafts and more!
URL:https://www.trailslibrary.org/event/storytime-waverly-105/
LOCATION:Waverly Branch\, 203 E. Kelling\, Waverly\, MO\, 64096\, United States
CATEGORIES:Children,Kids,Pre-School,Preschool,Storytime,Toddlers
END:VEVENT
BEGIN:VEVENT
DTSTART;TZID=America/New_York:20240916T153000
DTEND;TZID=America/New_York:20240916T163000
DTSTAMP:20260419T221823
CREATED:20240822T162836Z
LAST-MODIFIED:20240822T162836Z
UID:10007908-1726500600-1726504200@www.trailslibrary.org
SUMMARY:Game On! - Corder
DESCRIPTION:Ages 6-18: Join us for some after school fun playing the Wii. We have Mario Kart and some sports games available to challenge your peers to a friendly competition!
URL:https://www.trailslibrary.org/event/game-on-corder-6/
LOCATION:Corder Branch\, 221 N. Lafayette\, Corder\, MO\, 64021\, United States
CATEGORIES:Children,Kids,Pre-Teen,Pre-Teens,Teen,Teens
END:VEVENT
BEGIN:VEVENT
DTSTART;TZID=America/New_York:20240916T160000
DTEND;TZID=America/New_York:20240916T170000
DTSTAMP:20260419T221823
CREATED:20240822T211204Z
LAST-MODIFIED:20240822T211204Z
UID:10008416-1726502400-1726506000@www.trailslibrary.org
SUMMARY:Squishy Art - Odessa
DESCRIPTION:Ages 9-12 REGISTRATION REQUIRED:You love to squish them\, now let’s paint one!
URL:https://www.trailslibrary.org/event/squishy-art-odessa/
LOCATION:Odessa Branch\, 107 W. Mason\, Odessa\, MO\, 64076\, United States
CATEGORIES:Children,Crafts,Kids
END:VEVENT
BEGIN:VEVENT
DTSTART;TZID=America/New_York:20240917T100000
DTEND;TZID=America/New_York:20240917T103000
DTSTAMP:20260419T221823
CREATED:20240822T161200Z
LAST-MODIFIED:20240822T161200Z
UID:10007846-1726567200-1726569000@www.trailslibrary.org
SUMMARY:Bubbly Storytime - Concordia
DESCRIPTION:Ages 0-5: Storytimes are for building pre-reading skills\, making friends and having fun! And there will be bubbles!
URL:https://www.trailslibrary.org/event/bubbly-storytime-concordia-8/
LOCATION:Concordia Branch\, 813 S Main\, Concordia\, MO\, 64020\, United States
CATEGORIES:Children,Kids,Pre-School,Preschool,Storytime,Toddlers
END:VEVENT
BEGIN:VEVENT
DTSTART;TZID=America/New_York:20240917T100000
DTEND;TZID=America/New_York:20240917T104500
DTSTAMP:20260419T221823
CREATED:20240822T200250Z
LAST-MODIFIED:20240822T200250Z
UID:10008288-1726567200-1726569900@www.trailslibrary.org
SUMMARY:Storytime - Warrensburg
DESCRIPTION:Ages 0-5: Meet up for stories\, music\, dancing\, a craft\, and of course bubbles!
URL:https://www.trailslibrary.org/event/storytime-warrensburg-67/
LOCATION:Warrensburg Branch\, 432 N. Holden\, Warrensburg\, Missouri\, 64093\, United States
CATEGORIES:Children,Kids,Pre-School,Preschool,Storytime,Toddlers
END:VEVENT
BEGIN:VEVENT
DTSTART;TZID=America/New_York:20240917T143000
DTEND;TZID=America/New_York:20240917T153000
DTSTAMP:20260419T221823
CREATED:20240822T200436Z
LAST-MODIFIED:20240822T200436Z
UID:10008292-1726583400-1726587000@www.trailslibrary.org
SUMMARY:Storytime - Warrensburg
DESCRIPTION:Ages 0-5: Meet up for stories\, music\, dancing\, a craft\, and of course bubbles!
URL:https://www.trailslibrary.org/event/storytime-warrensburg-71/
LOCATION:Warrensburg Branch\, 432 N. Holden\, Warrensburg\, Missouri\, 64093\, United States
CATEGORIES:Children,Kids,Pre-School,Preschool,Storytime,Toddlers
END:VEVENT
BEGIN:VEVENT
DTSTART;TZID=America/New_York:20240917T173000
DTEND;TZID=America/New_York:20240917T183000
DTSTAMP:20260419T221823
CREATED:20240822T194106Z
LAST-MODIFIED:20240822T194106Z
UID:10008225-1726594200-1726597800@www.trailslibrary.org
SUMMARY:Kids in the Kitchen - Warrensburg
DESCRIPTION:Ages 6-12 REGISTRATION REQUIRED: Join us for a fun hands-on program that teaches kids how to prepare simple recipes and encourages them to be active and to eat healthier meals and snacks.
URL:https://www.trailslibrary.org/event/kids-in-the-kitchen-warrensburg/
LOCATION:Warrensburg Branch\, 432 N. Holden\, Warrensburg\, Missouri\, 64093\, United States
CATEGORIES:Children,Kids,Youth
END:VEVENT
BEGIN:VEVENT
DTSTART;TZID=America/New_York:20240918T100000
DTEND;TZID=America/New_York:20240918T100000
DTSTAMP:20260419T221823
CREATED:20240822T171005Z
LAST-MODIFIED:20240822T171005Z
UID:10007997-1726653600-1726653600@www.trailslibrary.org
SUMMARY:Storytime - Holden
DESCRIPTION:Ages 0-5: Come listen to a story at the library and do a craft.
URL:https://www.trailslibrary.org/event/storytime-holden-122/
LOCATION:Holden Branch\, 207 S. Main\, Holden\, MO\, 64040\, United States
CATEGORIES:Children,Kids,Pre-School,Preschool,Storytime,Toddlers
END:VEVENT
BEGIN:VEVENT
DTSTART;TZID=America/New_York:20240918T100000
DTEND;TZID=America/New_York:20240918T100000
DTSTAMP:20260419T221823
CREATED:20240822T185410Z
LAST-MODIFIED:20240822T185410Z
UID:10008083-1726653600-1726653600@www.trailslibrary.org
SUMMARY:Storytime - Lexington
DESCRIPTION:Ages 0-5: Bring your little ones for storytime! Each week we read\, sing\, play and learn\, all while developing early literacy skills.
URL:https://www.trailslibrary.org/event/storytime-lexington-110/
LOCATION:Lexington Branch\, 1008 Main Street\, Lexington\, MO\, 64067\, United States
CATEGORIES:Children,Kids,Pre-School,Preschool,Storytime,Toddlers
END:VEVENT
BEGIN:VEVENT
DTSTART;TZID=America/New_York:20240918T100000
DTEND;TZID=America/New_York:20240918T100000
DTSTAMP:20260419T221823
CREATED:20240822T211218Z
LAST-MODIFIED:20240822T211218Z
UID:10008419-1726653600-1726653600@www.trailslibrary.org
SUMMARY:Storytime - Odessa
DESCRIPTION:Ages 0-5: Storytimes are for building pre-reading skills\, making friends\, and having fun!
URL:https://www.trailslibrary.org/event/storytime-odessa-80/
LOCATION:Odessa Branch\, 107 W. Mason\, Odessa\, MO\, 64076\, United States
CATEGORIES:Children,Kids,Pre-School,Preschool,Storytime,Toddlers
END:VEVENT
BEGIN:VEVENT
DTSTART;TZID=America/New_York:20240918T100000
DTEND;TZID=America/New_York:20240918T110000
DTSTAMP:20260419T221823
CREATED:20240822T162008Z
LAST-MODIFIED:20240822T162008Z
UID:10007865-1726653600-1726657200@www.trailslibrary.org
SUMMARY:Storytime - Corder
DESCRIPTION:Ages 0-5: Storytimes are for building pre-reading skills\, making friends\, and having fun!
URL:https://www.trailslibrary.org/event/storytime-corder-107/
LOCATION:Corder Branch\, 221 N. Lafayette\, Corder\, MO\, 64021\, United States
CATEGORIES:Children,Kids,Pre-School,Preschool,Storytime,Toddlers
END:VEVENT
BEGIN:VEVENT
DTSTART;TZID=America/New_York:20240918T100000
DTEND;TZID=America/New_York:20240918T110000
DTSTAMP:20260419T221823
CREATED:20240822T210705Z
LAST-MODIFIED:20240822T210705Z
UID:10008359-1726653600-1726657200@www.trailslibrary.org
SUMMARY:Storytime - Knob Noster
DESCRIPTION:Ages 0-5: Help your child develop a love for literacy with stories\, music\, & bubbles!
URL:https://www.trailslibrary.org/event/storytime-knob-noster-111/
LOCATION:Knob Noster Branch\, 202 N. Adams\, Knob Noster\, MO\, 65336\, United States
CATEGORIES:Children,Kids,Pre-School,Preschool,Storytime,Toddlers
END:VEVENT
BEGIN:VEVENT
DTSTART;TZID=America/New_York:20240918T150000
DTEND;TZID=America/New_York:20240918T180000
DTSTAMP:20260419T221823
CREATED:20240822T194706Z
LAST-MODIFIED:20240822T194706Z
UID:10008239-1726671600-1726682400@www.trailslibrary.org
SUMMARY:Libraries Got Game - Warrensburg
DESCRIPTION:All Ages: Get BOARD at the library with your family and friends! Fun and exciting board and XL games.
URL:https://www.trailslibrary.org/event/libraries-got-game-warrensburg-77/
LOCATION:Warrensburg Branch\, 432 N. Holden\, Warrensburg\, Missouri\, 64093\, United States
CATEGORIES:Adult,Adults,All Ages,Children,Family,Kids,preteens,senior,Seniors,Teen,Teens,Youth
END:VEVENT
BEGIN:VEVENT
DTSTART;TZID=America/New_York:20240919T100000
DTEND;TZID=America/New_York:20240919T110000
DTSTAMP:20260419T221823
CREATED:20240822T195351Z
LAST-MODIFIED:20240822T195351Z
UID:10008260-1726740000-1726743600@www.trailslibrary.org
SUMMARY:Music and More - Warrensburg
DESCRIPTION:Ages 0-5: Join us to get your wiggles out with singing and dancing. Children will use a variety of musical instruments to increase sensory development\, coordination\, literacy & numeracy skills. Stay and play with friends.
URL:https://www.trailslibrary.org/event/music-and-more-warrensburg-3/
LOCATION:Warrensburg Branch\, 432 N. Holden\, Warrensburg\, Missouri\, 64093\, United States
CATEGORIES:Children,Kids,Pre-School,Preschool,Toddlers
END:VEVENT
BEGIN:VEVENT
DTSTART;TZID=America/New_York:20240919T150000
DTEND;TZID=America/New_York:20240919T150000
DTSTAMP:20260419T221823
CREATED:20240822T170436Z
LAST-MODIFIED:20240822T170436Z
UID:10007985-1726758000-1726758000@www.trailslibrary.org
SUMMARY:Dungeons & Dragons Club - Holden
DESCRIPTION:Ages 13+ REGISTRATION REQUIRED: Come play Dungeons and Dragons with us.
URL:https://www.trailslibrary.org/event/dungeons-dragons-club-holden/
LOCATION:Holden Branch\, 207 S. Main\, Holden\, MO\, 64040\, United States
CATEGORIES:Children,Kids,Pre-Teen,Pre-Teens
END:VEVENT
BEGIN:VEVENT
DTSTART;TZID=America/New_York:20240921T093000
DTEND;TZID=America/New_York:20240921T103000
DTSTAMP:20260419T221823
CREATED:20240822T163619Z
LAST-MODIFIED:20240822T163619Z
UID:10007941-1726911000-1726914600@www.trailslibrary.org
SUMMARY:Roblox Saturday - Corder
DESCRIPTION:Ages 6-18: Join in the fun as we talk and play all things Roblox!
URL:https://www.trailslibrary.org/event/roblox-saturday-corder-3/
LOCATION:Corder Branch\, 221 N. Lafayette\, Corder\, MO\, 64021\, United States
CATEGORIES:Children,Kids,Pre-Teen,Pre-Teens,Teen,Teens
END:VEVENT
BEGIN:VEVENT
DTSTART;TZID=America/New_York:20240921T100000
DTEND;TZID=America/New_York:20240921T110000
DTSTAMP:20260419T221823
CREATED:20240822T200225Z
LAST-MODIFIED:20240822T200225Z
UID:10008281-1726912800-1726916400@www.trailslibrary.org
SUMMARY:RED (Robotics\, Engineering & Design) - Warrensburg
DESCRIPTION:Ages 6-12: Join us as we explore and create through various technology\, hands-on activities\, and art.
URL:https://www.trailslibrary.org/event/red-robotics-engineering-design-warrensburg/
LOCATION:Warrensburg Branch\, 432 N. Holden\, Warrensburg\, Missouri\, 64093\, United States
CATEGORIES:Children,Kids,STEAM
END:VEVENT
END:VCALENDAR