BEGIN:VCALENDAR
VERSION:2.0
PRODID:-//Trails Regional Library - ECPv6.15.20//NONSGML v1.0//EN
CALSCALE:GREGORIAN
METHOD:PUBLISH
X-ORIGINAL-URL:https://www.trailslibrary.org
X-WR-CALDESC:Events for Trails Regional Library
REFRESH-INTERVAL;VALUE=DURATION:PT1H
X-Robots-Tag:noindex
X-PUBLISHED-TTL:PT1H
BEGIN:VTIMEZONE
TZID:America/New_York
BEGIN:DAYLIGHT
TZOFFSETFROM:-0500
TZOFFSETTO:-0400
TZNAME:EDT
DTSTART:20220313T070000
END:DAYLIGHT
BEGIN:STANDARD
TZOFFSETFROM:-0400
TZOFFSETTO:-0500
TZNAME:EST
DTSTART:20221106T060000
END:STANDARD
BEGIN:DAYLIGHT
TZOFFSETFROM:-0500
TZOFFSETTO:-0400
TZNAME:EDT
DTSTART:20230312T070000
END:DAYLIGHT
BEGIN:STANDARD
TZOFFSETFROM:-0400
TZOFFSETTO:-0500
TZNAME:EST
DTSTART:20231105T060000
END:STANDARD
BEGIN:DAYLIGHT
TZOFFSETFROM:-0500
TZOFFSETTO:-0400
TZNAME:EDT
DTSTART:20240310T070000
END:DAYLIGHT
BEGIN:STANDARD
TZOFFSETFROM:-0400
TZOFFSETTO:-0500
TZNAME:EST
DTSTART:20241103T060000
END:STANDARD
BEGIN:DAYLIGHT
TZOFFSETFROM:-0500
TZOFFSETTO:-0400
TZNAME:EDT
DTSTART:20250309T070000
END:DAYLIGHT
BEGIN:STANDARD
TZOFFSETFROM:-0400
TZOFFSETTO:-0500
TZNAME:EST
DTSTART:20251102T060000
END:STANDARD
END:VTIMEZONE
BEGIN:VEVENT
DTSTART;TZID=America/New_York:20231220T140000
DTEND;TZID=America/New_York:20231220T160000
DTSTAMP:20260420T191622
CREATED:20230818T201501Z
LAST-MODIFIED:20230917T051401Z
UID:10006800-1703080800-1703088000@www.trailslibrary.org
SUMMARY:Angel Ornament - Waverly
DESCRIPTION:All Ages: REGISTRATION Required–Come and make an Angel Tassle Ornament
URL:https://www.trailslibrary.org/event/angel-ornament-waverly/
LOCATION:Waverly Branch\, 203 E. Kelling\, Waverly\, MO\, 64096\, United States
CATEGORIES:Adult,Adults,All Ages,Children,Crafts,Family,Kids,preteens,senior,Seniors,Teen,Teens,Youth
END:VEVENT
BEGIN:VEVENT
DTSTART;TZID=America/New_York:20231220T164000
DTEND;TZID=America/New_York:20231220T180000
DTSTAMP:20260420T191622
CREATED:20230820T063901Z
LAST-MODIFIED:20230820T063901Z
UID:10006923-1703090400-1703095200@www.trailslibrary.org
SUMMARY:Libraries Got Game - Warrensburg
DESCRIPTION:All Ages: Get BOARD at the library with your family and friends! Fun and exciting board and XL games.
URL:https://www.trailslibrary.org/event/libraries-got-game-warrensburg-40/
LOCATION:Warrensburg Branch\, 432 N. Holden\, Warrensburg\, Missouri\, 64093\, United States
CATEGORIES:Adult,Adults,All Ages,Children,Family,Kids,preteens,senior,Seniors,Teen,Teens,Youth
END:VEVENT
BEGIN:VEVENT
DTSTART;TZID=America/New_York:20231220T183000
DTEND;TZID=America/New_York:20231220T200000
DTSTAMP:20260420T191622
CREATED:20230818T201303Z
LAST-MODIFIED:20230820T063545Z
UID:10005665-1703097000-1703102400@www.trailslibrary.org
SUMMARY:Card Games - Warrensburg
DESCRIPTION:All Ages: Join us for Cards!                                                                            10 point pitch\, UNO\, Phase 10\, and others! Don’t know how to play\, we will teach you!
URL:https://www.trailslibrary.org/event/card-games-warrensburg/
LOCATION:Warrensburg Branch\, 432 N. Holden\, Warrensburg\, Missouri\, 64093\, United States
CATEGORIES:Adult,Adults,All Ages,Children,Family,Kids,preteens,senior,Seniors,Teen,Teens,Youth
END:VEVENT
BEGIN:VEVENT
DTSTART;TZID=America/New_York:20231221T093000
DTEND;TZID=America/New_York:20231221T100000
DTSTAMP:20260420T191622
CREATED:20230820T063946Z
LAST-MODIFIED:20230820T063946Z
UID:10006940-1703151000-1703152800@www.trailslibrary.org
SUMMARY:Music & Movement - Warrensburg
DESCRIPTION:Ages 0-5: Join us to get your wiggles our with singing and dancing. Children will use a variety of musical instruments to increase sensory development\, coordination\, literacy & numeracy skills
URL:https://www.trailslibrary.org/event/music-movement-warrensburg-15/
LOCATION:Warrensburg Branch\, 432 N. Holden\, Warrensburg\, Missouri\, 64093\, United States
CATEGORIES:Children,Kids,Pre-School,Preschool,Toddlers
END:VEVENT
BEGIN:VEVENT
DTSTART;TZID=America/New_York:20231221T100000
DTEND;TZID=America/New_York:20231221T103000
DTSTAMP:20260420T191622
CREATED:20230820T064246Z
LAST-MODIFIED:20230820T064246Z
UID:10006975-1703152800-1703154600@www.trailslibrary.org
SUMMARY:Stay Play and Learn - Warrensburg
DESCRIPTION:Ages 0-5: Stay after Music and Moverment to play and learn with your friends. Activities will focus on improving language\, fine and gross motor skills\, develop social skills and aid with cognitive development.
URL:https://www.trailslibrary.org/event/stay-play-and-learn-warrensburg-15/
LOCATION:Warrensburg Branch\, 432 N. Holden\, Warrensburg\, Missouri\, 64093\, United States
CATEGORIES:Children,Kids,Pre-School,Preschool,Toddlers
END:VEVENT
BEGIN:VEVENT
DTSTART;TZID=America/New_York:20231227T100000
DTEND;TZID=America/New_York:20231227T103000
DTSTAMP:20260420T191622
CREATED:20230820T042853Z
LAST-MODIFIED:20230820T042853Z
UID:10006858-1703671200-1703673000@www.trailslibrary.org
SUMMARY:Storytime - Lexington
DESCRIPTION:Ages 0-5: Bring your little ones for storytime! Each week we read\, sing\, play and learn\, all while developing early literacy skills.
URL:https://www.trailslibrary.org/event/storytime-lexington-84/
LOCATION:Lexington Branch\, 1008 Main Street\, Lexington\, MO\, 64067\, United States
CATEGORIES:Children,Kids,Preschool,Storytime
END:VEVENT
BEGIN:VEVENT
DTSTART;TZID=America/New_York:20231227T100000
DTEND;TZID=America/New_York:20231227T103000
DTSTAMP:20260420T191622
CREATED:20230820T045813Z
LAST-MODIFIED:20230820T055456Z
UID:10006901-1703671200-1703673000@www.trailslibrary.org
SUMMARY:Storytots - Knob Noster
DESCRIPTION:Ages 0-3: Introduce your tot to the library through songs\, fingerplays\, and books!
URL:https://www.trailslibrary.org/event/storytots-knob-noster-37/
LOCATION:Knob Noster Branch\, 202 N. Adams\, Knob Noster\, MO\, 65336\, United States
CATEGORIES:Children,Kids,Storytime
END:VEVENT
BEGIN:VEVENT
DTSTART;TZID=America/New_York:20231227T103000
DTEND;TZID=America/New_York:20231227T110000
DTSTAMP:20260420T191622
CREATED:20230820T042543Z
LAST-MODIFIED:20230820T042543Z
UID:10006842-1703673000-1703674800@www.trailslibrary.org
SUMMARY:Stay and Play - Lexington
DESCRIPTION:Ages 0-5: Stay and play after storytime to get your wiggles out! Have some fun\, play games\, and make new friends!
URL:https://www.trailslibrary.org/event/stay-and-play-lexington-14/
LOCATION:Lexington Branch\, 1008 Main Street\, Lexington\, MO\, 64067\, United States
CATEGORIES:Children,Kids,Preschool
END:VEVENT
BEGIN:VEVENT
DTSTART;TZID=America/New_York:20231227T103000
DTEND;TZID=America/New_York:20231227T110000
DTSTAMP:20260420T191622
CREATED:20230820T045219Z
LAST-MODIFIED:20230820T055000Z
UID:10005767-1703673000-1703674800@www.trailslibrary.org
SUMMARY:Kid Connection - Knob Noster
DESCRIPTION:Ages 0-5: Kiddos! Come play and hang out\, make new friends\, and see all the library has to offer!
URL:https://www.trailslibrary.org/event/kid-connection-knob-noster-17/
LOCATION:Knob Noster Branch\, 202 N. Adams\, Knob Noster\, MO\, 65336\, United States
CATEGORIES:Children,Kids,Preschool,Storytime
END:VEVENT
BEGIN:VEVENT
DTSTART;TZID=America/New_York:20231227T110000
DTEND;TZID=America/New_York:20231227T120000
DTSTAMP:20260420T191622
CREATED:20230820T045626Z
LAST-MODIFIED:20230820T055102Z
UID:10006893-1703674800-1703678400@www.trailslibrary.org
SUMMARY:Preschool Storytime - Knob Noster
DESCRIPTION:Ages 3-5: Bring your preschoolers for stories\, crafts\, songs and bubbles to encourage growth in literacy!
URL:https://www.trailslibrary.org/event/preschool-storytime-knob-noster-39/
LOCATION:Knob Noster Branch\, 202 N. Adams\, Knob Noster\, MO\, 65336\, United States
CATEGORIES:Children,Kids,Preschool
END:VEVENT
BEGIN:VEVENT
DTSTART;TZID=America/New_York:20231227T140000
DTEND;TZID=America/New_York:20231227T160000
DTSTAMP:20260420T191622
CREATED:20230820T064320Z
LAST-MODIFIED:20230820T064320Z
UID:10006980-1703685600-1703692800@www.trailslibrary.org
SUMMARY:STEAM for T(w)eens - Warrensburg
DESCRIPTION:Ages 13-18: Did you ever want to build this? Did you every wonder what happens if? Come find out as we explore various STEAM activities.
URL:https://www.trailslibrary.org/event/steam-for-tweens-warrensburg-8/
LOCATION:Warrensburg Branch\, 432 N. Holden\, Warrensburg\, Missouri\, 64093\, United States
CATEGORIES:Children,Kids,Pre-Teen,Pre-Teens,STEAM
END:VEVENT
BEGIN:VEVENT
DTSTART;TZID=America/New_York:20231227T164000
DTEND;TZID=America/New_York:20231227T180000
DTSTAMP:20260420T191622
CREATED:20230820T063901Z
LAST-MODIFIED:20230820T063901Z
UID:10006924-1703695200-1703700000@www.trailslibrary.org
SUMMARY:Libraries Got Game - Warrensburg
DESCRIPTION:All Ages: Get BOARD at the library with your family and friends! Fun and exciting board and XL games.
URL:https://www.trailslibrary.org/event/libraries-got-game-warrensburg-41/
LOCATION:Warrensburg Branch\, 432 N. Holden\, Warrensburg\, Missouri\, 64093\, United States
CATEGORIES:Adult,Adults,All Ages,Children,Family,Kids,preteens,senior,Seniors,Teen,Teens,Youth
END:VEVENT
BEGIN:VEVENT
DTSTART;TZID=America/New_York:20231228T093000
DTEND;TZID=America/New_York:20231228T100000
DTSTAMP:20260420T191622
CREATED:20230820T063946Z
LAST-MODIFIED:20230820T063946Z
UID:10006941-1703755800-1703757600@www.trailslibrary.org
SUMMARY:Music & Movement - Warrensburg
DESCRIPTION:Ages 0-5: Join us to get your wiggles our with singing and dancing. Children will use a variety of musical instruments to increase sensory development\, coordination\, literacy & numeracy skills
URL:https://www.trailslibrary.org/event/music-movement-warrensburg-16/
LOCATION:Warrensburg Branch\, 432 N. Holden\, Warrensburg\, Missouri\, 64093\, United States
CATEGORIES:Children,Kids,Pre-School,Preschool,Toddlers
END:VEVENT
BEGIN:VEVENT
DTSTART;TZID=America/New_York:20231228T100000
DTEND;TZID=America/New_York:20231228T103000
DTSTAMP:20260420T191622
CREATED:20230820T064247Z
LAST-MODIFIED:20230820T064247Z
UID:10006976-1703757600-1703759400@www.trailslibrary.org
SUMMARY:Stay Play and Learn - Warrensburg
DESCRIPTION:Ages 0-5: Stay after Music and Moverment to play and learn with your friends. Activities will focus on improving language\, fine and gross motor skills\, develop social skills and aid with cognitive development.
URL:https://www.trailslibrary.org/event/stay-play-and-learn-warrensburg-16/
LOCATION:Warrensburg Branch\, 432 N. Holden\, Warrensburg\, Missouri\, 64093\, United States
CATEGORIES:Children,Kids,Pre-School,Preschool,Toddlers
END:VEVENT
BEGIN:VEVENT
DTSTART;TZID=America/New_York:20231228T153000
DTEND;TZID=America/New_York:20231228T170000
DTSTAMP:20260420T191622
CREATED:20230818T201028Z
LAST-MODIFIED:20230820T042513Z
UID:10006730-1703777400-1703782800@www.trailslibrary.org
SUMMARY:Kid's Club - Lexington
DESCRIPTION:Ages 6-12: Calling all 6-12 year olds! If you like crafts\, games and fun science activities (STEAM) then this club is for you. Head over to the library and join in on the fun! Snack provided. Bring a friend for even MORE fun !
URL:https://www.trailslibrary.org/event/kids-club-lexington-2/
LOCATION:Lexington Branch\, 1008 Main Street\, Lexington\, MO\, 64067\, United States
CATEGORIES:Children,Kids,Pre-Teen,Pre-Teens
END:VEVENT
BEGIN:VEVENT
DTSTART;TZID=America/New_York:20231229T140000
DTEND;TZID=America/New_York:20231229T170000
DTSTAMP:20260420T191622
CREATED:20230818T201209Z
LAST-MODIFIED:20230818T212537Z
UID:10006753-1703858400-1703869200@www.trailslibrary.org
SUMMARY:Feature Friday - Odessa
DESCRIPTION:All Ages: Join us for our family movie. We provide the popcorn\, you supply your favorite drink.
URL:https://www.trailslibrary.org/event/feature-friday-odessa-8/
LOCATION:Odessa Branch\, 107 W. Mason\, Odessa\, MO\, 64076\, United States
CATEGORIES:Adult,Adults,All Ages,Children,Family,Kids,Movie,Teens
END:VEVENT
BEGIN:VEVENT
DTSTART;TZID=America/New_York:20240102T160000
DTEND;TZID=America/New_York:20240102T160000
DTSTAMP:20260420T191622
CREATED:20231215T184413Z
LAST-MODIFIED:20231215T184413Z
UID:10006197-1704211200-1704211200@www.trailslibrary.org
SUMMARY:Well-Read Poet's Society-Odessa
DESCRIPTION:Ages 13+: Join us for a cup of tea as we discuss\, read\, and compose poetry
URL:https://www.trailslibrary.org/event/well-read-poets-society-odessa-7/
LOCATION:Odessa Branch\, 107 W. Mason\, Odessa\, MO\, 64076\, United States
CATEGORIES:Book Clubs,Children,Kids,Teens
END:VEVENT
BEGIN:VEVENT
DTSTART;TZID=America/New_York:20240103T163000
DTEND;TZID=America/New_York:20240103T183000
DTSTAMP:20260420T191622
CREATED:20231215T190435Z
LAST-MODIFIED:20231215T191531Z
UID:10007416-1704299400-1704306600@www.trailslibrary.org
SUMMARY:Libraries Got Game-Warrensburg
DESCRIPTION:All Ages: Get BOARD at the library with your family and friends! Fun and exciting board and XL games.
URL:https://www.trailslibrary.org/event/libraries-got-game-warrensburg-42/
LOCATION:Warrensburg Branch\, 432 N. Holden\, Warrensburg\, Missouri\, 64093\, United States
CATEGORIES:Adult,Adults,All Ages,Children,Family,Kids,preteens,senior,Seniors,Teen,Teens,Youth
END:VEVENT
BEGIN:VEVENT
DTSTART;TZID=America/New_York:20240106T100000
DTEND;TZID=America/New_York:20240106T110000
DTSTAMP:20260420T191622
CREATED:20231215T182304Z
LAST-MODIFIED:20231215T182304Z
UID:10006118-1704535200-1704538800@www.trailslibrary.org
SUMMARY:Saturday Storytime & Craft-Leeton
DESCRIPTION:All Ages: Join us on the 1st Saturday of the month at 10 AM for Storytime
URL:https://www.trailslibrary.org/event/saturday-storytime-craft-leeton/
LOCATION:Leeton Express Branch\, 500 N. Main\, Leeton\, MO\, 64761\, United States
CATEGORIES:Adult,Adults,All Ages,Children,Family,Kids,preteens,senior,Seniors,Storytime,Teen,Teens,Youth
END:VEVENT
BEGIN:VEVENT
DTSTART;TZID=America/New_York:20240106T100000
DTEND;TZID=America/New_York:20240106T110000
DTSTAMP:20260420T191622
CREATED:20231215T190336Z
LAST-MODIFIED:20231215T190336Z
UID:10007408-1704535200-1704538800@www.trailslibrary.org
SUMMARY:Molly of Denali-Warrensburg
DESCRIPTION:Ages 5-9: Join KMOS PBS and Trails Regional Library for a special Molly of Denali read-along of “Little Dog Lost” and watch the book come to life in the episode of the same name on! In this story\, Tooey’s new sled dog goes missing. What can Molly and Tooey do to make sure the lost dog finds her way home?
URL:https://www.trailslibrary.org/event/molly-of-denali-warrensburg/
LOCATION:Warrensburg Branch\, 432 N. Holden\, Warrensburg\, Missouri\, 64093\, United States
CATEGORIES:Children,Kids
END:VEVENT
BEGIN:VEVENT
DTSTART;TZID=America/New_York:20240106T110000
DTEND;TZID=America/New_York:20240106T130000
DTSTAMP:20260420T191622
CREATED:20231215T182319Z
LAST-MODIFIED:20231215T182319Z
UID:10007220-1704538800-1704546000@www.trailslibrary.org
SUMMARY:Saturday Cinema-Leeton
DESCRIPTION:All Ages: Join us on the 1st Saturday of the month at 11 AM for a family friendly movie. Bring a friend and a drink with a lid. We will provide the popcorn!
URL:https://www.trailslibrary.org/event/saturday-cinema-leeton-3/
LOCATION:Leeton Express Branch\, 500 N. Main\, Leeton\, MO\, 64761\, United States
CATEGORIES:Adult,Adults,All Ages,Children,Family,Kids,Movie,preteens,senior,Seniors,Teen,Teens,Youth
END:VEVENT
BEGIN:VEVENT
DTSTART;TZID=America/New_York:20240110T160000
DTEND;TZID=America/New_York:20240110T160000
DTSTAMP:20260420T191622
CREATED:20231215T181545Z
LAST-MODIFIED:20231215T181545Z
UID:10007208-1704902400-1704902400@www.trailslibrary.org
SUMMARY:Molly of Denali-Knob Noster
DESCRIPTION:Ages 5-9: Join KMOS PBS and Trails Regional Library for a special Molly of Denali read-along of “Little Dog Lost” and watch the book come to life in the episode of the same name! In this story\, Tooey’s new sled dog goes missing. What can Molly and Tooey do to make sure the lost dog finds her way home?
URL:https://www.trailslibrary.org/event/molly-of-denali-knob-noster/
LOCATION:Knob Noster Branch\, 202 N. Adams\, Knob Noster\, MO\, 65336\, United States
CATEGORIES:Children,Kids,Youth
END:VEVENT
BEGIN:VEVENT
DTSTART;TZID=America/New_York:20240110T163000
DTEND;TZID=America/New_York:20240110T183000
DTSTAMP:20260420T191622
CREATED:20231215T190436Z
LAST-MODIFIED:20231215T191531Z
UID:10007417-1704904200-1704911400@www.trailslibrary.org
SUMMARY:Libraries Got Game-Warrensburg
DESCRIPTION:All Ages: Get BOARD at the library with your family and friends! Fun and exciting board and XL games.
URL:https://www.trailslibrary.org/event/libraries-got-game-warrensburg-43/
LOCATION:Warrensburg Branch\, 432 N. Holden\, Warrensburg\, Missouri\, 64093\, United States
CATEGORIES:Adult,Adults,All Ages,Children,Family,Kids,preteens,senior,Seniors,Teen,Teens,Youth
END:VEVENT
BEGIN:VEVENT
DTSTART;TZID=America/New_York:20240111T160000
DTEND;TZID=America/New_York:20240111T160000
DTSTAMP:20260420T191622
CREATED:20231215T184613Z
LAST-MODIFIED:20231215T184613Z
UID:10007303-1704988800-1704988800@www.trailslibrary.org
SUMMARY:Molly of Denali-Odessa
DESCRIPTION:Ages 5-9: Join KMOS PBS and Trails Regional Library for a special Molly of Denali read-along of “Little Dog Lost” and watch the book come to life in the episode of the same name on! In this story\, Tooey’s new sled dog goes missing. What can Molly and Tooey do to make sure the lost dog finds her way home?
URL:https://www.trailslibrary.org/event/molly-of-denali-odessa/
LOCATION:Odessa Branch\, 107 W. Mason\, Odessa\, MO\, 64076\, United States
CATEGORIES:Children,Kids,Youth
END:VEVENT
BEGIN:VEVENT
DTSTART;TZID=America/New_York:20240112T160000
DTEND;TZID=America/New_York:20240112T170000
DTSTAMP:20260420T191622
CREATED:20231215T183424Z
LAST-MODIFIED:20231215T183424Z
UID:10007263-1705075200-1705078800@www.trailslibrary.org
SUMMARY:Molly of Denali-Lexington
DESCRIPTION:Ages 5-9: Join KMOS PBS and Trails Regional Library for a special Molly of Denali read-along of “Little Dog Lost” and watch the book come to life in the episode of the same name on! In this story\, Tooey’s new sled dog goes missing. What can Molly and Tooey do to make sure the lost dog finds her way home?
URL:https://www.trailslibrary.org/event/molly-of-denali-lexington/
LOCATION:Lexington Branch\, 1008 Main Street\, Lexington\, MO\, 64067\, United States
CATEGORIES:Children,Kids,Youth
END:VEVENT
BEGIN:VEVENT
DTSTART;TZID=America/New_York:20240113T100000
DTEND;TZID=America/New_York:20240113T110000
DTSTAMP:20260420T191622
CREATED:20231215T190605Z
LAST-MODIFIED:20231215T190605Z
UID:10006342-1705140000-1705143600@www.trailslibrary.org
SUMMARY:Flapjacks & Funnies-Warrensburg
DESCRIPTION:All Ages: Join us for classic cartoons and a bite of breakfast.
URL:https://www.trailslibrary.org/event/flapjacks-funnies-warrensburg/
LOCATION:Warrensburg Branch\, 432 N. Holden\, Warrensburg\, Missouri\, 64093\, United States
CATEGORIES:Adult,Adults,All Ages,Children,Family,Kids,Movie,preteens,senior,Seniors,Teen,Teens,Youth
END:VEVENT
BEGIN:VEVENT
DTSTART;TZID=America/New_York:20240113T100000
DTEND;TZID=America/New_York:20240113T113000
DTSTAMP:20260420T191622
CREATED:20231215T174809Z
LAST-MODIFIED:20231215T174809Z
UID:10007092-1705140000-1705145400@www.trailslibrary.org
SUMMARY:Cartoons and Pancakes-Concordia
DESCRIPTION:All Ages: Join us for an old-fashioned Saturday morning. We eat pancakes and watch cartoons with friends!
URL:https://www.trailslibrary.org/event/cartoons-and-pancakes-concordia/
LOCATION:Concordia Branch\, 813 S Main\, Concordia\, MO\, 64020\, United States
CATEGORIES:Adult,Adults,All Ages,Children,Family,Kids,Movie,preteens,senior,Seniors,Teen,Teens,Youth
END:VEVENT
BEGIN:VEVENT
DTSTART;TZID=America/New_York:20240116T100000
DTEND;TZID=America/New_York:20240116T103000
DTSTAMP:20260420T191622
CREATED:20231215T190005Z
LAST-MODIFIED:20231215T190005Z
UID:10007357-1705399200-1705401000@www.trailslibrary.org
SUMMARY:Preschool Storytime-Warrensburg
DESCRIPTION:Ages 0-5: Storytime: Meet up for stories\, music\, dancing\, and of course\, bubbles!
URL:https://www.trailslibrary.org/event/preschool-storytime-warrensburg-53/
LOCATION:Warrensburg Branch\, 432 N. Holden\, Warrensburg\, Missouri\, 64093\, United States
CATEGORIES:Children,Kids,Preschool,Storytime
END:VEVENT
BEGIN:VEVENT
DTSTART;TZID=America/New_York:20240116T103000
DTEND;TZID=America/New_York:20240116T110000
DTSTAMP:20260420T191622
CREATED:20231215T185920Z
LAST-MODIFIED:20231215T185920Z
UID:10007341-1705401000-1705402800@www.trailslibrary.org
SUMMARY:Preschool Craftime-Warrensburg
DESCRIPTION:Ages 0-5: Stay after storytime to make a themed craft with Miss Amy.
URL:https://www.trailslibrary.org/event/preschool-craftime-warrensburg-17/
LOCATION:Warrensburg Branch\, 432 N. Holden\, Warrensburg\, Missouri\, 64093\, United States
CATEGORIES:Children,Kids,Preschool
END:VEVENT
BEGIN:VEVENT
DTSTART;TZID=America/New_York:20240117T163000
DTEND;TZID=America/New_York:20240117T183000
DTSTAMP:20260420T191622
CREATED:20231215T190436Z
LAST-MODIFIED:20231215T191531Z
UID:10007418-1705509000-1705516200@www.trailslibrary.org
SUMMARY:Libraries Got Game-Warrensburg
DESCRIPTION:All Ages: Get BOARD at the library with your family and friends! Fun and exciting board and XL games.
URL:https://www.trailslibrary.org/event/libraries-got-game-warrensburg-44/
LOCATION:Warrensburg Branch\, 432 N. Holden\, Warrensburg\, Missouri\, 64093\, United States
CATEGORIES:Adult,Adults,All Ages,Children,Family,Kids,preteens,senior,Seniors,Teen,Teens,Youth
END:VEVENT
END:VCALENDAR