BEGIN:VCALENDAR
VERSION:2.0
PRODID:-//Trails Regional Library - ECPv6.15.20//NONSGML v1.0//EN
CALSCALE:GREGORIAN
METHOD:PUBLISH
X-ORIGINAL-URL:https://www.trailslibrary.org
X-WR-CALDESC:Events for Trails Regional Library
REFRESH-INTERVAL;VALUE=DURATION:PT1H
X-Robots-Tag:noindex
X-PUBLISHED-TTL:PT1H
BEGIN:VTIMEZONE
TZID:America/New_York
BEGIN:DAYLIGHT
TZOFFSETFROM:-0500
TZOFFSETTO:-0400
TZNAME:EDT
DTSTART:20220313T070000
END:DAYLIGHT
BEGIN:STANDARD
TZOFFSETFROM:-0400
TZOFFSETTO:-0500
TZNAME:EST
DTSTART:20221106T060000
END:STANDARD
BEGIN:DAYLIGHT
TZOFFSETFROM:-0500
TZOFFSETTO:-0400
TZNAME:EDT
DTSTART:20230312T070000
END:DAYLIGHT
BEGIN:STANDARD
TZOFFSETFROM:-0400
TZOFFSETTO:-0500
TZNAME:EST
DTSTART:20231105T060000
END:STANDARD
BEGIN:DAYLIGHT
TZOFFSETFROM:-0500
TZOFFSETTO:-0400
TZNAME:EDT
DTSTART:20240310T070000
END:DAYLIGHT
BEGIN:STANDARD
TZOFFSETFROM:-0400
TZOFFSETTO:-0500
TZNAME:EST
DTSTART:20241103T060000
END:STANDARD
END:VTIMEZONE
BEGIN:VEVENT
DTSTART;TZID=America/New_York:20231108T140000
DTEND;TZID=America/New_York:20231108T160000
DTSTAMP:20260420T224213
CREATED:20230820T064320Z
LAST-MODIFIED:20230820T064320Z
UID:10006979-1699452000-1699459200@www.trailslibrary.org
SUMMARY:STEAM for T(w)eens - Warrensburg
DESCRIPTION:Ages 13-18: Did you ever want to build this? Did you every wonder what happens if? Come find out as we explore various STEAM activities.
URL:https://www.trailslibrary.org/event/steam-for-tweens-warrensburg-7/
LOCATION:Warrensburg Branch\, 432 N. Holden\, Warrensburg\, Missouri\, 64093\, United States
CATEGORIES:Children,Kids,Pre-Teen,Pre-Teens,STEAM
END:VEVENT
BEGIN:VEVENT
DTSTART;TZID=America/New_York:20231108T163000
DTEND;TZID=America/New_York:20231108T180000
DTSTAMP:20260420T224213
CREATED:20230820T063845Z
LAST-MODIFIED:20230820T063845Z
UID:10005813-1699461000-1699466400@www.trailslibrary.org
SUMMARY:Libraries Got Game - Warrensburg
DESCRIPTION:All Ages: Get BOARD at the library with your family and friends! Fun and exciting board and XL games.
URL:https://www.trailslibrary.org/event/libraries-got-game-warrensburg-34/
LOCATION:Warrensburg Branch\, 432 N. Holden\, Warrensburg\, Missouri\, 64093\, United States
CATEGORIES:Adult,Adults,All Ages,Children,Family,Kids,preteens,senior,Seniors,Teen,Teens,Youth
END:VEVENT
BEGIN:VEVENT
DTSTART;TZID=America/New_York:20231108T170000
DTEND;TZID=America/New_York:20231108T180000
DTSTAMP:20260420T224213
CREATED:20230820T064342Z
LAST-MODIFIED:20230820T064342Z
UID:10006982-1699462800-1699466400@www.trailslibrary.org
SUMMARY:Yoga for All - Warrensburg
DESCRIPTION:All Ages: Discover inner calm and build strength during this relaxing program led by a certified instructor. Please wear comfortable clothing and bring a mat or towel.
URL:https://www.trailslibrary.org/event/yoga-for-all-warrensburg-5/
LOCATION:Warrensburg Branch\, 432 N. Holden\, Warrensburg\, Missouri\, 64093\, United States
CATEGORIES:Adult,Adults,All Ages,Children,Family,Kids,preteens,senior,Seniors,Teen,Teens,Youth
END:VEVENT
BEGIN:VEVENT
DTSTART;TZID=America/New_York:20231109T093000
DTEND;TZID=America/New_York:20231109T100000
DTSTAMP:20260420T224213
CREATED:20230820T063931Z
LAST-MODIFIED:20230820T063931Z
UID:10006935-1699522200-1699524000@www.trailslibrary.org
SUMMARY:Music & Movement - Warrensburg
DESCRIPTION:Ages 0-5: Join us to get your wiggles our with singing and dancing. Children will use a variety of musical instruments to increase sensory development\, coordination\, literacy & numeracy skills
URL:https://www.trailslibrary.org/event/music-movement-warrensburg-10/
LOCATION:Warrensburg Branch\, 432 N. Holden\, Warrensburg\, Missouri\, 64093\, United States
CATEGORIES:Children,Kids,Pre-School,Preschool,Toddlers
END:VEVENT
BEGIN:VEVENT
DTSTART;TZID=America/New_York:20231109T100000
DTEND;TZID=America/New_York:20231109T103000
DTSTAMP:20260420T224213
CREATED:20230820T064231Z
LAST-MODIFIED:20230820T064231Z
UID:10005865-1699524000-1699525800@www.trailslibrary.org
SUMMARY:Stay Play and Learn - Warrensburg
DESCRIPTION:Ages 0-5: Stay after Music and Moverment to play and learn with your friends. Activities will focus on improving language\, fine and gross motor skills\, develop social skills and aid with cognitive development.
URL:https://www.trailslibrary.org/event/stay-play-and-learn-warrensburg-10/
LOCATION:Warrensburg Branch\, 432 N. Holden\, Warrensburg\, Missouri\, 64093\, United States
CATEGORIES:Children,Kids,Pre-School,Preschool,Toddlers
END:VEVENT
BEGIN:VEVENT
DTSTART;TZID=America/New_York:20231109T160000
DTEND;TZID=America/New_York:20231109T160000
DTSTAMP:20260420T224213
CREATED:20230820T045414Z
LAST-MODIFIED:20230820T055017Z
UID:10006874-1699545600-1699545600@www.trailslibrary.org
SUMMARY:Lego Club - Knob Noster
DESCRIPTION:All Ages: Bring the whole family for fun building challenges!
URL:https://www.trailslibrary.org/event/lego-club-knob-noster-3/
LOCATION:Knob Noster Branch\, 202 N. Adams\, Knob Noster\, MO\, 65336\, United States
CATEGORIES:Adult,Adults,All Ages,Children,Family,Kids,senior,Seniors,Teen,Teens
END:VEVENT
BEGIN:VEVENT
DTSTART;TZID=America/New_York:20231112T103000
DTEND;TZID=America/New_York:20231112T110000
DTSTAMP:20260420T224213
CREATED:20230820T064046Z
LAST-MODIFIED:20230820T064046Z
UID:10006946-1699785000-1699786800@www.trailslibrary.org
SUMMARY:Preschool Craftime - Warrensburg
DESCRIPTION:Ages 0-5: Stay after storytime to make a themed craft with Miss Amy.
URL:https://www.trailslibrary.org/event/preschool-craftime-warrensburg-10/
LOCATION:Warrensburg Branch\, 432 N. Holden\, Warrensburg\, Missouri\, 64093\, United States
CATEGORIES:Children,Craft,Crafts,Kids,Preschool
END:VEVENT
BEGIN:VEVENT
DTSTART;TZID=America/New_York:20231113T100000
DTEND;TZID=America/New_York:20231113T103000
DTSTAMP:20260420T224213
CREATED:20230818T201533Z
LAST-MODIFIED:20230917T051433Z
UID:10006814-1699869600-1699871400@www.trailslibrary.org
SUMMARY:Story Time - Waverly
DESCRIPTION:Ages 0-5: Let’s foster early literacy by talking\, playing music\, reading \, writing and playing together.
URL:https://www.trailslibrary.org/event/story-time-waverly-13/
LOCATION:Waverly Branch\, 203 E. Kelling\, Waverly\, MO\, 64096\, United States
CATEGORIES:Children,Kids,Pre-School,Preschool,Storytime,Toddlers
END:VEVENT
BEGIN:VEVENT
DTSTART;TZID=America/New_York:20231113T160000
DTEND;TZID=America/New_York:20231113T164500
DTSTAMP:20260420T224213
CREATED:20230818T212723Z
LAST-MODIFIED:20230831T172814Z
UID:10006825-1699891200-1699893900@www.trailslibrary.org
SUMMARY:Trivia Time - Odessa
DESCRIPTION:Ages 9-12: Join us for a friendly competition about fun November facts.
URL:https://www.trailslibrary.org/event/trivia-time-odessa/
LOCATION:Odessa Branch\, 107 W. Mason\, Odessa\, MO\, 64076\, United States
CATEGORIES:Children,Kids
END:VEVENT
BEGIN:VEVENT
DTSTART;TZID=America/New_York:20231114T100000
DTEND;TZID=America/New_York:20231114T103000
DTSTAMP:20260420T224213
CREATED:20230818T155240Z
LAST-MODIFIED:20230818T155510Z
UID:10006650-1699956000-1699957800@www.trailslibrary.org
SUMMARY:Storytime - Concordia
DESCRIPTION:Ages 0-5: Storytimes are for building pre-reading skills\, making friends and having fun!
URL:https://www.trailslibrary.org/event/storytime-14/
LOCATION:Concordia Branch\, 813 S Main\, Concordia\, MO\, 64020\, United States
CATEGORIES:Children,Kids,Preschool,Storytime
END:VEVENT
BEGIN:VEVENT
DTSTART;TZID=America/New_York:20231114T100000
DTEND;TZID=America/New_York:20231114T103000
DTSTAMP:20260420T224213
CREATED:20230820T064132Z
LAST-MODIFIED:20230820T064132Z
UID:10006963-1699956000-1699957800@www.trailslibrary.org
SUMMARY:Preschool Storytime - Warrensburg
DESCRIPTION:Ages 0-5: Storytime: Meet up for stories\, music\, dancing\, and of course\, bubbles!
URL:https://www.trailslibrary.org/event/preschool-storytime-warrensburg-45/
LOCATION:Warrensburg Branch\, 432 N. Holden\, Warrensburg\, Missouri\, 64093\, United States
CATEGORIES:Children,Kids,Preschool,Storytime
END:VEVENT
BEGIN:VEVENT
DTSTART;TZID=America/New_York:20231114T100000
DTEND;TZID=America/New_York:20231114T103000
DTSTAMP:20260420T224213
CREATED:20230820T065454Z
LAST-MODIFIED:20230820T065454Z
UID:10007023-1699956000-1699957800@www.trailslibrary.org
SUMMARY:Storytime
DESCRIPTION:Ages 0-5: Storytimes are for building pre-reading skills\, making friends and having fun!
URL:https://www.trailslibrary.org/event/storytime-30/
LOCATION:Concordia Branch\, 813 S Main\, Concordia\, MO\, 64020\, United States
CATEGORIES:Children,Kids,Preschool,Storytime
END:VEVENT
BEGIN:VEVENT
DTSTART;TZID=America/New_York:20231114T103000
DTEND;TZID=America/New_York:20231114T110000
DTSTAMP:20260420T224213
CREATED:20230820T064047Z
LAST-MODIFIED:20230820T064047Z
UID:10006947-1699957800-1699959600@www.trailslibrary.org
SUMMARY:Preschool Craftime - Warrensburg
DESCRIPTION:Ages 0-5: Stay after storytime to make a themed craft with Miss Amy.
URL:https://www.trailslibrary.org/event/preschool-craftime-warrensburg-11/
LOCATION:Warrensburg Branch\, 432 N. Holden\, Warrensburg\, Missouri\, 64093\, United States
CATEGORIES:Children,Craft,Crafts,Kids,Preschool
END:VEVENT
BEGIN:VEVENT
DTSTART;TZID=America/New_York:20231114T150000
DTEND;TZID=America/New_York:20231114T170000
DTSTAMP:20260420T224213
CREATED:20230818T200653Z
LAST-MODIFIED:20230820T064641Z
UID:10006680-1699974000-1699981200@www.trailslibrary.org
SUMMARY:Art and Craft Club -Holden
DESCRIPTION:All Ages: REGISTRATION REQUIRED– Art & Craft Club is a social hour for Patrons to bring Art & Craft projects they are currently working on and get assistance and guidance from each other and the program staff.
URL:https://www.trailslibrary.org/event/art-and-craft-club-holden-3/
LOCATION:Holden Branch\, 207 S. Main\, Holden\, MO\, 64040\, United States
CATEGORIES:Adult,Adults,All Ages,Children,Crafts,Family,Kids,senior,Seniors,Teen,Teens
END:VEVENT
BEGIN:VEVENT
DTSTART;TZID=America/New_York:20231114T153000
DTEND;TZID=America/New_York:20231114T170000
DTSTAMP:20260420T224213
CREATED:20230818T201013Z
LAST-MODIFIED:20230820T042457Z
UID:10006727-1699975800-1699981200@www.trailslibrary.org
SUMMARY:Friends\, Flicks and FUN ! - Lexington
DESCRIPTION:All Ages: Come to the library and watch a fun movie. We’ll provide the popcorn and you can bring a friend along for more FUN! * Bring a drink with a lid!
URL:https://www.trailslibrary.org/event/friends-flicks-and-fun-lexington-3/
LOCATION:Lexington Branch\, 1008 Main Street\, Lexington\, MO\, 64067\, United States
CATEGORIES:Adult,Adults,All Ages,Children,Family,Kids,Movie,Teens
END:VEVENT
BEGIN:VEVENT
DTSTART;TZID=America/New_York:20231115T100000
DTEND;TZID=America/New_York:20231115T103000
DTSTAMP:20260420T224213
CREATED:20230818T200505Z
LAST-MODIFIED:20230818T200505Z
UID:10006675-1700042400-1700044200@www.trailslibrary.org
SUMMARY:Story Time - Corder
DESCRIPTION:Ages: 3-5: Storytimes are for building pre-reading skills\, making friends and having fun!
URL:https://www.trailslibrary.org/event/story-time-corder-11/
LOCATION:Corder Branch\, 221 N. Lafayette\, Corder\, MO\, 64021\, United States
CATEGORIES:Children,Kids,Preschool,Storytime
END:VEVENT
BEGIN:VEVENT
DTSTART;TZID=America/New_York:20231115T100000
DTEND;TZID=America/New_York:20231115T103000
DTSTAMP:20260420T224213
CREATED:20230820T042725Z
LAST-MODIFIED:20230820T042725Z
UID:10006852-1700042400-1700044200@www.trailslibrary.org
SUMMARY:Storytime - Lexington
DESCRIPTION:Ages 0-5: Bring your little ones for storytime! Each week we read\, sing\, play and learn\, all while developing early literacy skills.
URL:https://www.trailslibrary.org/event/storytime-lexington-78/
LOCATION:Lexington Branch\, 1008 Main Street\, Lexington\, MO\, 64067\, United States
CATEGORIES:Children,Kids,Preschool,Storytime
END:VEVENT
BEGIN:VEVENT
DTSTART;TZID=America/New_York:20231115T100000
DTEND;TZID=America/New_York:20231115T103000
DTSTAMP:20260420T224213
CREATED:20230820T045758Z
LAST-MODIFIED:20230820T055416Z
UID:10005797-1700042400-1700044200@www.trailslibrary.org
SUMMARY:Storytots - Knob Noster
DESCRIPTION:Ages 0-3: Introduce your tot to the library through songs\, fingerplays\, and books!
URL:https://www.trailslibrary.org/event/storytots-knob-noster-31/
LOCATION:Knob Noster Branch\, 202 N. Adams\, Knob Noster\, MO\, 65336\, United States
CATEGORIES:Children,Kids,Storytime
END:VEVENT
BEGIN:VEVENT
DTSTART;TZID=America/New_York:20231115T100000
DTEND;TZID=America/New_York:20231115T103000
DTSTAMP:20260420T224213
CREATED:20230820T065229Z
LAST-MODIFIED:20230820T065229Z
UID:10007001-1700042400-1700044200@www.trailslibrary.org
SUMMARY:Storytime - Holden
DESCRIPTION:Ages 0-5: Come listen to a story at the library and do a craft.
URL:https://www.trailslibrary.org/event/storytime-holden-98/
LOCATION:Holden Branch\, 207 S. Main\, Holden\, MO\, 64040\, United States
CATEGORIES:Children,Kids,Preschool,Storytime
END:VEVENT
BEGIN:VEVENT
DTSTART;TZID=America/New_York:20231115T100000
DTEND;TZID=America/New_York:20231115T104500
DTSTAMP:20260420T224213
CREATED:20230818T212707Z
LAST-MODIFIED:20230818T212707Z
UID:10005710-1700042400-1700045100@www.trailslibrary.org
SUMMARY:Storytime - Odessa
DESCRIPTION:Ages 0-5: Storytimes focus on building pre-reading skills\, making friends\, and having fun!
URL:https://www.trailslibrary.org/event/storytime-odessa-47/
LOCATION:Odessa Branch\, 107 W. Mason\, Odessa\, MO\, 64076\, United States
CATEGORIES:Children,Kids,Preschool,Storytime,Toddlers
END:VEVENT
BEGIN:VEVENT
DTSTART;TZID=America/New_York:20231115T103000
DTEND;TZID=America/New_York:20231115T110000
DTSTAMP:20260420T224213
CREATED:20230820T042558Z
LAST-MODIFIED:20230820T042558Z
UID:10005735-1700044200-1700046000@www.trailslibrary.org
SUMMARY:Stay and Play - Lexington
DESCRIPTION:Ages 0-5: Stay and play after storytime to get your wiggles out! Have some fun\, play games\, and make new friends!
URL:https://www.trailslibrary.org/event/stay-and-play-lexington-21/
LOCATION:Lexington Branch\, 1008 Main Street\, Lexington\, MO\, 64067\, United States
CATEGORIES:Children,Kids,Preschool
END:VEVENT
BEGIN:VEVENT
DTSTART;TZID=America/New_York:20231115T103000
DTEND;TZID=America/New_York:20231115T110000
DTSTAMP:20260420T224213
CREATED:20230820T045204Z
LAST-MODIFIED:20230820T054944Z
UID:10005756-1700044200-1700046000@www.trailslibrary.org
SUMMARY:Kid Connection - Knob Noster
DESCRIPTION:Ages 0-5: Kiddos! Come play and hang out\, make new friends\, and see all the library has to offer!
URL:https://www.trailslibrary.org/event/kid-connection-knob-noster-11/
LOCATION:Knob Noster Branch\, 202 N. Adams\, Knob Noster\, MO\, 65336\, United States
CATEGORIES:Children,Kids,Preschool,Storytime
END:VEVENT
BEGIN:VEVENT
DTSTART;TZID=America/New_York:20231115T103000
DTEND;TZID=America/New_York:20231115T110000
DTSTAMP:20260420T224213
CREATED:20230820T065244Z
LAST-MODIFIED:20230820T065244Z
UID:10007007-1700044200-1700046000@www.trailslibrary.org
SUMMARY:Thanksgiving Kid Craft - Holden
DESCRIPTION:Ages 0-5: REGISTRATION REQUIRED–Stay after storytime and play with your friends. Enjoy the library’s resources and toys.
URL:https://www.trailslibrary.org/event/thanksgiving-kid-craft-holden/
LOCATION:Holden Branch\, 207 S. Main\, Holden\, MO\, 64040\, United States
CATEGORIES:Children,Craft,Kids,Preschool
END:VEVENT
BEGIN:VEVENT
DTSTART;TZID=America/New_York:20231115T110000
DTEND;TZID=America/New_York:20231115T120000
DTSTAMP:20260420T224213
CREATED:20230820T045609Z
LAST-MODIFIED:20230820T055045Z
UID:10006887-1700046000-1700049600@www.trailslibrary.org
SUMMARY:Preschool Storytime - Knob Noster
DESCRIPTION:Ages 3-5: Bring your preschoolers for stories\, crafts\, songs and bubbles to encourage growth in literacy!
URL:https://www.trailslibrary.org/event/preschool-storytime-knob-noster-33/
LOCATION:Knob Noster Branch\, 202 N. Adams\, Knob Noster\, MO\, 65336\, United States
CATEGORIES:Children,Kids,Preschool
END:VEVENT
BEGIN:VEVENT
DTSTART;TZID=America/New_York:20231115T163000
DTEND;TZID=America/New_York:20231115T180000
DTSTAMP:20260420T224213
CREATED:20230820T063845Z
LAST-MODIFIED:20230820T063845Z
UID:10005814-1700065800-1700071200@www.trailslibrary.org
SUMMARY:Libraries Got Game - Warrensburg
DESCRIPTION:All Ages: Get BOARD at the library with your family and friends! Fun and exciting board and XL games.
URL:https://www.trailslibrary.org/event/libraries-got-game-warrensburg-35/
LOCATION:Warrensburg Branch\, 432 N. Holden\, Warrensburg\, Missouri\, 64093\, United States
CATEGORIES:Adult,Adults,All Ages,Children,Family,Kids,preteens,senior,Seniors,Teen,Teens,Youth
END:VEVENT
BEGIN:VEVENT
DTSTART;TZID=America/New_York:20231116T093000
DTEND;TZID=America/New_York:20231116T100000
DTSTAMP:20260420T224213
CREATED:20230820T063931Z
LAST-MODIFIED:20230820T063931Z
UID:10006936-1700127000-1700128800@www.trailslibrary.org
SUMMARY:Music & Movement - Warrensburg
DESCRIPTION:Ages 0-5: Join us to get your wiggles our with singing and dancing. Children will use a variety of musical instruments to increase sensory development\, coordination\, literacy & numeracy skills
URL:https://www.trailslibrary.org/event/music-movement-warrensburg-11/
LOCATION:Warrensburg Branch\, 432 N. Holden\, Warrensburg\, Missouri\, 64093\, United States
CATEGORIES:Children,Kids,Pre-School,Preschool,Toddlers
END:VEVENT
BEGIN:VEVENT
DTSTART;TZID=America/New_York:20231116T100000
DTEND;TZID=America/New_York:20231116T103000
DTSTAMP:20260420T224213
CREATED:20230820T064232Z
LAST-MODIFIED:20230820T064232Z
UID:10005866-1700128800-1700130600@www.trailslibrary.org
SUMMARY:Stay Play and Learn - Warrensburg
DESCRIPTION:Ages 0-5: Stay after Music and Moverment to play and learn with your friends. Activities will focus on improving language\, fine and gross motor skills\, develop social skills and aid with cognitive development.
URL:https://www.trailslibrary.org/event/stay-play-and-learn-warrensburg-11/
LOCATION:Warrensburg Branch\, 432 N. Holden\, Warrensburg\, Missouri\, 64093\, United States
CATEGORIES:Children,Kids,Pre-School,Preschool,Toddlers
END:VEVENT
BEGIN:VEVENT
DTSTART;TZID=America/New_York:20231116T160000
DTEND;TZID=America/New_York:20231116T173000
DTSTAMP:20260420T224213
CREATED:20230818T201045Z
LAST-MODIFIED:20230818T201045Z
UID:10006743-1700150400-1700155800@www.trailslibrary.org
SUMMARY:Third Thursday Fun & Games - Leeton Express Branch
DESCRIPTION:Ages 6-12: Join Mrs. Schuler and the Boys & Girls Club the first 3rd Thursday Fun & Games of the school year!
URL:https://www.trailslibrary.org/event/third-thursday-fun-games-leeton-express-branch-3/
LOCATION:Leeton Express Branch\, 500 N. Main\, Leeton\, MO\, 64761\, United States
CATEGORIES:Children,Kids,preteens
END:VEVENT
BEGIN:VEVENT
DTSTART;TZID=America/New_York:20231117T160000
DTEND;TZID=America/New_York:20231117T170000
DTSTAMP:20260420T224213
CREATED:20230818T201209Z
LAST-MODIFIED:20230818T212537Z
UID:10006752-1700236800-1700240400@www.trailslibrary.org
SUMMARY:Feature Friday - Odessa
DESCRIPTION:All Ages: Join us for our family movie. We provide the popcorn\, you supply your favorite drink
URL:https://www.trailslibrary.org/event/feature-friday-odessa-7/
LOCATION:Odessa Branch\, 107 W. Mason\, Odessa\, MO\, 64076\, United States
CATEGORIES:Adult,Adults,All Ages,Children,Family,Kids,Movie,Teens
END:VEVENT
BEGIN:VEVENT
DTSTART;TZID=America/New_York:20231118T100000
DTEND;TZID=America/New_York:20231118T103000
DTSTAMP:20260420T224213
CREATED:20230820T064321Z
LAST-MODIFIED:20230820T064321Z
UID:10005867-1700301600-1700303400@www.trailslibrary.org
SUMMARY:Storytime With Granny - Warrensburg
DESCRIPTION:Ages 0-5: Meet up for stories\, music\, dancing\, and of course\, bubbles!
URL:https://www.trailslibrary.org/event/storytime-with-granny-warrensburg-7/
LOCATION:Warrensburg Branch\, 432 N. Holden\, Warrensburg\, Missouri\, 64093\, United States
CATEGORIES:Children,Kids,Pre-School,Preschool,Storytime,Toddlers
END:VEVENT
END:VCALENDAR