BEGIN:VCALENDAR
VERSION:2.0
PRODID:-//Trails Regional Library - ECPv6.15.20//NONSGML v1.0//EN
CALSCALE:GREGORIAN
METHOD:PUBLISH
X-ORIGINAL-URL:https://www.trailslibrary.org
X-WR-CALDESC:Events for Trails Regional Library
REFRESH-INTERVAL;VALUE=DURATION:PT1H
X-Robots-Tag:noindex
X-PUBLISHED-TTL:PT1H
BEGIN:VTIMEZONE
TZID:America/New_York
BEGIN:DAYLIGHT
TZOFFSETFROM:-0500
TZOFFSETTO:-0400
TZNAME:EDT
DTSTART:20230312T070000
END:DAYLIGHT
BEGIN:STANDARD
TZOFFSETFROM:-0400
TZOFFSETTO:-0500
TZNAME:EST
DTSTART:20231105T060000
END:STANDARD
BEGIN:DAYLIGHT
TZOFFSETFROM:-0500
TZOFFSETTO:-0400
TZNAME:EDT
DTSTART:20240310T070000
END:DAYLIGHT
BEGIN:STANDARD
TZOFFSETFROM:-0400
TZOFFSETTO:-0500
TZNAME:EST
DTSTART:20241103T060000
END:STANDARD
BEGIN:DAYLIGHT
TZOFFSETFROM:-0500
TZOFFSETTO:-0400
TZNAME:EDT
DTSTART:20250309T070000
END:DAYLIGHT
BEGIN:STANDARD
TZOFFSETFROM:-0400
TZOFFSETTO:-0500
TZNAME:EST
DTSTART:20251102T060000
END:STANDARD
END:VTIMEZONE
BEGIN:VEVENT
DTSTART;TZID=America/New_York:20240619T110000
DTEND;TZID=America/New_York:20240619T120000
DTSTAMP:20260420T003159
CREATED:20240521T152353Z
LAST-MODIFIED:20240521T152353Z
UID:10007799-1718794800-1718798400@www.trailslibrary.org
SUMMARY:Storytime - Knob Noster
DESCRIPTION:Ages 0-5: Help your child develop a love for literacy with stories\, music\, & bubbles!
URL:https://www.trailslibrary.org/event/storytime-knob-noster-103/
LOCATION:Knob Noster Branch\, 202 N. Adams\, Knob Noster\, MO\, 65336\, United States
CATEGORIES:Children,Kids,Pre-School,Preschool,Storytime,Toddlers
END:VEVENT
BEGIN:VEVENT
DTSTART;TZID=America/New_York:20240619T140000
DTEND;TZID=America/New_York:20240619T140000
DTSTAMP:20260420T003159
CREATED:20240520T194221Z
LAST-MODIFIED:20240520T194221Z
UID:10007595-1718805600-1718805600@www.trailslibrary.org
SUMMARY:DIY Camping Mat - Waverly
DESCRIPTION:Ages 6-12: Come and make a camping mat out of newspaper. Great to use on your next camping adventure!
URL:https://www.trailslibrary.org/event/diy-camping-mat-waverly/
LOCATION:Waverly Branch\, 203 E. Kelling\, Waverly\, MO\, 64096\, United States
CATEGORIES:Children,Crafts,Kids
END:VEVENT
BEGIN:VEVENT
DTSTART;TZID=America/New_York:20240619T140000
DTEND;TZID=America/New_York:20240619T160000
DTSTAMP:20260420T003159
CREATED:20240521T142502Z
LAST-MODIFIED:20240521T142502Z
UID:10007757-1718805600-1718812800@www.trailslibrary.org
SUMMARY:S'moregasbord - Concordia
DESCRIPTION:All Ages: Create s’mores galore at this event! There will be graham crackers\, marshmallows\, chocolate and so much s’more!
URL:https://www.trailslibrary.org/event/smoregasbord-concordia/
LOCATION:Concordia Branch\, 813 S Main\, Concordia\, MO\, 64020\, United States
CATEGORIES:Adult,Adults,All Ages,Children,Family,Kids,preteens,senior,Seniors,Teen,Teens,Youth
END:VEVENT
BEGIN:VEVENT
DTSTART;TZID=America/New_York:20240619T150000
DTEND;TZID=America/New_York:20240619T180000
DTSTAMP:20260420T003200
CREATED:20240520T204125Z
LAST-MODIFIED:20240520T204125Z
UID:10007671-1718809200-1718820000@www.trailslibrary.org
SUMMARY:Libraries Got Game - Warrensburg
DESCRIPTION:All Ages: Get BOARD at the library with your family and friends! Fun and exciting board and XL games.
URL:https://www.trailslibrary.org/event/libraries-got-game-warrensburg-66/
LOCATION:Warrensburg Branch\, 432 N. Holden\, Warrensburg\, Missouri\, 64093\, United States
CATEGORIES:Adult,Adults,All Ages,Children,Family,Kids,preteens,senior,Seniors,Teen,Teens,Youth
END:VEVENT
BEGIN:VEVENT
DTSTART;TZID=America/New_York:20240620T100000
DTEND;TZID=America/New_York:20240620T100000
DTSTAMP:20260420T003200
CREATED:20240520T192245Z
LAST-MODIFIED:20240520T192245Z
UID:10007494-1718877600-1718877600@www.trailslibrary.org
SUMMARY:Read Along Stories - Holden
DESCRIPTION:Ages 6-12: Come and listen to the Chapter Book Hello Universe by Erin Entrada Kelly and make a journal craft. This is a Read Along for children ages 6-12.
URL:https://www.trailslibrary.org/event/read-along-stories-holden-2/
LOCATION:Holden Branch\, 207 S. Main\, Holden\, MO\, 64040\, United States
CATEGORIES:Children,Kids,Storytime
END:VEVENT
BEGIN:VEVENT
DTSTART;TZID=America/New_York:20240620T100000
DTEND;TZID=America/New_York:20240620T100000
DTSTAMP:20260420T003200
CREATED:20240520T193539Z
LAST-MODIFIED:20240520T193539Z
UID:10007531-1718877600-1718877600@www.trailslibrary.org
SUMMARY:Storytime - Odessa
DESCRIPTION:Ages 0-5: Storytimes are for building pre-reading skills\, making friends\, and having fun!
URL:https://www.trailslibrary.org/event/storytime-odessa-69/
LOCATION:Odessa Branch\, 107 W. Mason\, Odessa\, MO\, 64076\, United States
CATEGORIES:Children,Kids,Pre-School,Preschool,Storytime,Toddlers
END:VEVENT
BEGIN:VEVENT
DTSTART;TZID=America/New_York:20240620T100000
DTEND;TZID=America/New_York:20240620T110000
DTSTAMP:20260420T003200
CREATED:20240520T204139Z
LAST-MODIFIED:20240520T204139Z
UID:10007672-1718877600-1718881200@www.trailslibrary.org
SUMMARY:Come and Play - Warrensburg
DESCRIPTION:Ages 0-5: Unleash the fun at our library program! Dive into a world of educational\, sensory\, and creative toys. Bring your friends and let the laughter and learning begin!
URL:https://www.trailslibrary.org/event/come-and-play-warrensburg-2/
LOCATION:Warrensburg Branch\, 432 N. Holden\, Warrensburg\, Missouri\, 64093\, United States
CATEGORIES:Children,Kids,Pre-School,Preschool,Toddlers
END:VEVENT
BEGIN:VEVENT
DTSTART;TZID=America/New_York:20240620T130000
DTEND;TZID=America/New_York:20240620T130000
DTSTAMP:20260420T003200
CREATED:20240521T142301Z
LAST-MODIFIED:20240521T142301Z
UID:10007752-1718888400-1718888400@www.trailslibrary.org
SUMMARY:Let the Adventures Begin! - Concordia
DESCRIPTION:Ages 6-12: Looking for adventure and whatever comes our way\, stories\, games and more!
URL:https://www.trailslibrary.org/event/let-the-adventures-begin-concordia-3/
LOCATION:Concordia Branch\, 813 S Main\, Concordia\, MO\, 64020\, United States
CATEGORIES:Children,Kids,Youth
END:VEVENT
BEGIN:VEVENT
DTSTART;TZID=America/New_York:20240620T140000
DTEND;TZID=America/New_York:20240620T160000
DTSTAMP:20260420T003200
CREATED:20240521T143716Z
LAST-MODIFIED:20240521T143716Z
UID:10007784-1718892000-1718899200@www.trailslibrary.org
SUMMARY:Trading Card Club - Leeton
DESCRIPTION:Ages 6-12 REGISTRATION Required: Trading card fans\, join Mrs. Schuler for trading card fun to include: playing\, chatting\, trading\, and more!
URL:https://www.trailslibrary.org/event/trading-card-club-leeton-5/
LOCATION:Leeton Express Branch\, 500 N. Main\, Leeton\, MO\, 64761\, United States
CATEGORIES:Children,Crafts,Kids
END:VEVENT
BEGIN:VEVENT
DTSTART;TZID=America/New_York:20240620T163000
DTEND;TZID=America/New_York:20240620T183000
DTSTAMP:20260420T003200
CREATED:20240520T204140Z
LAST-MODIFIED:20240520T204140Z
UID:10007673-1718901000-1718908200@www.trailslibrary.org
SUMMARY:Scavenger Hunt at UCM - Warrensburg
DESCRIPTION:All Ages: Patrons will meet at the UCM Library and view the exhibit in the archives which is a pictorial history of UCM\, and then patrons will participate in a scavenger hunt on campus. Will meet back at the library for prizes and light refreshments.
URL:https://www.trailslibrary.org/event/scavenger-hunt-at-ucm-warrensburg/
LOCATION:Warrensburg Branch\, 432 N. Holden\, Warrensburg\, Missouri\, 64093\, United States
CATEGORIES:Adult,Adults,All Ages,Children,Family,Guest Presenter,Kids,preteens,senior,Seniors,Teen,Teens,Youth
END:VEVENT
BEGIN:VEVENT
DTSTART;TZID=America/New_York:20240621T100000
DTEND;TZID=America/New_York:20240621T100000
DTSTAMP:20260420T003200
CREATED:20240521T143317Z
LAST-MODIFIED:20240521T143317Z
UID:10007764-1718964000-1718964000@www.trailslibrary.org
SUMMARY:Adventure Storytime - Leeton
DESCRIPTION:Ages 6-12: Storytimes are for building reading skills\, making friends and having fun!  Our Summer Reading series will include crafts and activities related to our theme “Adventure Begins at the Library.”
URL:https://www.trailslibrary.org/event/adventure-storytime-leeton-3/
LOCATION:Leeton Express Branch\, 500 N. Main\, Leeton\, MO\, 64761\, United States
CATEGORIES:Children,Crafts,Kids,Storytime
END:VEVENT
BEGIN:VEVENT
DTSTART;TZID=America/New_York:20240621T153000
DTEND;TZID=America/New_York:20240621T153000
DTSTAMP:20260420T003200
CREATED:20240520T194011Z
LAST-MODIFIED:20240520T194011Z
UID:10007574-1718983800-1718983800@www.trailslibrary.org
SUMMARY:Summer Break Book Club - Odessa
DESCRIPTION:Ages 9-12 REGISTRATION Required: Summer Break Book Club meets once a week to discuss ongoing progress in reading a book. The book we are reading is The Lightning Thief by Rick Riordan.
URL:https://www.trailslibrary.org/event/summer-break-book-club-odessa-3/
LOCATION:Odessa Branch\, 107 W. Mason\, Odessa\, MO\, 64076\, United States
CATEGORIES:Book Clubs,Children,Kids,Youth
END:VEVENT
BEGIN:VEVENT
DTSTART;TZID=America/New_York:20240624T100000
DTEND;TZID=America/New_York:20240624T100000
DTSTAMP:20260420T003200
CREATED:20240520T194205Z
LAST-MODIFIED:20240520T194205Z
UID:10007588-1719223200-1719223200@www.trailslibrary.org
SUMMARY:Little Adventure Storytime - Waverly
DESCRIPTION:Ages 0-5: Bring your little ones for a morning of reading\, crafting\, and more!
URL:https://www.trailslibrary.org/event/little-adventure-storytime-waverly-4/
LOCATION:Waverly Branch\, 203 E. Kelling\, Waverly\, MO\, 64096\, United States
CATEGORIES:Children,Crafts,Kids,Pre-School,Preschool,Storytime,Toddlers
END:VEVENT
BEGIN:VEVENT
DTSTART;TZID=America/New_York:20240624T160000
DTEND;TZID=America/New_York:20240624T170000
DTSTAMP:20260420T003200
CREATED:20240520T193709Z
LAST-MODIFIED:20240520T193709Z
UID:10007562-1719244800-1719248400@www.trailslibrary.org
SUMMARY:Geode Hunter - Odessa
DESCRIPTION:Ages 5-8: Let’s examine rocks and geodes through the microscope\, like a geologist!
URL:https://www.trailslibrary.org/event/geode-hunter-odessa/
LOCATION:Odessa Branch\, 107 W. Mason\, Odessa\, MO\, 64076\, United States
CATEGORIES:Children,Kids,STEAM
END:VEVENT
BEGIN:VEVENT
DTSTART;TZID=America/New_York:20240625T100000
DTEND;TZID=America/New_York:20240625T100000
DTSTAMP:20260420T003200
CREATED:20240521T141859Z
LAST-MODIFIED:20240521T193036Z
UID:10007742-1719309600-1719309600@www.trailslibrary.org
SUMMARY:Library Adventures - Concordia
DESCRIPTION:Ages 5-8: Tuesdays this summer will be full of fun and adventure. Pack your suitcase for a new adventure each week!
URL:https://www.trailslibrary.org/event/library-adventures-concordia-2/
LOCATION:Concordia Branch\, 813 S Main\, Concordia\, MO\, 64020\, United States
CATEGORIES:Children,Kids,Youth
END:VEVENT
BEGIN:VEVENT
DTSTART;TZID=America/New_York:20240625T100000
DTEND;TZID=America/New_York:20240625T110000
DTSTAMP:20260420T003200
CREATED:20240520T204140Z
LAST-MODIFIED:20240520T204140Z
UID:10007675-1719309600-1719313200@www.trailslibrary.org
SUMMARY:Storytime - Warrensburg
DESCRIPTION:Ages 0-5: Meet up for Stories\, Music\, Dancing\, a craft\, and of course bubbles!
URL:https://www.trailslibrary.org/event/storytime-warrensburg-59/
LOCATION:Warrensburg Branch\, 432 N. Holden\, Warrensburg\, Missouri\, 64093\, United States
CATEGORIES:Children,Kids,Preschool,Storytime
END:VEVENT
BEGIN:VEVENT
DTSTART;TZID=America/New_York:20240625T140000
DTEND;TZID=America/New_York:20240625T140000
DTSTAMP:20260420T003200
CREATED:20240520T193725Z
LAST-MODIFIED:20240520T193725Z
UID:10007566-1719324000-1719324000@www.trailslibrary.org
SUMMARY:Kids in the Kitchen - Odessa
DESCRIPTION:Ages 9-12 REGISTRATION Required: Kids in the Kitchen is a fun hands-on program offered by University of Missouri Extension that teaches kids how to prepare simple recipes\, and encourages them to be active and to eat healthier meals and snacks.
URL:https://www.trailslibrary.org/event/kids-in-the-kitchen-odessa-14/
LOCATION:Odessa Branch\, 107 W. Mason\, Odessa\, MO\, 64076\, United States
CATEGORIES:Children,Kids,Youth
END:VEVENT
BEGIN:VEVENT
DTSTART;TZID=America/New_York:20240625T150000
DTEND;TZID=America/New_York:20240625T150000
DTSTAMP:20260420T003200
CREATED:20240520T192300Z
LAST-MODIFIED:20240520T192300Z
UID:10007499-1719327600-1719327600@www.trailslibrary.org
SUMMARY:Art and Craft Club - Holden
DESCRIPTION:All Ages REGISTRATION Required: Art and Craft Club will be doing a scrapbooking program during the month of June.
URL:https://www.trailslibrary.org/event/art-and-craft-club-holden-8/
LOCATION:Holden Branch\, 207 S. Main\, Holden\, MO\, 64040\, United States
CATEGORIES:Adult,Adults,All Ages,Children,Crafts,Family,Kids,preteens,senior,Seniors,Teen,Teens,Youth
END:VEVENT
BEGIN:VEVENT
DTSTART;TZID=America/New_York:20240625T160000
DTEND;TZID=America/New_York:20240625T160000
DTSTAMP:20260420T003200
CREATED:20240520T194027Z
LAST-MODIFIED:20240520T194027Z
UID:10007582-1719331200-1719331200@www.trailslibrary.org
SUMMARY:Cinema Afternoon - Odessa
DESCRIPTION:All Ages: Join us for a cinematic adventure!
URL:https://www.trailslibrary.org/event/cinema-afternoon-odessa-2/
LOCATION:Odessa Branch\, 107 W. Mason\, Odessa\, MO\, 64076\, United States
CATEGORIES:Adult,Adults,All Ages,Children,Family,Kids,Movie,preteens,senior,Seniors,Teen,Teens,Youth
END:VEVENT
BEGIN:VEVENT
DTSTART;TZID=America/New_York:20240625T173000
DTEND;TZID=America/New_York:20240625T183000
DTSTAMP:20260420T003200
CREATED:20240520T204140Z
LAST-MODIFIED:20240520T204140Z
UID:10007676-1719336600-1719340200@www.trailslibrary.org
SUMMARY:Robotics\, Eruptions & Design - Warrensburg
DESCRIPTION:Ages 6-12: Join us as we explore\, build\, and create through various technology\, hands-on activities\, and art.
URL:https://www.trailslibrary.org/event/robotics-eruptions-design-warrensburg-2/
LOCATION:Warrensburg Branch\, 432 N. Holden\, Warrensburg\, Missouri\, 64093\, United States
CATEGORIES:Children,Kids,STEAM,Technology
END:VEVENT
BEGIN:VEVENT
DTSTART;TZID=America/New_York:20240626T093000
DTEND;TZID=America/New_York:20240626T103000
DTSTAMP:20260420T003200
CREATED:20240521T152336Z
LAST-MODIFIED:20240521T152336Z
UID:10007789-1719394200-1719397800@www.trailslibrary.org
SUMMARY:Storytime - Knob Noster
DESCRIPTION:Ages 0-5 REGISTRATION Required: Help your child develop a love for literacy with stories\, music\, & bubbles!  This week Knob Noster State Park will be bringing one of their animal ambassadors over for a visit (they will only be there for a visual look\, not to be handled by the littles)\, along with some turtle shells and other things for the kids to have sensory experiences. Make sure to register!
URL:https://www.trailslibrary.org/event/storytime-knob-noster-94/
LOCATION:Knob Noster Branch\, 202 N. Adams\, Knob Noster\, MO\, 65336\, United States
CATEGORIES:Children,Guest Presenter,Kids,Pre-School,Preschool,Storytime,Toddlers
END:VEVENT
BEGIN:VEVENT
DTSTART;TZID=America/New_York:20240626T100000
DTEND;TZID=America/New_York:20240626T100000
DTSTAMP:20260420T003200
CREATED:20240520T192212Z
LAST-MODIFIED:20240520T192212Z
UID:10007477-1719396000-1719396000@www.trailslibrary.org
SUMMARY:Storytime - Holden
DESCRIPTION:Ages 0-5: Come listen to a story at the library and do a craft.
URL:https://www.trailslibrary.org/event/storytime-holden-116/
LOCATION:Holden Branch\, 207 S. Main\, Holden\, MO\, 64040\, United States
CATEGORIES:Children,Crafts,Kids,Preschool,Storytime
END:VEVENT
BEGIN:VEVENT
DTSTART;TZID=America/New_York:20240626T100000
DTEND;TZID=America/New_York:20240626T100000
DTSTAMP:20260420T003200
CREATED:20240520T192838Z
LAST-MODIFIED:20240520T192838Z
UID:10007508-1719396000-1719396000@www.trailslibrary.org
SUMMARY:Storytime - Lexington
DESCRIPTION:Ages 0-5: Bring your little ones for storytime! Each week we read\, sing\, play and learn\, all while developing early literacy skills.
URL:https://www.trailslibrary.org/event/storytime-lexington-102/
LOCATION:Lexington Branch\, 1008 Main Street\, Lexington\, MO\, 64067\, United States
CATEGORIES:Children,Kids,Pre-School,Preschool,Storytime,Toddlers
END:VEVENT
BEGIN:VEVENT
DTSTART;TZID=America/New_York:20240626T100000
DTEND;TZID=America/New_York:20240626T100000
DTSTAMP:20260420T003200
CREATED:20240520T193537Z
LAST-MODIFIED:20240520T193537Z
UID:10007528-1719396000-1719396000@www.trailslibrary.org
SUMMARY:Storytime - Odessa
DESCRIPTION:Ages 0-5: Storytimes are for building pre-reading skills\, making friends\, and having fun!
URL:https://www.trailslibrary.org/event/storytime-odessa-66/
LOCATION:Odessa Branch\, 107 W. Mason\, Odessa\, MO\, 64076\, United States
CATEGORIES:Children,Kids,Pre-School,Preschool,Storytime,Toddlers
END:VEVENT
BEGIN:VEVENT
DTSTART;TZID=America/New_York:20240626T100000
DTEND;TZID=America/New_York:20240626T100000
DTSTAMP:20260420T003200
CREATED:20240521T141640Z
LAST-MODIFIED:20240521T141640Z
UID:10007729-1719396000-1719396000@www.trailslibrary.org
SUMMARY:Bubbly Storytimes - Concordia
DESCRIPTION:Ages 0-5: Storytimes are for building pre-reading skills\, making friends and having fun! And there will be bubbles!
URL:https://www.trailslibrary.org/event/bubbly-storytimes-concordia-4/
LOCATION:Concordia Branch\, 813 S Main\, Concordia\, MO\, 64020\, United States
CATEGORIES:Children,Kids,Pre-School,Preschool,Storytime,Toddlers
END:VEVENT
BEGIN:VEVENT
DTSTART;TZID=America/New_York:20240626T100000
DTEND;TZID=America/New_York:20240626T110000
DTSTAMP:20260420T003200
CREATED:20240520T191853Z
LAST-MODIFIED:20240520T191853Z
UID:10007470-1719396000-1719399600@www.trailslibrary.org
SUMMARY:SRP Storytime - Corder
DESCRIPTION:All Ages: Storytimes are for building reading skills\, making friends and having fun!  Our Summer Reading series will include crafts and activities related to our theme “Adventure Begins at the Library.”
URL:https://www.trailslibrary.org/event/srp-storytime-corder-4/
LOCATION:Corder Branch\, 221 N. Lafayette\, Corder\, MO\, 64021\, United States
CATEGORIES:Adult,Adults,All Ages,Children,Family,Kids,preteens,senior,Seniors,Storytime,Teen,Teens,Youth
END:VEVENT
BEGIN:VEVENT
DTSTART;TZID=America/New_York:20240626T110000
DTEND;TZID=America/New_York:20240626T120000
DTSTAMP:20260420T003200
CREATED:20240521T152337Z
LAST-MODIFIED:20240521T152337Z
UID:10007792-1719399600-1719403200@www.trailslibrary.org
SUMMARY:Storytime - Knob Noster
DESCRIPTION:Ages 0-5 REGISTRATION Required: Help your child develop a love for literacy with stories\, music\, & bubbles! This week Knob Noster State Park will be bringing one of their animal ambassadors over for a visit (they will only be there for a visual look\, not to be handled by the littles)\, along with some turtle shells and other things for the kids to have sensory experiences. Make sure to register!
URL:https://www.trailslibrary.org/event/storytime-knob-noster-97/
LOCATION:Knob Noster Branch\, 202 N. Adams\, Knob Noster\, MO\, 65336\, United States
CATEGORIES:Children,Guest Presenter,Kids,Pre-School,Preschool,Storytime,Toddlers
END:VEVENT
BEGIN:VEVENT
DTSTART;TZID=America/New_York:20240626T140000
DTEND;TZID=America/New_York:20240626T140000
DTSTAMP:20260420T003200
CREATED:20240520T194222Z
LAST-MODIFIED:20240520T194222Z
UID:10007599-1719410400-1719410400@www.trailslibrary.org
SUMMARY:Adventures with a Movie
DESCRIPTION:All Ages: Come in and watch a family friendly movie! Snacks provided.
URL:https://www.trailslibrary.org/event/adventures-with-a-movie/
LOCATION:Waverly Branch\, 203 E. Kelling\, Waverly\, MO\, 64096\, United States
CATEGORIES:Adult,Adults,All Ages,Children,Family,Kids,Movie,preteens,senior,Seniors,Teen,Teens,Youth
END:VEVENT
BEGIN:VEVENT
DTSTART;TZID=America/New_York:20240626T150000
DTEND;TZID=America/New_York:20240626T163000
DTSTAMP:20260420T003200
CREATED:20240520T204155Z
LAST-MODIFIED:20240520T204155Z
UID:10007679-1719414000-1719419400@www.trailslibrary.org
SUMMARY:Muddy Day Adventures - Warrensburg
DESCRIPTION:All Ages: Celebrate National Mud Day early with your friends at Trails Regional Library. Come in swim wear or old clothes as you are bound to get dirty. Enjoy a mud pool\, mud painting\, a mud kitchen\, clean off in our sprinkler station\, and more!
URL:https://www.trailslibrary.org/event/muddy-day-adventures-warrensburg/
LOCATION:Warrensburg Branch\, 432 N. Holden\, Warrensburg\, Missouri\, 64093\, United States
CATEGORIES:Adult,Adults,All Ages,Children,Family,Kids,preteens,senior,Seniors,Teen,Teens,Youth
END:VEVENT
BEGIN:VEVENT
DTSTART;TZID=America/New_York:20240627T100000
DTEND;TZID=America/New_York:20240627T100000
DTSTAMP:20260420T003200
CREATED:20240520T193539Z
LAST-MODIFIED:20240521T151424Z
UID:10007532-1719482400-1719482400@www.trailslibrary.org
SUMMARY:Storytime - Odessa
DESCRIPTION:Ages 0-5: Storytimes are for building pre-reading skills\, making friends\, and having fun!
URL:https://www.trailslibrary.org/event/storytime-odessa-70/
LOCATION:Odessa Branch\, 107 W. Mason\, Odessa\, MO\, 64076\, United States
CATEGORIES:Children,Kids,Pre-School,Preschool,Storytime,Toddlers
END:VEVENT
END:VCALENDAR