BEGIN:VCALENDAR
VERSION:2.0
PRODID:-//Trails Regional Library - ECPv6.15.20//NONSGML v1.0//EN
CALSCALE:GREGORIAN
METHOD:PUBLISH
X-ORIGINAL-URL:https://www.trailslibrary.org
X-WR-CALDESC:Events for Trails Regional Library
REFRESH-INTERVAL;VALUE=DURATION:PT1H
X-Robots-Tag:noindex
X-PUBLISHED-TTL:PT1H
BEGIN:VTIMEZONE
TZID:America/New_York
BEGIN:DAYLIGHT
TZOFFSETFROM:-0500
TZOFFSETTO:-0400
TZNAME:EDT
DTSTART:20230312T070000
END:DAYLIGHT
BEGIN:STANDARD
TZOFFSETFROM:-0400
TZOFFSETTO:-0500
TZNAME:EST
DTSTART:20231105T060000
END:STANDARD
BEGIN:DAYLIGHT
TZOFFSETFROM:-0500
TZOFFSETTO:-0400
TZNAME:EDT
DTSTART:20240310T070000
END:DAYLIGHT
BEGIN:STANDARD
TZOFFSETFROM:-0400
TZOFFSETTO:-0500
TZNAME:EST
DTSTART:20241103T060000
END:STANDARD
BEGIN:DAYLIGHT
TZOFFSETFROM:-0500
TZOFFSETTO:-0400
TZNAME:EDT
DTSTART:20250309T070000
END:DAYLIGHT
BEGIN:STANDARD
TZOFFSETFROM:-0400
TZOFFSETTO:-0500
TZNAME:EST
DTSTART:20251102T060000
END:STANDARD
END:VTIMEZONE
BEGIN:VEVENT
DTSTART;TZID=America/New_York:20240731T150000
DTEND;TZID=America/New_York:20240731T180000
DTSTAMP:20260420T000050
CREATED:20240520T204340Z
LAST-MODIFIED:20240520T204340Z
UID:10007715-1722438000-1722448800@www.trailslibrary.org
SUMMARY:Libraries Got Game - Warrensburg
DESCRIPTION:All Ages: Get BOARD at the library with your family and friends! Fun and exciting board and XL games.
URL:https://www.trailslibrary.org/event/libraries-got-game-warrensburg-70/
LOCATION:Warrensburg Branch\, 432 N. Holden\, Warrensburg\, Missouri\, 64093\, United States
CATEGORIES:Adult,Adults,All Ages,Children,Family,Kids,preteens,senior,Seniors,Teen,Teens,Youth
END:VEVENT
BEGIN:VEVENT
DTSTART;TZID=America/New_York:20240802T130000
DTEND;TZID=America/New_York:20240802T130000
DTSTAMP:20260420T000050
CREATED:20240520T194027Z
LAST-MODIFIED:20240520T194027Z
UID:10007580-1722603600-1722603600@www.trailslibrary.org
SUMMARY:Puddle Jumpers Spelling Bee - Odessa
DESCRIPTION:All Ages: Calling all S-P-E-L-L-E-R-S join the Odessa branch for our traditional Puddle Jumper Spelling Bee. Prizes are given to our top spellers. If you are between the ages of 6 to 115 come see if you meet the challenge while cooling off in the library or cheer on the spellers.
URL:https://www.trailslibrary.org/event/puddle-jumpers-spelling-bee-odessa-3/
LOCATION:Odessa Branch\, 107 W. Mason\, Odessa\, MO\, 64076\, United States
CATEGORIES:Adult,Adults,All Ages,Children,Family,Kids,preteens,senior,Seniors,Teen,Teens,Youth
END:VEVENT
BEGIN:VEVENT
DTSTART;TZID=America/New_York:20240806T130000
DTEND;TZID=America/New_York:20240806T150000
DTSTAMP:20260420T000050
CREATED:20240521T153012Z
LAST-MODIFIED:20240718T132030Z
UID:10007830-1722949200-1722956400@www.trailslibrary.org
SUMMARY:Midday Matinee - Knob Noster
DESCRIPTION:All Ages: Come to the library and watch a classic movie with us. Enjoy some popcorn and a water\, coffee\, or tea on us. Feel free to bring some movie snacks of your own too! 
URL:https://www.trailslibrary.org/event/midday-matinee-movie-classics-knob-noster/
LOCATION:Knob Noster Branch\, 202 N. Adams\, Knob Noster\, MO\, 65336\, United States
CATEGORIES:Adult,Adults,All Ages,Children,Family,Kids,Movie,preteens,senior,Seniors,Teen,Teens,Youth
END:VEVENT
BEGIN:VEVENT
DTSTART;TZID=America/New_York:20240807T150000
DTEND;TZID=America/New_York:20240807T180000
DTSTAMP:20260420T000050
CREATED:20240520T204354Z
LAST-MODIFIED:20240520T204354Z
UID:10007717-1723042800-1723053600@www.trailslibrary.org
SUMMARY:Libraries Got Game - Warrensburg
DESCRIPTION:All Ages: Get BOARD at the library with your family and friends! Fun and exciting board and XL games.
URL:https://www.trailslibrary.org/event/libraries-got-game-warrensburg-71/
LOCATION:Warrensburg Branch\, 432 N. Holden\, Warrensburg\, Missouri\, 64093\, United States
CATEGORIES:Adult,Adults,All Ages,Children,Family,Kids,preteens,senior,Seniors,Teen,Teens,Youth
END:VEVENT
BEGIN:VEVENT
DTSTART;TZID=America/New_York:20240807T153000
DTEND;TZID=America/New_York:20240807T163000
DTSTAMP:20260420T000050
CREATED:20240520T191837Z
LAST-MODIFIED:20240520T191837Z
UID:10007461-1723044600-1723048200@www.trailslibrary.org
SUMMARY:Chess Club - Corder
DESCRIPTION:Ages 6-18: Come test your skills with friendly opponents.
URL:https://www.trailslibrary.org/event/chess-club-corder-3/
LOCATION:Corder Branch\, 221 N. Lafayette\, Corder\, MO\, 64021\, United States
CATEGORIES:Children,Kids,Pre-Teen,Pre-Teens,Teen,Teens,Youth
END:VEVENT
BEGIN:VEVENT
DTSTART;TZID=America/New_York:20240807T170000
DTEND;TZID=America/New_York:20240807T180000
DTSTAMP:20260420T000050
CREATED:20240520T191852Z
LAST-MODIFIED:20240520T191852Z
UID:10007466-1723050000-1723053600@www.trailslibrary.org
SUMMARY:Ready for Back to School! - Corder
DESCRIPTION:All Ages: Learn about our resources\, sign up for a library card\, spin the prize wheel and enjoy some light refreshments.
URL:https://www.trailslibrary.org/event/ready-for-back-to-school-corder/
LOCATION:Corder Branch\, 221 N. Lafayette\, Corder\, MO\, 64021\, United States
CATEGORIES:Adult,Adults,All Ages,Children,Family,Kids,preteens,senior,Seniors,Teen,Teens,Youth
END:VEVENT
BEGIN:VEVENT
DTSTART;TZID=America/New_York:20240810T100000
DTEND;TZID=America/New_York:20240810T100000
DTSTAMP:20260420T000050
CREATED:20240521T142503Z
LAST-MODIFIED:20240521T142503Z
UID:10007760-1723284000-1723284000@www.trailslibrary.org
SUMMARY:Cartoons & Pancakes - Concordia
DESCRIPTION:All Ages: Join us for an old-fashioned Saturday morning. We eat pancakes and watch cartoons with friends!
URL:https://www.trailslibrary.org/event/cartoons-pancakes-concordia-4/
LOCATION:Concordia Branch\, 813 S Main\, Concordia\, MO\, 64020\, United States
CATEGORIES:Adult,Adults,All Ages,Children,Family,Kids,Movie,preteens,senior,Seniors,Teen,Teens,Youth
END:VEVENT
BEGIN:VEVENT
DTSTART;TZID=America/New_York:20240814T150000
DTEND;TZID=America/New_York:20240814T180000
DTSTAMP:20260420T000050
CREATED:20240520T204355Z
LAST-MODIFIED:20240520T204355Z
UID:10007720-1723647600-1723658400@www.trailslibrary.org
SUMMARY:Libraries Got Game - Warrensburg
DESCRIPTION:All Ages: Get BOARD at the library with your family and friends! Fun and exciting board and XL games.
URL:https://www.trailslibrary.org/event/libraries-got-game-warrensburg-72/
LOCATION:Warrensburg Branch\, 432 N. Holden\, Warrensburg\, Missouri\, 64093\, United States
CATEGORIES:Adult,Adults,All Ages,Children,Family,Kids,preteens,senior,Seniors,Teen,Teens,Youth
END:VEVENT
BEGIN:VEVENT
DTSTART;TZID=America/New_York:20240815T160000
DTEND;TZID=America/New_York:20240815T160000
DTSTAMP:20260420T000050
CREATED:20240521T141658Z
LAST-MODIFIED:20240521T141658Z
UID:10007737-1723737600-1723737600@www.trailslibrary.org
SUMMARY:Anime Adventures - Concordia
DESCRIPTION:Ages 11-14: Watch Anime! Eat Snacks!
URL:https://www.trailslibrary.org/event/anime-adventures-concordia-3/
LOCATION:Concordia Branch\, 813 S Main\, Concordia\, MO\, 64020\, United States
CATEGORIES:Kids,Pre-Teen,Pre-Teens,Youth
END:VEVENT
BEGIN:VEVENT
DTSTART;TZID=America/New_York:20240821T150000
DTEND;TZID=America/New_York:20240821T180000
DTSTAMP:20260420T000050
CREATED:20240520T204410Z
LAST-MODIFIED:20240520T204410Z
UID:10007723-1724252400-1724263200@www.trailslibrary.org
SUMMARY:Libraries Got Game - Warrensburg
DESCRIPTION:All Ages: Get BOARD at the library with your family and friends! Fun and exciting board and XL games.
URL:https://www.trailslibrary.org/event/libraries-got-game-warrensburg-73/
LOCATION:Warrensburg Branch\, 432 N. Holden\, Warrensburg\, Missouri\, 64093\, United States
CATEGORIES:Adult,Adults,All Ages,Children,Family,Kids,preteens,senior,Seniors,Teen,Teens,Youth
END:VEVENT
BEGIN:VEVENT
DTSTART;TZID=America/New_York:20240828T150000
DTEND;TZID=America/New_York:20240828T180000
DTSTAMP:20260420T000050
CREATED:20240520T204410Z
LAST-MODIFIED:20240520T204410Z
UID:10007725-1724857200-1724868000@www.trailslibrary.org
SUMMARY:Libraries Got Game - Warrensburg
DESCRIPTION:All Ages: Get BOARD at the library with your family and friends! Fun and exciting board and XL games.
URL:https://www.trailslibrary.org/event/libraries-got-game-warrensburg-74/
LOCATION:Warrensburg Branch\, 432 N. Holden\, Warrensburg\, Missouri\, 64093\, United States
CATEGORIES:Adult,Adults,All Ages,Children,Family,Kids,preteens,senior,Seniors,Teen,Teens,Youth
END:VEVENT
BEGIN:VEVENT
DTSTART;TZID=America/New_York:20240903T100000
DTEND;TZID=America/New_York:20240903T103000
DTSTAMP:20260420T000050
CREATED:20240822T161159Z
LAST-MODIFIED:20240822T161159Z
UID:10007844-1725357600-1725359400@www.trailslibrary.org
SUMMARY:Bubbly Storytime - Concordia
DESCRIPTION:Ages 0-5: Storytimes are for building pre-reading skills\, making friends and having fun! And there will be bubbles!
URL:https://www.trailslibrary.org/event/bubbly-storytime-concordia-6/
LOCATION:Concordia Branch\, 813 S Main\, Concordia\, MO\, 64020\, United States
CATEGORIES:Children,Kids,Pre-School,Preschool,Storytime,Toddlers
END:VEVENT
BEGIN:VEVENT
DTSTART;TZID=America/New_York:20240903T100000
DTEND;TZID=America/New_York:20240903T104500
DTSTAMP:20260420T000050
CREATED:20240822T200248Z
LAST-MODIFIED:20240822T200248Z
UID:10008286-1725357600-1725360300@www.trailslibrary.org
SUMMARY:Storytime - Warrensburg
DESCRIPTION:Ages 0-5: Meet up for stories\, music\, dancing\, a craft\, and of course bubbles!
URL:https://www.trailslibrary.org/event/storytime-warrensburg-65/
LOCATION:Warrensburg Branch\, 432 N. Holden\, Warrensburg\, Missouri\, 64093\, United States
CATEGORIES:Children,Kids,Pre-School,Preschool,Storytime,Toddlers
END:VEVENT
BEGIN:VEVENT
DTSTART;TZID=America/New_York:20240903T130000
DTEND;TZID=America/New_York:20240903T150000
DTSTAMP:20260420T000050
CREATED:20240822T210505Z
LAST-MODIFIED:20240822T210505Z
UID:10008356-1725368400-1725375600@www.trailslibrary.org
SUMMARY:Midday Matinee - Knob Noster
DESCRIPTION:All Ages: Come to the library and watch a classic movie with us. Enjoy some popcorn and a water\, coffee\, or tea on us. Feel free to bring some movie snacks of your own too! This month we’re watching The Prisoner of Zenda. “I haven’t lived like a king\, but perhaps I can die like one. I will not disgrace the crown I never wore.”
URL:https://www.trailslibrary.org/event/midday-matinee-knob-noster-3/
LOCATION:Knob Noster Branch\, 202 N. Adams\, Knob Noster\, MO\, 65336\, United States
CATEGORIES:Adult,Adults,All Ages,Children,Family,Kids,Movie,preteens,senior,Seniors,Teen,Teens,Youth
END:VEVENT
BEGIN:VEVENT
DTSTART;TZID=America/New_York:20240903T143000
DTEND;TZID=America/New_York:20240903T153000
DTSTAMP:20260420T000050
CREATED:20240822T200252Z
LAST-MODIFIED:20240822T200252Z
UID:10008290-1725373800-1725377400@www.trailslibrary.org
SUMMARY:Storytime - Warrensburg
DESCRIPTION:Ages 0-5: Meet up for stories\, music\, dancing\, a craft\, and of course bubbles!
URL:https://www.trailslibrary.org/event/storytime-warrensburg-69/
LOCATION:Warrensburg Branch\, 432 N. Holden\, Warrensburg\, Missouri\, 64093\, United States
CATEGORIES:Children,Kids,Pre-School,Preschool,Storytime,Toddlers
END:VEVENT
BEGIN:VEVENT
DTSTART;TZID=America/New_York:20240904T100000
DTEND;TZID=America/New_York:20240904T100000
DTSTAMP:20260420T000050
CREATED:20240822T170810Z
LAST-MODIFIED:20240822T170810Z
UID:10007995-1725444000-1725444000@www.trailslibrary.org
SUMMARY:Storytime - Holden
DESCRIPTION:Ages 0-5: Come listen to a story at the library and do a craft.
URL:https://www.trailslibrary.org/event/storytime-holden-101/
LOCATION:Holden Branch\, 207 S. Main\, Holden\, MO\, 64040\, United States
CATEGORIES:Children,Kids,Pre-School,Preschool,Storytime,Toddlers
END:VEVENT
BEGIN:VEVENT
DTSTART;TZID=America/New_York:20240904T100000
DTEND;TZID=America/New_York:20240904T100000
DTSTAMP:20260420T000050
CREATED:20240822T185355Z
LAST-MODIFIED:20240822T185355Z
UID:10008081-1725444000-1725444000@www.trailslibrary.org
SUMMARY:Storytime - Lexington
DESCRIPTION:Ages 0-5: Bring your little ones for storytime! Each week we read\, sing\, play and learn\, all while developing early literacy skills.
URL:https://www.trailslibrary.org/event/storytime-lexington-108/
LOCATION:Lexington Branch\, 1008 Main Street\, Lexington\, MO\, 64067\, United States
CATEGORIES:Children,Kids,Pre-School,Preschool,Storytime,Toddlers
END:VEVENT
BEGIN:VEVENT
DTSTART;TZID=America/New_York:20240904T100000
DTEND;TZID=America/New_York:20240904T100000
DTSTAMP:20260420T000050
CREATED:20240822T211218Z
LAST-MODIFIED:20240822T211218Z
UID:10008417-1725444000-1725444000@www.trailslibrary.org
SUMMARY:Storytime - Odessa
DESCRIPTION:Ages 0-5: Storytimes are for building pre-reading skills\, making friends\, and having fun!
URL:https://www.trailslibrary.org/event/storytime-odessa-78/
LOCATION:Odessa Branch\, 107 W. Mason\, Odessa\, MO\, 64076\, United States
CATEGORIES:Children,Kids,Pre-School,Preschool,Storytime,Toddlers
END:VEVENT
BEGIN:VEVENT
DTSTART;TZID=America/New_York:20240904T100000
DTEND;TZID=America/New_York:20240904T110000
DTSTAMP:20260420T000050
CREATED:20240822T162007Z
LAST-MODIFIED:20240822T162007Z
UID:10007863-1725444000-1725447600@www.trailslibrary.org
SUMMARY:Storytime - Corder
DESCRIPTION:Ages 0-5: Storytimes are for building pre-reading skills\, making friends\, and having fun!
URL:https://www.trailslibrary.org/event/storytime-corder-105/
LOCATION:Corder Branch\, 221 N. Lafayette\, Corder\, MO\, 64021\, United States
CATEGORIES:Children,Kids,Pre-School,Preschool,Storytime,Toddlers
END:VEVENT
BEGIN:VEVENT
DTSTART;TZID=America/New_York:20240904T150000
DTEND;TZID=America/New_York:20240904T180000
DTSTAMP:20260420T000050
CREATED:20240822T194705Z
LAST-MODIFIED:20240822T194705Z
UID:10008237-1725462000-1725472800@www.trailslibrary.org
SUMMARY:Libraries Got Game - Warrensburg
DESCRIPTION:All Ages: Get BOARD at the library with your family and friends! Fun and exciting board and XL games.
URL:https://www.trailslibrary.org/event/libraries-got-game-warrensburg-75/
LOCATION:Warrensburg Branch\, 432 N. Holden\, Warrensburg\, Missouri\, 64093\, United States
CATEGORIES:Adult,Adults,All Ages,Children,Family,Kids,preteens,senior,Seniors,Teen,Teens,Youth
END:VEVENT
BEGIN:VEVENT
DTSTART;TZID=America/New_York:20240905T100000
DTEND;TZID=America/New_York:20240905T100000
DTSTAMP:20260420T000050
CREATED:20240822T211218Z
LAST-MODIFIED:20240822T211218Z
UID:10008420-1725530400-1725530400@www.trailslibrary.org
SUMMARY:Storytime - Odessa
DESCRIPTION:Ages 0-5: Storytimes are for building pre-reading skills\, making friends\, and having fun!
URL:https://www.trailslibrary.org/event/storytime-odessa-81/
LOCATION:Odessa Branch\, 107 W. Mason\, Odessa\, MO\, 64076\, United States
CATEGORIES:Children,Kids,Pre-School,Preschool,Storytime,Toddlers
END:VEVENT
BEGIN:VEVENT
DTSTART;TZID=America/New_York:20240905T100000
DTEND;TZID=America/New_York:20240905T110000
DTSTAMP:20260420T000050
CREATED:20240822T195350Z
LAST-MODIFIED:20240822T195350Z
UID:10008258-1725530400-1725534000@www.trailslibrary.org
SUMMARY:Music and More - Warrensburg
DESCRIPTION:Ages 0-5: Join us to get your wiggles out with singing and dancing. Children will use a variety of musical instruments to increase sensory development\, coordination\, literacy & numeracy skills. Stay and play with friends.
URL:https://www.trailslibrary.org/event/music-and-more-warrensburg/
LOCATION:Warrensburg Branch\, 432 N. Holden\, Warrensburg\, Missouri\, 64093\, United States
CATEGORIES:Children,Kids,Pre-School,Preschool,Toddlers
END:VEVENT
BEGIN:VEVENT
DTSTART;TZID=America/New_York:20240906T103000
DTEND;TZID=America/New_York:20240906T113000
DTSTAMP:20260420T000050
CREATED:20240822T162821Z
LAST-MODIFIED:20240822T162821Z
UID:10007903-1725618600-1725622200@www.trailslibrary.org
SUMMARY:Fri-yay! - Corder
DESCRIPTION:Ages 6-18: We have exciting activities\, games\, and crafts. Enjoy a relaxing atmosphere while making new friends and learning new things. Don’t miss out on the fun!
URL:https://www.trailslibrary.org/event/fri-yay-corder/
LOCATION:Corder Branch\, 221 N. Lafayette\, Corder\, MO\, 64021\, United States
CATEGORIES:Children,Kids,Pre-Teen,Pre-Teens,Teen,Teens
END:VEVENT
BEGIN:VEVENT
DTSTART;TZID=America/New_York:20240906T160000
DTEND;TZID=America/New_York:20240906T173000
DTSTAMP:20260420T000050
CREATED:20240822T163618Z
LAST-MODIFIED:20240822T163618Z
UID:10007938-1725638400-1725643800@www.trailslibrary.org
SUMMARY:Night Sky Paint-Along - Corder
DESCRIPTION:Ages 6-18 REGISTRATION REQUIRED: Learn some basic painting skills while you follow along painting a beautiful night sky with our instructor.
URL:https://www.trailslibrary.org/event/night-sky-paint-along-corder-2/
LOCATION:Corder Branch\, 221 N. Lafayette\, Corder\, MO\, 64021\, United States
CATEGORIES:Children,Crafts,Kids,Pre-Teen,Pre-Teens,Teen,Teens
END:VEVENT
BEGIN:VEVENT
DTSTART;TZID=America/New_York:20240907T093000
DTEND;TZID=America/New_York:20240907T103000
DTSTAMP:20260420T000050
CREATED:20240822T163619Z
LAST-MODIFIED:20240822T163619Z
UID:10007939-1725701400-1725705000@www.trailslibrary.org
SUMMARY:Roblox Saturday - Corder
DESCRIPTION:Ages 6-18: Join in the fun as we talk and play all things Roblox!
URL:https://www.trailslibrary.org/event/roblox-saturday-corder/
LOCATION:Corder Branch\, 221 N. Lafayette\, Corder\, MO\, 64021\, United States
CATEGORIES:Children,Kids,Pre-Teen,Pre-Teens,Teen,Teens
END:VEVENT
BEGIN:VEVENT
DTSTART;TZID=America/New_York:20240907T100000
DTEND;TZID=America/New_York:20240907T110000
DTSTAMP:20260420T000050
CREATED:20240822T184027Z
LAST-MODIFIED:20240822T184027Z
UID:10008065-1725703200-1725706800@www.trailslibrary.org
SUMMARY:Saturday Storytime & Craft - Leeton
DESCRIPTION:Ages 3-5: Join us on the first Saturday of the month at 10:00 AM for Storytime!
URL:https://www.trailslibrary.org/event/saturday-storytime-craft-leeton-8/
LOCATION:Leeton Express Branch\, 500 N. Main\, Leeton\, MO\, 64761\, United States
CATEGORIES:Children,Kids,Pre-School,Preschool,Storytime,Toddlers
END:VEVENT
BEGIN:VEVENT
DTSTART;TZID=America/New_York:20240907T110000
DTEND;TZID=America/New_York:20240907T110000
DTSTAMP:20260420T000050
CREATED:20240822T170610Z
LAST-MODIFIED:20240822T170610Z
UID:10007990-1725706800-1725706800@www.trailslibrary.org
SUMMARY:Family Movie Matinee - Holden
DESCRIPTION:All Ages: Come to the library and enjoy a family friendly movie.
URL:https://www.trailslibrary.org/event/family-movie-matinee-holden-5/
LOCATION:Holden Branch\, 207 S. Main\, Holden\, MO\, 64040\, United States
CATEGORIES:Adult,Adults,All Ages,Children,Family,Kids,Movie,preteens,senior,Seniors,Teen,Teens,Youth
END:VEVENT
BEGIN:VEVENT
DTSTART;TZID=America/New_York:20240907T110000
DTEND;TZID=America/New_York:20240907T130000
DTSTAMP:20260420T000050
CREATED:20240822T184026Z
LAST-MODIFIED:20240822T184026Z
UID:10008061-1725706800-1725714000@www.trailslibrary.org
SUMMARY:Saturday Cinema - Leeton
DESCRIPTION:All Ages: Join us on the first Saturday of the month at 11:00 AM for a family friendly movie. Bring a friend and a drink with a lid. We will provide the popcorn!
URL:https://www.trailslibrary.org/event/saturday-cinema-leeton-10/
LOCATION:Leeton Express Branch\, 500 N. Main\, Leeton\, MO\, 64761\, United States
CATEGORIES:Adult,Adults,All Ages,Children,Family,Kids,Movie,preteens,senior,Seniors,Teen,Teens,Youth
END:VEVENT
BEGIN:VEVENT
DTSTART;TZID=America/New_York:20240909T093000
DTEND;TZID=America/New_York:20240909T100000
DTSTAMP:20260420T000050
CREATED:20240822T163046Z
LAST-MODIFIED:20240822T163046Z
UID:10007921-1725874200-1725876000@www.trailslibrary.org
SUMMARY:Monday Melodies - Corder
DESCRIPTION:Ages 0-5: Join us for fun-filled music and movement sessions tailored for toddlers! These engaging programs encourage physical activity\, coordination\, and early literacy through songs\, dance\, and interactive play. It’s a wonderful opportunity for your little one to socialize\, learn\, and enjoy the joyful world of music in a welcoming environment.
URL:https://www.trailslibrary.org/event/monday-melodies-corder/
LOCATION:Corder Branch\, 221 N. Lafayette\, Corder\, MO\, 64021\, United States
CATEGORIES:Children,Kids,Pre-School,Preschool,Toddlers
END:VEVENT
BEGIN:VEVENT
DTSTART;TZID=America/New_York:20240909T100000
DTEND;TZID=America/New_York:20240909T100000
DTSTAMP:20260420T000050
CREATED:20240822T192620Z
LAST-MODIFIED:20240822T192620Z
UID:10008172-1725876000-1725876000@www.trailslibrary.org
SUMMARY:Storytime - Waverly
DESCRIPTION:Ages 0-5: Come and enjoy stories\, crafts and more!
URL:https://www.trailslibrary.org/event/storytime-waverly-104/
LOCATION:Waverly Branch\, 203 E. Kelling\, Waverly\, MO\, 64096\, United States
CATEGORIES:Children,Kids,Pre-School,Preschool,Storytime,Toddlers
END:VEVENT
END:VCALENDAR