BEGIN:VCALENDAR
VERSION:2.0
PRODID:-//Trails Regional Library - ECPv6.15.20//NONSGML v1.0//EN
CALSCALE:GREGORIAN
METHOD:PUBLISH
X-ORIGINAL-URL:https://www.trailslibrary.org
X-WR-CALDESC:Events for Trails Regional Library
REFRESH-INTERVAL;VALUE=DURATION:PT1H
X-Robots-Tag:noindex
X-PUBLISHED-TTL:PT1H
BEGIN:VTIMEZONE
TZID:America/New_York
BEGIN:DAYLIGHT
TZOFFSETFROM:-0500
TZOFFSETTO:-0400
TZNAME:EDT
DTSTART:20230312T070000
END:DAYLIGHT
BEGIN:STANDARD
TZOFFSETFROM:-0400
TZOFFSETTO:-0500
TZNAME:EST
DTSTART:20231105T060000
END:STANDARD
BEGIN:DAYLIGHT
TZOFFSETFROM:-0500
TZOFFSETTO:-0400
TZNAME:EDT
DTSTART:20240310T070000
END:DAYLIGHT
BEGIN:STANDARD
TZOFFSETFROM:-0400
TZOFFSETTO:-0500
TZNAME:EST
DTSTART:20241103T060000
END:STANDARD
BEGIN:DAYLIGHT
TZOFFSETFROM:-0500
TZOFFSETTO:-0400
TZNAME:EDT
DTSTART:20250309T070000
END:DAYLIGHT
BEGIN:STANDARD
TZOFFSETFROM:-0400
TZOFFSETTO:-0500
TZNAME:EST
DTSTART:20251102T060000
END:STANDARD
END:VTIMEZONE
BEGIN:VEVENT
DTSTART;TZID=America/New_York:20241120T100000
DTEND;TZID=America/New_York:20241120T110000
DTSTAMP:20260419T152925
CREATED:20240822T210859Z
LAST-MODIFIED:20240822T210859Z
UID:10008368-1732096800-1732100400@www.trailslibrary.org
SUMMARY:Storytime - Knob Noster
DESCRIPTION:Ages 0-5: Help your child develop a love for literacy with stories\, music\, & bubbles!
URL:https://www.trailslibrary.org/event/storytime-knob-noster-120/
LOCATION:Knob Noster Branch\, 202 N. Adams\, Knob Noster\, MO\, 65336\, United States
CATEGORIES:Children,Kids,Pre-School,Preschool,Storytime,Toddlers
END:VEVENT
BEGIN:VEVENT
DTSTART;TZID=America/New_York:20241120T150000
DTEND;TZID=America/New_York:20241120T180000
DTSTAMP:20260419T152925
CREATED:20240822T195050Z
LAST-MODIFIED:20240822T195050Z
UID:10008248-1732114800-1732125600@www.trailslibrary.org
SUMMARY:Libraries Got Game - Warrensburg
DESCRIPTION:All Ages: Get BOARD at the library with your family and friends! Fun and exciting board and XL games.
URL:https://www.trailslibrary.org/event/libraries-got-game-warrensburg-86/
LOCATION:Warrensburg Branch\, 432 N. Holden\, Warrensburg\, Missouri\, 64093\, United States
CATEGORIES:Adult,Adults,All Ages,Children,Family,Kids,preteens,senior,Seniors,Teen,Teens,Youth
END:VEVENT
BEGIN:VEVENT
DTSTART;TZID=America/New_York:20241121T100000
DTEND;TZID=America/New_York:20241121T110000
DTSTAMP:20260419T152925
CREATED:20240822T195752Z
LAST-MODIFIED:20240822T195752Z
UID:10008268-1732183200-1732186800@www.trailslibrary.org
SUMMARY:Music and More - Warrensburg
DESCRIPTION:Ages 0-5: Join us to get your wiggles out with singing and dancing. Children will use a variety of musical instruments to increase sensory development\, coordination\, literacy & numeracy skills. Stay and play with friends.
URL:https://www.trailslibrary.org/event/music-and-more-warrensburg-11/
LOCATION:Warrensburg Branch\, 432 N. Holden\, Warrensburg\, Missouri\, 64093\, United States
CATEGORIES:Children,Kids,Pre-School,Preschool,Toddlers
END:VEVENT
BEGIN:VEVENT
DTSTART;TZID=America/New_York:20241121T150000
DTEND;TZID=America/New_York:20241121T150000
DTSTAMP:20260419T152925
CREATED:20240822T170233Z
LAST-MODIFIED:20240822T170233Z
UID:10007976-1732201200-1732201200@www.trailslibrary.org
SUMMARY:Chess Club - Holden
DESCRIPTION:Ages 13+ REGISTRATION REQUIRED: Come play chess with us at the library!
URL:https://www.trailslibrary.org/event/chess-club-holden-3/
LOCATION:Holden Branch\, 207 S. Main\, Holden\, MO\, 64040\, United States
CATEGORIES:Children,Kids,Pre-Teen,Pre-Teens
END:VEVENT
BEGIN:VEVENT
DTSTART;TZID=America/New_York:20241122T153000
DTEND;TZID=America/New_York:20241122T153000
DTSTAMP:20260419T152925
CREATED:20240822T211034Z
LAST-MODIFIED:20240822T211034Z
UID:10008386-1732289400-1732289400@www.trailslibrary.org
SUMMARY:Feature Friday - Odessa
DESCRIPTION:All Ages: Join us for our family movie. We provide the popcorn\, you supply your favorite drink.
URL:https://www.trailslibrary.org/event/feature-friday-odessa-16/
LOCATION:Odessa Branch\, 107 W. Mason\, Odessa\, MO\, 64076\, United States
CATEGORIES:Adult,Adults,All Ages,Children,Family,Kids,Movie,preteens,senior,Seniors,Teen,Teens,Youth
END:VEVENT
BEGIN:VEVENT
DTSTART;TZID=America/New_York:20241122T183000
DTEND;TZID=America/New_York:20241122T200000
DTSTAMP:20260419T152925
CREATED:20240822T162222Z
LAST-MODIFIED:20240822T162222Z
UID:10007878-1732300200-1732305600@www.trailslibrary.org
SUMMARY:Bingo Night! - Corder
DESCRIPTION:All Ages REGISTRATION REQUIRED: Join us for a fun-filled bingo night at the library! Enjoy a lively evening of games\, prizes\, and community spirit. Whether you’re a seasoned player or new to bingo\, everyone is welcome. Don’t miss out on the chance to connect with friends and neighbors while trying your luck!
URL:https://www.trailslibrary.org/event/bingo-night-corder/
LOCATION:Corder Branch\, 221 N. Lafayette\, Corder\, MO\, 64021\, United States
CATEGORIES:Adult,Adults,All Ages,Children,Family,Kids,preteens,senior,Seniors,Teen,Teens,Youth
END:VEVENT
BEGIN:VEVENT
DTSTART;TZID=America/New_York:20241123T093000
DTEND;TZID=America/New_York:20241123T103000
DTSTAMP:20260419T152925
CREATED:20240822T163835Z
LAST-MODIFIED:20240822T163835Z
UID:10007950-1732354200-1732357800@www.trailslibrary.org
SUMMARY:Roblox Saturday - Corder
DESCRIPTION:Ages 6-18: Join in the fun as we talk and play all things Roblox!
URL:https://www.trailslibrary.org/event/roblox-saturday-corder-12/
LOCATION:Corder Branch\, 221 N. Lafayette\, Corder\, MO\, 64021\, United States
CATEGORIES:Children,Kids,Pre-Teen,Pre-Teens,Teen,Teens
END:VEVENT
BEGIN:VEVENT
DTSTART;TZID=America/New_York:20241123T100000
DTEND;TZID=America/New_York:20241123T100000
DTSTAMP:20260419T152925
CREATED:20240822T192739Z
LAST-MODIFIED:20240822T192739Z
UID:10008185-1732356000-1732356000@www.trailslibrary.org
SUMMARY:Thanksgiving Craft - Waverly
DESCRIPTION:All Ages: Come and make a Thanksgiving Craft.
URL:https://www.trailslibrary.org/event/thanksgiving-craft-waverly/
LOCATION:Waverly Branch\, 203 E. Kelling\, Waverly\, MO\, 64096\, United States
CATEGORIES:Adult,Adults,All Ages,Children,Crafts,Family,Kids,preteens,senior,Seniors,Teen,Teens,Youth
END:VEVENT
BEGIN:VEVENT
DTSTART;TZID=America/New_York:20241125T093000
DTEND;TZID=America/New_York:20241125T100000
DTSTAMP:20260419T152925
CREATED:20240822T163355Z
LAST-MODIFIED:20240822T163355Z
UID:10007930-1732527000-1732528800@www.trailslibrary.org
SUMMARY:Monday Melodies - Corder
DESCRIPTION:Ages 0-5: Join us for fun-filled music and movement sessions tailored for toddlers! These engaging programs encourage physical activity\, coordination\, and early literacy through songs\, dance\, and interactive play. It’s a wonderful opportunity for your little one to socialize\, learn\, and enjoy the joyful world of music in a welcoming environment.
URL:https://www.trailslibrary.org/event/monday-melodies-corder-10/
LOCATION:Corder Branch\, 221 N. Lafayette\, Corder\, MO\, 64021\, United States
CATEGORIES:Children,Kids,Pre-School,Preschool,Toddlers
END:VEVENT
BEGIN:VEVENT
DTSTART;TZID=America/New_York:20241125T100000
DTEND;TZID=America/New_York:20241125T100000
DTSTAMP:20260419T152925
CREATED:20240822T192724Z
LAST-MODIFIED:20240822T192724Z
UID:10008181-1732528800-1732528800@www.trailslibrary.org
SUMMARY:Storytime - Waverly
DESCRIPTION:Ages 0-5: Come and enjoy stories\, crafts and more!
URL:https://www.trailslibrary.org/event/storytime-waverly-113/
LOCATION:Waverly Branch\, 203 E. Kelling\, Waverly\, MO\, 64096\, United States
CATEGORIES:Children,Kids,Pre-School,Preschool,Storytime,Toddlers
END:VEVENT
BEGIN:VEVENT
DTSTART;TZID=America/New_York:20241125T153000
DTEND;TZID=America/New_York:20241125T163000
DTSTAMP:20260419T152925
CREATED:20240822T163031Z
LAST-MODIFIED:20240822T163031Z
UID:10007916-1732548600-1732552200@www.trailslibrary.org
SUMMARY:Game On! - Corder
DESCRIPTION:Ages 6-18: Join us for some after school fun playing the Wii. We have Mario Kart and some sports games available to challenge your peers to a friendly competition!
URL:https://www.trailslibrary.org/event/game-on-corder-14/
LOCATION:Corder Branch\, 221 N. Lafayette\, Corder\, MO\, 64021\, United States
CATEGORIES:Children,Kids,Pre-Teen,Pre-Teens,Teen,Teens
END:VEVENT
BEGIN:VEVENT
DTSTART;TZID=America/New_York:20241126T100000
DTEND;TZID=America/New_York:20241126T104500
DTSTAMP:20260419T152925
CREATED:20240822T201039Z
LAST-MODIFIED:20240822T201039Z
UID:10008307-1732615200-1732617900@www.trailslibrary.org
SUMMARY:Storytime - Warrensburg
DESCRIPTION:Ages 0-5: Meet up for stories\, music\, dancing\, a craft\, and of course bubbles!
URL:https://www.trailslibrary.org/event/storytime-warrensburg-86/
LOCATION:Warrensburg Branch\, 432 N. Holden\, Warrensburg\, Missouri\, 64093\, United States
CATEGORIES:Children,Kids,Pre-School,Preschool,Storytime,Toddlers
END:VEVENT
BEGIN:VEVENT
DTSTART;TZID=America/New_York:20241126T143000
DTEND;TZID=America/New_York:20241126T153000
DTSTAMP:20260419T152925
CREATED:20240822T201240Z
LAST-MODIFIED:20240822T201240Z
UID:10008311-1732631400-1732635000@www.trailslibrary.org
SUMMARY:Storytime - Warrensburg
DESCRIPTION:Ages 0-5: Meet up for stories\, music\, dancing\, a craft\, and of course bubbles!
URL:https://www.trailslibrary.org/event/storytime-warrensburg-90/
LOCATION:Warrensburg Branch\, 432 N. Holden\, Warrensburg\, Missouri\, 64093\, United States
CATEGORIES:Children,Kids,Pre-School,Preschool,Storytime,Toddlers
END:VEVENT
BEGIN:VEVENT
DTSTART;TZID=America/New_York:20241127T100000
DTEND;TZID=America/New_York:20241127T100000
DTSTAMP:20260419T152925
CREATED:20240822T171110Z
LAST-MODIFIED:20240822T171110Z
UID:10008006-1732701600-1732701600@www.trailslibrary.org
SUMMARY:Storytime - Holden
DESCRIPTION:Ages 0-5: Come listen to a story at the library and do a craft.
URL:https://www.trailslibrary.org/event/storytime-holden-131/
LOCATION:Holden Branch\, 207 S. Main\, Holden\, MO\, 64040\, United States
CATEGORIES:Children,Kids,Pre-School,Preschool,Storytime,Toddlers
END:VEVENT
BEGIN:VEVENT
DTSTART;TZID=America/New_York:20241127T150000
DTEND;TZID=America/New_York:20241127T180000
DTSTAMP:20260419T152925
CREATED:20240822T195051Z
LAST-MODIFIED:20240822T195051Z
UID:10008249-1732719600-1732730400@www.trailslibrary.org
SUMMARY:Libraries Got Game - Warrensburg
DESCRIPTION:All Ages: Get BOARD at the library with your family and friends! Fun and exciting board and XL games.
URL:https://www.trailslibrary.org/event/libraries-got-game-warrensburg-87/
LOCATION:Warrensburg Branch\, 432 N. Holden\, Warrensburg\, Missouri\, 64093\, United States
CATEGORIES:Adult,Adults,All Ages,Children,Family,Kids,preteens,senior,Seniors,Teen,Teens,Youth
END:VEVENT
BEGIN:VEVENT
DTSTART;TZID=America/New_York:20241130T093000
DTEND;TZID=America/New_York:20241130T103000
DTSTAMP:20260419T152925
CREATED:20240822T163835Z
LAST-MODIFIED:20240822T163835Z
UID:10007951-1732959000-1732962600@www.trailslibrary.org
SUMMARY:Roblox Saturday - Corder
DESCRIPTION:Ages 6-18: Join in the fun as we talk and play all things Roblox!
URL:https://www.trailslibrary.org/event/roblox-saturday-corder-13/
LOCATION:Corder Branch\, 221 N. Lafayette\, Corder\, MO\, 64021\, United States
CATEGORIES:Children,Kids,Pre-Teen,Pre-Teens,Teen,Teens
END:VEVENT
BEGIN:VEVENT
DTSTART;TZID=America/New_York:20241202T093000
DTEND;TZID=America/New_York:20241202T100000
DTSTAMP:20260419T152925
CREATED:20240822T163355Z
LAST-MODIFIED:20240822T163355Z
UID:10007931-1733131800-1733133600@www.trailslibrary.org
SUMMARY:Monday Melodies - Corder
DESCRIPTION:Ages 0-5: Join us for fun-filled music and movement sessions tailored for toddlers! These engaging programs encourage physical activity\, coordination\, and early literacy through songs\, dance\, and interactive play. It’s a wonderful opportunity for your little one to socialize\, learn\, and enjoy the joyful world of music in a welcoming environment.
URL:https://www.trailslibrary.org/event/monday-melodies-corder-11/
LOCATION:Corder Branch\, 221 N. Lafayette\, Corder\, MO\, 64021\, United States
CATEGORIES:Children,Kids,Pre-School,Preschool,Toddlers
END:VEVENT
BEGIN:VEVENT
DTSTART;TZID=America/New_York:20241202T153000
DTEND;TZID=America/New_York:20241202T163000
DTSTAMP:20260419T152925
CREATED:20240822T163031Z
LAST-MODIFIED:20240822T163031Z
UID:10007917-1733153400-1733157000@www.trailslibrary.org
SUMMARY:Game On! - Corder
DESCRIPTION:Ages 6-18: Join us for some after school fun playing the Wii. We have Mario Kart and some sports games available to challenge your peers to a friendly competition!
URL:https://www.trailslibrary.org/event/game-on-corder-15/
LOCATION:Corder Branch\, 221 N. Lafayette\, Corder\, MO\, 64021\, United States
CATEGORIES:Children,Kids,Pre-Teen,Pre-Teens,Teen,Teens
END:VEVENT
BEGIN:VEVENT
DTSTART;TZID=America/New_York:20241203T100000
DTEND;TZID=America/New_York:20241203T103000
DTSTAMP:20260419T152925
CREATED:20240822T161230Z
LAST-MODIFIED:20240822T161230Z
UID:10007856-1733220000-1733221800@www.trailslibrary.org
SUMMARY:Bubbly Storytime - Concordia
DESCRIPTION:Ages 0-5: Storytimes are for building pre-reading skills\, making friends and having fun! And there will be bubbles!
URL:https://www.trailslibrary.org/event/bubbly-storytime-concordia-18/
LOCATION:Concordia Branch\, 813 S Main\, Concordia\, MO\, 64020\, United States
CATEGORIES:Children,Kids,Pre-School,Preschool,Storytime,Toddlers
END:VEVENT
BEGIN:VEVENT
DTSTART;TZID=America/New_York:20241203T100000
DTEND;TZID=America/New_York:20241203T104500
DTSTAMP:20260419T152925
CREATED:20240822T201240Z
LAST-MODIFIED:20240822T201240Z
UID:10008312-1733220000-1733222700@www.trailslibrary.org
SUMMARY:Storytime - Warrensburg
DESCRIPTION:Ages 0-5: Meet up for stories\, music\, dancing\, a craft\, and of course bubbles!
URL:https://www.trailslibrary.org/event/storytime-warrensburg-91/
LOCATION:Warrensburg Branch\, 432 N. Holden\, Warrensburg\, Missouri\, 64093\, United States
CATEGORIES:Children,Kids,Pre-School,Preschool,Storytime,Toddlers
END:VEVENT
BEGIN:VEVENT
DTSTART;TZID=America/New_York:20241203T143000
DTEND;TZID=America/New_York:20241203T153000
DTSTAMP:20260419T152925
CREATED:20240822T201241Z
LAST-MODIFIED:20240822T201241Z
UID:10008315-1733236200-1733239800@www.trailslibrary.org
SUMMARY:Storytime - Warrensburg
DESCRIPTION:Ages 0-5: Meet up for stories\, music\, dancing\, a craft\, and of course bubbles!
URL:https://www.trailslibrary.org/event/storytime-warrensburg-94/
LOCATION:Warrensburg Branch\, 432 N. Holden\, Warrensburg\, Missouri\, 64093\, United States
CATEGORIES:Children,Kids,Pre-School,Preschool,Storytime,Toddlers
END:VEVENT
BEGIN:VEVENT
DTSTART;TZID=America/New_York:20241204T100000
DTEND;TZID=America/New_York:20241204T100000
DTSTAMP:20260419T152925
CREATED:20240822T171110Z
LAST-MODIFIED:20240822T171110Z
UID:10008007-1733306400-1733306400@www.trailslibrary.org
SUMMARY:Storytime - Holden
DESCRIPTION:Ages 0-5: Come listen to a story at the library and do a craft.
URL:https://www.trailslibrary.org/event/storytime-holden-132/
LOCATION:Holden Branch\, 207 S. Main\, Holden\, MO\, 64040\, United States
CATEGORIES:Children,Kids,Pre-School,Preschool,Storytime,Toddlers
END:VEVENT
BEGIN:VEVENT
DTSTART;TZID=America/New_York:20241204T100000
DTEND;TZID=America/New_York:20241204T100000
DTSTAMP:20260419T152925
CREATED:20240822T185652Z
LAST-MODIFIED:20240822T185652Z
UID:10008093-1733306400-1733306400@www.trailslibrary.org
SUMMARY:Storytime - Lexington
DESCRIPTION:Ages 0-5: Bring your little ones for storytime! Each week we read\, sing\, play and learn\, all while developing early literacy skills.
URL:https://www.trailslibrary.org/event/storytime-lexington-120/
LOCATION:Lexington Branch\, 1008 Main Street\, Lexington\, MO\, 64067\, United States
CATEGORIES:Children,Kids,Pre-School,Preschool,Storytime,Toddlers
END:VEVENT
BEGIN:VEVENT
DTSTART;TZID=America/New_York:20241204T100000
DTEND;TZID=America/New_York:20241204T100000
DTSTAMP:20260419T152925
CREATED:20240822T211248Z
LAST-MODIFIED:20240822T211248Z
UID:10008428-1733306400-1733306400@www.trailslibrary.org
SUMMARY:Storytime - Odessa
DESCRIPTION:Ages 0-5: Storytimes are for building pre-reading skills\, making friends\, and having fun!
URL:https://www.trailslibrary.org/event/storytime-odessa-89/
LOCATION:Odessa Branch\, 107 W. Mason\, Odessa\, MO\, 64076\, United States
CATEGORIES:Children,Kids,Pre-School,Preschool,Storytime,Toddlers
END:VEVENT
BEGIN:VEVENT
DTSTART;TZID=America/New_York:20241204T100000
DTEND;TZID=America/New_York:20241204T110000
DTSTAMP:20260419T152925
CREATED:20240822T162026Z
LAST-MODIFIED:20240822T162026Z
UID:10007875-1733306400-1733310000@www.trailslibrary.org
SUMMARY:Storytime - Corder
DESCRIPTION:Ages 0-5: Storytimes are for building pre-reading skills\, making friends\, and having fun!
URL:https://www.trailslibrary.org/event/storytime-corder-117/
LOCATION:Corder Branch\, 221 N. Lafayette\, Corder\, MO\, 64021\, United States
CATEGORIES:Children,Kids,Pre-School,Preschool,Storytime,Toddlers
END:VEVENT
BEGIN:VEVENT
DTSTART;TZID=America/New_York:20241204T100000
DTEND;TZID=America/New_York:20241204T110000
DTSTAMP:20260419T152925
CREATED:20240822T210859Z
LAST-MODIFIED:20240822T210859Z
UID:10008369-1733306400-1733310000@www.trailslibrary.org
SUMMARY:Storytime - Knob Noster
DESCRIPTION:Ages 0-5: Help your child develop a love for literacy with stories\, music\, & bubbles!
URL:https://www.trailslibrary.org/event/storytime-knob-noster-121/
LOCATION:Knob Noster Branch\, 202 N. Adams\, Knob Noster\, MO\, 65336\, United States
CATEGORIES:Children,Kids,Pre-School,Preschool,Storytime,Toddlers
END:VEVENT
BEGIN:VEVENT
DTSTART;TZID=America/New_York:20241204T150000
DTEND;TZID=America/New_York:20241204T180000
DTSTAMP:20260419T152925
CREATED:20240822T195051Z
LAST-MODIFIED:20240822T195051Z
UID:10008250-1733324400-1733335200@www.trailslibrary.org
SUMMARY:Libraries Got Game - Warrensburg
DESCRIPTION:All Ages: Get BOARD at the library with your family and friends! Fun and exciting board and XL games.
URL:https://www.trailslibrary.org/event/libraries-got-game-warrensburg-88/
LOCATION:Warrensburg Branch\, 432 N. Holden\, Warrensburg\, Missouri\, 64093\, United States
CATEGORIES:Adult,Adults,All Ages,Children,Family,Kids,preteens,senior,Seniors,Teen,Teens,Youth
END:VEVENT
BEGIN:VEVENT
DTSTART;TZID=America/New_York:20241205T100000
DTEND;TZID=America/New_York:20241205T100000
DTSTAMP:20260419T152925
CREATED:20240822T211249Z
LAST-MODIFIED:20240822T211249Z
UID:10008431-1733392800-1733392800@www.trailslibrary.org
SUMMARY:Storytime - Odessa
DESCRIPTION:Ages 0-5: Storytimes are for building pre-reading skills\, making friends\, and having fun!
URL:https://www.trailslibrary.org/event/storytime-odessa-92/
LOCATION:Odessa Branch\, 107 W. Mason\, Odessa\, MO\, 64076\, United States
CATEGORIES:Children,Kids,Pre-School,Preschool,Storytime,Toddlers
END:VEVENT
BEGIN:VEVENT
DTSTART;TZID=America/New_York:20241205T100000
DTEND;TZID=America/New_York:20241205T110000
DTSTAMP:20260419T152925
CREATED:20240822T195753Z
LAST-MODIFIED:20240822T195753Z
UID:10008269-1733392800-1733396400@www.trailslibrary.org
SUMMARY:Music and More - Warrensburg
DESCRIPTION:Ages 0-5: Join us to get your wiggles out with singing and dancing. Children will use a variety of musical instruments to increase sensory development\, coordination\, literacy & numeracy skills. Stay and play with friends.
URL:https://www.trailslibrary.org/event/music-and-more-warrensburg-12/
LOCATION:Warrensburg Branch\, 432 N. Holden\, Warrensburg\, Missouri\, 64093\, United States
CATEGORIES:Children,Kids,Pre-School,Preschool,Toddlers
END:VEVENT
BEGIN:VEVENT
DTSTART;TZID=America/New_York:20241206T100000
DTEND;TZID=America/New_York:20241206T100000
DTSTAMP:20260419T152925
CREATED:20240822T192725Z
LAST-MODIFIED:20240822T192725Z
UID:10008182-1733479200-1733479200@www.trailslibrary.org
SUMMARY:Storytime - Waverly
DESCRIPTION:Ages 0-5: Come and enjoy stories\, crafts and more!
URL:https://www.trailslibrary.org/event/storytime-waverly-114/
LOCATION:Waverly Branch\, 203 E. Kelling\, Waverly\, MO\, 64096\, United States
CATEGORIES:Children,Kids,Pre-School,Preschool,Storytime,Toddlers
END:VEVENT
END:VCALENDAR