BEGIN:VCALENDAR
VERSION:2.0
PRODID:-//Trails Regional Library - ECPv6.15.20//NONSGML v1.0//EN
CALSCALE:GREGORIAN
METHOD:PUBLISH
X-WR-CALNAME:Trails Regional Library
X-ORIGINAL-URL:https://www.trailslibrary.org
X-WR-CALDESC:Events for Trails Regional Library
REFRESH-INTERVAL;VALUE=DURATION:PT1H
X-Robots-Tag:noindex
X-PUBLISHED-TTL:PT1H
BEGIN:VTIMEZONE
TZID:America/New_York
BEGIN:DAYLIGHT
TZOFFSETFROM:-0500
TZOFFSETTO:-0400
TZNAME:EDT
DTSTART:20220313T070000
END:DAYLIGHT
BEGIN:STANDARD
TZOFFSETFROM:-0400
TZOFFSETTO:-0500
TZNAME:EST
DTSTART:20221106T060000
END:STANDARD
BEGIN:DAYLIGHT
TZOFFSETFROM:-0500
TZOFFSETTO:-0400
TZNAME:EDT
DTSTART:20230312T070000
END:DAYLIGHT
BEGIN:STANDARD
TZOFFSETFROM:-0400
TZOFFSETTO:-0500
TZNAME:EST
DTSTART:20231105T060000
END:STANDARD
BEGIN:DAYLIGHT
TZOFFSETFROM:-0500
TZOFFSETTO:-0400
TZNAME:EDT
DTSTART:20240310T070000
END:DAYLIGHT
BEGIN:STANDARD
TZOFFSETFROM:-0400
TZOFFSETTO:-0500
TZNAME:EST
DTSTART:20241103T060000
END:STANDARD
END:VTIMEZONE
BEGIN:VEVENT
DTSTART;TZID=America/New_York:20231121T100000
DTEND;TZID=America/New_York:20231121T103000
DTSTAMP:20260421T000524
CREATED:20230818T155307Z
LAST-MODIFIED:20230818T155451Z
UID:10006653-1700560800-1700562600@www.trailslibrary.org
SUMMARY:Storytime - Concordia
DESCRIPTION:Ages 0-5: Storytimes are for building pre-reading skills\, making friends and having fun!
URL:https://www.trailslibrary.org/event/storytime-15/
LOCATION:Concordia Branch\, 813 S Main\, Concordia\, MO\, 64020\, United States
CATEGORIES:Children,Kids,Preschool,Storytime
END:VEVENT
BEGIN:VEVENT
DTSTART;TZID=America/New_York:20231121T100000
DTEND;TZID=America/New_York:20231121T103000
DTSTAMP:20260421T000524
CREATED:20230820T064146Z
LAST-MODIFIED:20230820T064146Z
UID:10006964-1700560800-1700562600@www.trailslibrary.org
SUMMARY:Preschool Storytime - Warrensburg
DESCRIPTION:Ages 0-5: Storytime: Meet up for stories\, music\, dancing\, and of course\, bubbles!
URL:https://www.trailslibrary.org/event/preschool-storytime-warrensburg-46/
LOCATION:Warrensburg Branch\, 432 N. Holden\, Warrensburg\, Missouri\, 64093\, United States
CATEGORIES:Children,Kids,Preschool,Storytime
END:VEVENT
BEGIN:VEVENT
DTSTART;TZID=America/New_York:20231121T100000
DTEND;TZID=America/New_York:20231121T103000
DTSTAMP:20260421T000524
CREATED:20230820T065508Z
LAST-MODIFIED:20230820T065508Z
UID:10007026-1700560800-1700562600@www.trailslibrary.org
SUMMARY:Storytime
DESCRIPTION:Ages 0-5: Storytimes are for building pre-reading skills\, making friends and having fun!
URL:https://www.trailslibrary.org/event/storytime-31/
LOCATION:Concordia Branch\, 813 S Main\, Concordia\, MO\, 64020\, United States
CATEGORIES:Children,Kids,Preschool,Storytime
END:VEVENT
BEGIN:VEVENT
DTSTART;TZID=America/New_York:20231121T103000
DTEND;TZID=America/New_York:20231121T110000
DTSTAMP:20260421T000524
CREATED:20230820T064047Z
LAST-MODIFIED:20230820T064047Z
UID:10006948-1700562600-1700564400@www.trailslibrary.org
SUMMARY:Preschool Craftime - Warrensburg
DESCRIPTION:Ages 0-5: Stay after storytime to make a themed craft with Miss Amy.
URL:https://www.trailslibrary.org/event/preschool-craftime-warrensburg-12/
LOCATION:Warrensburg Branch\, 432 N. Holden\, Warrensburg\, Missouri\, 64093\, United States
CATEGORIES:Children,Craft,Crafts,Kids,Preschool
END:VEVENT
BEGIN:VEVENT
DTSTART;TZID=America/New_York:20231121T170000
DTEND;TZID=America/New_York:20231121T180000
DTSTAMP:20260421T000524
CREATED:20230820T063745Z
LAST-MODIFIED:20230820T063745Z
UID:10006907-1700586000-1700589600@www.trailslibrary.org
SUMMARY:Get Hooked - Warrensburg
DESCRIPTION:All Ages: Get Hooked! Come join us for tips and tricks\, learn how to crochet or knit.
URL:https://www.trailslibrary.org/event/get-hooked-warrensburg-19/
LOCATION:Warrensburg Branch\, 432 N. Holden\, Warrensburg\, Missouri\, 64093\, United States
CATEGORIES:Adult,Adults,All Ages,Children,Crafts,Family,Kids,preteens,senior,Seniors,Teen,Teens,Youth
END:VEVENT
BEGIN:VEVENT
DTSTART;TZID=America/New_York:20231122T100000
DTEND;TZID=America/New_York:20231122T103000
DTSTAMP:20260421T000524
CREATED:20230820T042725Z
LAST-MODIFIED:20230820T042725Z
UID:10006853-1700647200-1700649000@www.trailslibrary.org
SUMMARY:Storytime - Lexington
DESCRIPTION:Ages 0-5: Bring your little ones for storytime! Each week we read\, sing\, play and learn\, all while developing early literacy skills.
URL:https://www.trailslibrary.org/event/storytime-lexington-79/
LOCATION:Lexington Branch\, 1008 Main Street\, Lexington\, MO\, 64067\, United States
CATEGORIES:Children,Kids,Preschool,Storytime
END:VEVENT
BEGIN:VEVENT
DTSTART;TZID=America/New_York:20231122T100000
DTEND;TZID=America/New_York:20231122T103000
DTSTAMP:20260421T000524
CREATED:20230820T045758Z
LAST-MODIFIED:20230820T055416Z
UID:10006896-1700647200-1700649000@www.trailslibrary.org
SUMMARY:Storytots - Knob Noster
DESCRIPTION:Ages 0-3: Introduce your tot to the library through songs\, fingerplays\, and books!
URL:https://www.trailslibrary.org/event/storytots-knob-noster-32/
LOCATION:Knob Noster Branch\, 202 N. Adams\, Knob Noster\, MO\, 65336\, United States
CATEGORIES:Children,Kids,Storytime
END:VEVENT
BEGIN:VEVENT
DTSTART;TZID=America/New_York:20231122T103000
DTEND;TZID=America/New_York:20231122T110000
DTSTAMP:20260421T000524
CREATED:20230820T042613Z
LAST-MODIFIED:20230820T042613Z
UID:10005737-1700649000-1700650800@www.trailslibrary.org
SUMMARY:Stay and Play - Lexington
DESCRIPTION:Ages 0-5: Stay and play after storytime to get your wiggles out! Have some fun\, play games\, and make new friends!
URL:https://www.trailslibrary.org/event/stay-and-play-lexington-22/
LOCATION:Lexington Branch\, 1008 Main Street\, Lexington\, MO\, 64067\, United States
CATEGORIES:Children,Kids,Preschool
END:VEVENT
BEGIN:VEVENT
DTSTART;TZID=America/New_York:20231122T103000
DTEND;TZID=America/New_York:20231122T110000
DTSTAMP:20260421T000524
CREATED:20230820T045204Z
LAST-MODIFIED:20230820T054944Z
UID:10005758-1700649000-1700650800@www.trailslibrary.org
SUMMARY:Kid Connection - Knob Noster
DESCRIPTION:Ages 0-5: Kiddos! Come play and hang out\, make new friends\, and see all the library has to offer!
URL:https://www.trailslibrary.org/event/kid-connection-knob-noster-12/
LOCATION:Knob Noster Branch\, 202 N. Adams\, Knob Noster\, MO\, 65336\, United States
CATEGORIES:Children,Kids,Preschool,Storytime
END:VEVENT
BEGIN:VEVENT
DTSTART;TZID=America/New_York:20231122T110000
DTEND;TZID=America/New_York:20231122T120000
DTSTAMP:20260421T000524
CREATED:20230820T045609Z
LAST-MODIFIED:20230820T055045Z
UID:10006888-1700650800-1700654400@www.trailslibrary.org
SUMMARY:Preschool Storytime - Knob Noster
DESCRIPTION:Ages 3-5: Bring your preschoolers for stories\, crafts\, songs and bubbles to encourage growth in literacy!
URL:https://www.trailslibrary.org/event/preschool-storytime-knob-noster-34/
LOCATION:Knob Noster Branch\, 202 N. Adams\, Knob Noster\, MO\, 65336\, United States
CATEGORIES:Children,Kids,Preschool
END:VEVENT
BEGIN:VEVENT
DTSTART;TZID=America/New_York:20231122T163000
DTEND;TZID=America/New_York:20231122T180000
DTSTAMP:20260421T000524
CREATED:20230820T063846Z
LAST-MODIFIED:20230820T063846Z
UID:10005815-1700670600-1700676000@www.trailslibrary.org
SUMMARY:Libraries Got Game - Warrensburg
DESCRIPTION:All Ages: Get BOARD at the library with your family and friends! Fun and exciting board and XL games.
URL:https://www.trailslibrary.org/event/libraries-got-game-warrensburg-36/
LOCATION:Warrensburg Branch\, 432 N. Holden\, Warrensburg\, Missouri\, 64093\, United States
CATEGORIES:Adult,Adults,All Ages,Children,Family,Kids,preteens,senior,Seniors,Teen,Teens,Youth
END:VEVENT
BEGIN:VEVENT
DTSTART;TZID=America/New_York:20231122T170000
DTEND;TZID=America/New_York:20231122T180000
DTSTAMP:20260421T000524
CREATED:20230820T064343Z
LAST-MODIFIED:20230820T064343Z
UID:10006983-1700672400-1700676000@www.trailslibrary.org
SUMMARY:Yoga for All - Warrensburg
DESCRIPTION:All Ages: Discover inner calm and build strength during this relaxing program led by a certified instructor. Please wear comfortable clothing and bring a mat or towel.
URL:https://www.trailslibrary.org/event/yoga-for-all-warrensburg-6/
LOCATION:Warrensburg Branch\, 432 N. Holden\, Warrensburg\, Missouri\, 64093\, United States
CATEGORIES:Adult,Adults,All Ages,Children,Family,Kids,preteens,senior,Seniors,Teen,Teens,Youth
END:VEVENT
BEGIN:VEVENT
DTSTART;TZID=America/New_York:20231127T100000
DTEND;TZID=America/New_York:20231127T103000
DTSTAMP:20260421T000524
CREATED:20230917T051543Z
LAST-MODIFIED:20230917T051543Z
UID:10007031-1701079200-1701081000@www.trailslibrary.org
SUMMARY:Story Time - Waverly
DESCRIPTION:Ages 0-5: Let’s foster early literacy by talking\, playing music\, reading \, writing and playing together.
URL:https://www.trailslibrary.org/event/story-time-waverly-15/
LOCATION:Waverly Branch\, 203 E. Kelling\, Waverly\, MO\, 64096\, United States
CATEGORIES:Children,Kids,Pre-School,Preschool,Storytime,Toddlers
END:VEVENT
BEGIN:VEVENT
DTSTART;TZID=America/New_York:20231128T100000
DTEND;TZID=America/New_York:20231128T103000
DTSTAMP:20260421T000524
CREATED:20230818T155321Z
LAST-MODIFIED:20230818T155441Z
UID:10006656-1701165600-1701167400@www.trailslibrary.org
SUMMARY:Storytime - Concordia
DESCRIPTION:Ages 0-5: Storytimes are for building pre-reading skills\, making friends and having fun!
URL:https://www.trailslibrary.org/event/storytime-16/
LOCATION:Concordia Branch\, 813 S Main\, Concordia\, MO\, 64020\, United States
CATEGORIES:Children,Kids,Preschool,Storytime
END:VEVENT
BEGIN:VEVENT
DTSTART;TZID=America/New_York:20231128T100000
DTEND;TZID=America/New_York:20231128T103000
DTSTAMP:20260421T000524
CREATED:20230820T064146Z
LAST-MODIFIED:20230820T064146Z
UID:10006965-1701165600-1701167400@www.trailslibrary.org
SUMMARY:Preschool Storytime - Warrensburg
DESCRIPTION:Ages 0-5: Storytime: Meet up for stories\, music\, dancing\, and of course\, bubbles!
URL:https://www.trailslibrary.org/event/preschool-storytime-warrensburg-49/
LOCATION:Warrensburg Branch\, 432 N. Holden\, Warrensburg\, Missouri\, 64093\, United States
CATEGORIES:Children,Kids,Preschool,Storytime
END:VEVENT
BEGIN:VEVENT
DTSTART;TZID=America/New_York:20231128T100000
DTEND;TZID=America/New_York:20231128T103000
DTSTAMP:20260421T000524
CREATED:20230820T065523Z
LAST-MODIFIED:20230820T065523Z
UID:10007029-1701165600-1701167400@www.trailslibrary.org
SUMMARY:Storytime
DESCRIPTION:Ages 0-5: Storytimes are for building pre-reading skills\, making friends and having fun!
URL:https://www.trailslibrary.org/event/storytime-32/
LOCATION:Concordia Branch\, 813 S Main\, Concordia\, MO\, 64020\, United States
CATEGORIES:Children,Kids,Preschool,Storytime
END:VEVENT
BEGIN:VEVENT
DTSTART;TZID=America/New_York:20231128T103000
DTEND;TZID=America/New_York:20231128T110000
DTSTAMP:20260421T000524
CREATED:20230820T064102Z
LAST-MODIFIED:20230820T064102Z
UID:10006949-1701167400-1701169200@www.trailslibrary.org
SUMMARY:Preschool Craftime - Warrensburg
DESCRIPTION:Ages 0-5: Stay after storytime to make a themed craft with Miss Amy.
URL:https://www.trailslibrary.org/event/preschool-craftime-warrensburg-13/
LOCATION:Warrensburg Branch\, 432 N. Holden\, Warrensburg\, Missouri\, 64093\, United States
CATEGORIES:Children,Craft,Crafts,Kids,Preschool
END:VEVENT
BEGIN:VEVENT
DTSTART;TZID=America/New_York:20231129T100000
DTEND;TZID=America/New_York:20231129T103000
DTSTAMP:20260421T000524
CREATED:20230818T200505Z
LAST-MODIFIED:20230818T200505Z
UID:10006676-1701252000-1701253800@www.trailslibrary.org
SUMMARY:Story Time - Corder
DESCRIPTION:Ages: 3-5: Storytimes are for building pre-reading skills\, making friends and having fun!
URL:https://www.trailslibrary.org/event/story-time-corder-13/
LOCATION:Corder Branch\, 221 N. Lafayette\, Corder\, MO\, 64021\, United States
CATEGORIES:Children,Kids,Preschool,Storytime
END:VEVENT
BEGIN:VEVENT
DTSTART;TZID=America/New_York:20231129T100000
DTEND;TZID=America/New_York:20231129T103000
DTSTAMP:20260421T000524
CREATED:20230820T042725Z
LAST-MODIFIED:20230820T042725Z
UID:10006854-1701252000-1701253800@www.trailslibrary.org
SUMMARY:Storytime - Lexington
DESCRIPTION:Ages 0-5: Bring your little ones for storytime! Each week we read\, sing\, play and learn\, all while developing early literacy skills.
URL:https://www.trailslibrary.org/event/storytime-lexington-80/
LOCATION:Lexington Branch\, 1008 Main Street\, Lexington\, MO\, 64067\, United States
CATEGORIES:Children,Kids,Preschool,Storytime
END:VEVENT
BEGIN:VEVENT
DTSTART;TZID=America/New_York:20231129T100000
DTEND;TZID=America/New_York:20231129T103000
DTSTAMP:20260421T000524
CREATED:20230820T045758Z
LAST-MODIFIED:20230820T055417Z
UID:10006897-1701252000-1701253800@www.trailslibrary.org
SUMMARY:Storytots - Knob Noster
DESCRIPTION:Ages 0-3: Introduce your tot to the library through songs\, fingerplays\, and books!
URL:https://www.trailslibrary.org/event/storytots-knob-noster-33/
LOCATION:Knob Noster Branch\, 202 N. Adams\, Knob Noster\, MO\, 65336\, United States
CATEGORIES:Children,Kids,Storytime
END:VEVENT
BEGIN:VEVENT
DTSTART;TZID=America/New_York:20231129T100000
DTEND;TZID=America/New_York:20231129T103000
DTSTAMP:20260421T000524
CREATED:20230820T065230Z
LAST-MODIFIED:20230820T065230Z
UID:10007002-1701252000-1701253800@www.trailslibrary.org
SUMMARY:Storytime - Holden
DESCRIPTION:Ages 0-5: Come listen to a story at the library and do a craft.
URL:https://www.trailslibrary.org/event/storytime-holden-99/
LOCATION:Holden Branch\, 207 S. Main\, Holden\, MO\, 64040\, United States
CATEGORIES:Children,Kids,Preschool,Storytime
END:VEVENT
BEGIN:VEVENT
DTSTART;TZID=America/New_York:20231129T100000
DTEND;TZID=America/New_York:20231129T104500
DTSTAMP:20260421T000524
CREATED:20230818T212707Z
LAST-MODIFIED:20230818T212707Z
UID:10005712-1701252000-1701254700@www.trailslibrary.org
SUMMARY:Storytime - Odessa
DESCRIPTION:Ages 0-5: Storytimes focus on building pre-reading skills\, making friends\, and having fun!
URL:https://www.trailslibrary.org/event/storytime-odessa-48/
LOCATION:Odessa Branch\, 107 W. Mason\, Odessa\, MO\, 64076\, United States
CATEGORIES:Children,Kids,Preschool,Storytime,Toddlers
END:VEVENT
BEGIN:VEVENT
DTSTART;TZID=America/New_York:20231129T103000
DTEND;TZID=America/New_York:20231129T110000
DTSTAMP:20260421T000524
CREATED:20230820T042613Z
LAST-MODIFIED:20230820T042613Z
UID:10005739-1701253800-1701255600@www.trailslibrary.org
SUMMARY:Stay and Play - Lexington
DESCRIPTION:Ages 0-5: Stay and play after storytime to get your wiggles out! Have some fun\, play games\, and make new friends!
URL:https://www.trailslibrary.org/event/stay-and-play-lexington-23/
LOCATION:Lexington Branch\, 1008 Main Street\, Lexington\, MO\, 64067\, United States
CATEGORIES:Children,Kids,Preschool
END:VEVENT
BEGIN:VEVENT
DTSTART;TZID=America/New_York:20231129T103000
DTEND;TZID=America/New_York:20231129T110000
DTSTAMP:20260421T000524
CREATED:20230820T045204Z
LAST-MODIFIED:20230820T054945Z
UID:10005760-1701253800-1701255600@www.trailslibrary.org
SUMMARY:Kid Connection - Knob Noster
DESCRIPTION:Ages 0-5: Kiddos! Come play and hang out\, make new friends\, and see all the library has to offer!
URL:https://www.trailslibrary.org/event/kid-connection-knob-noster-13/
LOCATION:Knob Noster Branch\, 202 N. Adams\, Knob Noster\, MO\, 65336\, United States
CATEGORIES:Children,Kids,Preschool,Storytime
END:VEVENT
BEGIN:VEVENT
DTSTART;TZID=America/New_York:20231129T103000
DTEND;TZID=America/New_York:20231129T110000
DTSTAMP:20260421T000524
CREATED:20230820T065044Z
LAST-MODIFIED:20230820T065044Z
UID:10005890-1701253800-1701255600@www.trailslibrary.org
SUMMARY:Stay & Play - Holden
DESCRIPTION:Ages 0-5: Stay after storytime and play with your friends. Enjoy the library’s resources and toys.
URL:https://www.trailslibrary.org/event/stay-play-holden-11/
LOCATION:Holden Branch\, 207 S. Main\, Holden\, MO\, 64040\, United States
CATEGORIES:Children,Kids,Preschool
END:VEVENT
BEGIN:VEVENT
DTSTART;TZID=America/New_York:20231129T110000
DTEND;TZID=America/New_York:20231129T120000
DTSTAMP:20260421T000524
CREATED:20230820T045625Z
LAST-MODIFIED:20230820T055102Z
UID:10006889-1701255600-1701259200@www.trailslibrary.org
SUMMARY:Preschool Storytime - Knob Noster
DESCRIPTION:Ages 3-5: Bring your preschoolers for stories\, crafts\, songs and bubbles to encourage growth in literacy!
URL:https://www.trailslibrary.org/event/preschool-storytime-knob-noster-35/
LOCATION:Knob Noster Branch\, 202 N. Adams\, Knob Noster\, MO\, 65336\, United States
CATEGORIES:Children,Kids,Preschool
END:VEVENT
BEGIN:VEVENT
DTSTART;TZID=America/New_York:20231129T163000
DTEND;TZID=America/New_York:20231129T180000
DTSTAMP:20260421T000524
CREATED:20230820T063846Z
LAST-MODIFIED:20230820T063846Z
UID:10005816-1701275400-1701280800@www.trailslibrary.org
SUMMARY:Libraries Got Game - Warrensburg
DESCRIPTION:All Ages: Get BOARD at the library with your family and friends! Fun and exciting board and XL games.
URL:https://www.trailslibrary.org/event/libraries-got-game-warrensburg-37/
LOCATION:Warrensburg Branch\, 432 N. Holden\, Warrensburg\, Missouri\, 64093\, United States
CATEGORIES:Adult,Adults,All Ages,Children,Family,Kids,preteens,senior,Seniors,Teen,Teens,Youth
END:VEVENT
BEGIN:VEVENT
DTSTART;TZID=America/New_York:20231130T093000
DTEND;TZID=America/New_York:20231130T100000
DTSTAMP:20260421T000524
CREATED:20230820T063945Z
LAST-MODIFIED:20230820T063945Z
UID:10006937-1701336600-1701338400@www.trailslibrary.org
SUMMARY:Music & Movement - Warrensburg
DESCRIPTION:Ages 0-5: Join us to get your wiggles our with singing and dancing. Children will use a variety of musical instruments to increase sensory development\, coordination\, literacy & numeracy skills
URL:https://www.trailslibrary.org/event/music-movement-warrensburg-12/
LOCATION:Warrensburg Branch\, 432 N. Holden\, Warrensburg\, Missouri\, 64093\, United States
CATEGORIES:Children,Kids,Pre-School,Preschool,Toddlers
END:VEVENT
BEGIN:VEVENT
DTSTART;TZID=America/New_York:20231130T100000
DTEND;TZID=America/New_York:20231130T103000
DTSTAMP:20260421T000524
CREATED:20230820T064232Z
LAST-MODIFIED:20230820T064232Z
UID:10006972-1701338400-1701340200@www.trailslibrary.org
SUMMARY:Stay Play and Learn - Warrensburg
DESCRIPTION:Ages 0-5: Stay after Music and Moverment to play and learn with your friends. Activities will focus on improving language\, fine and gross motor skills\, develop social skills and aid with cognitive development.
URL:https://www.trailslibrary.org/event/stay-play-and-learn-warrensburg-12/
LOCATION:Warrensburg Branch\, 432 N. Holden\, Warrensburg\, Missouri\, 64093\, United States
CATEGORIES:Children,Kids,Pre-School,Preschool,Toddlers
END:VEVENT
BEGIN:VEVENT
DTSTART;TZID=America/New_York:20231130T153000
DTEND;TZID=America/New_York:20231130T170000
DTSTAMP:20260421T000524
CREATED:20230818T201028Z
LAST-MODIFIED:20230820T042513Z
UID:10006731-1701358200-1701363600@www.trailslibrary.org
SUMMARY:Kid's Club - Lexington
DESCRIPTION:Ages 6-12: Calling all 6-12 year olds! If you like crafts\, games and fun science activities (STEAM) then this club is for you. Head over to the library and join in on the fun! Snack provided. Bring a friend for even MORE fun !
URL:https://www.trailslibrary.org/event/kids-club-lexington-3/
LOCATION:Lexington Branch\, 1008 Main Street\, Lexington\, MO\, 64067\, United States
CATEGORIES:Children,Kids,Pre-Teen,Pre-Teens
END:VEVENT
END:VCALENDAR