BEGIN:VCALENDAR
VERSION:2.0
PRODID:-//Trails Regional Library - ECPv6.15.20//NONSGML v1.0//EN
CALSCALE:GREGORIAN
METHOD:PUBLISH
X-WR-CALNAME:Trails Regional Library
X-ORIGINAL-URL:https://www.trailslibrary.org
X-WR-CALDESC:Events for Trails Regional Library
REFRESH-INTERVAL;VALUE=DURATION:PT1H
X-Robots-Tag:noindex
X-PUBLISHED-TTL:PT1H
BEGIN:VTIMEZONE
TZID:America/New_York
BEGIN:DAYLIGHT
TZOFFSETFROM:-0500
TZOFFSETTO:-0400
TZNAME:EDT
DTSTART:20230312T070000
END:DAYLIGHT
BEGIN:STANDARD
TZOFFSETFROM:-0400
TZOFFSETTO:-0500
TZNAME:EST
DTSTART:20231105T060000
END:STANDARD
BEGIN:DAYLIGHT
TZOFFSETFROM:-0500
TZOFFSETTO:-0400
TZNAME:EDT
DTSTART:20240310T070000
END:DAYLIGHT
BEGIN:STANDARD
TZOFFSETFROM:-0400
TZOFFSETTO:-0500
TZNAME:EST
DTSTART:20241103T060000
END:STANDARD
BEGIN:DAYLIGHT
TZOFFSETFROM:-0500
TZOFFSETTO:-0400
TZNAME:EDT
DTSTART:20250309T070000
END:DAYLIGHT
BEGIN:STANDARD
TZOFFSETFROM:-0400
TZOFFSETTO:-0500
TZNAME:EST
DTSTART:20251102T060000
END:STANDARD
END:VTIMEZONE
BEGIN:VEVENT
DTSTART;TZID=America/New_York:20241107T100000
DTEND;TZID=America/New_York:20241107T100000
DTSTAMP:20260419T221739
CREATED:20240822T211233Z
LAST-MODIFIED:20240822T211233Z
UID:10008425-1730973600-1730973600@www.trailslibrary.org
SUMMARY:Storytime - Odessa
DESCRIPTION:Ages 0-5: Storytimes are for building pre-reading skills\, making friends\, and having fun!
URL:https://www.trailslibrary.org/event/storytime-odessa-86/
LOCATION:Odessa Branch\, 107 W. Mason\, Odessa\, MO\, 64076\, United States
CATEGORIES:Children,Kids,Pre-School,Preschool,Storytime,Toddlers
END:VEVENT
BEGIN:VEVENT
DTSTART;TZID=America/New_York:20241107T100000
DTEND;TZID=America/New_York:20241107T110000
DTSTAMP:20260419T221739
CREATED:20240822T195752Z
LAST-MODIFIED:20240822T195752Z
UID:10008266-1730973600-1730977200@www.trailslibrary.org
SUMMARY:Music and More - Warrensburg
DESCRIPTION:Ages 0-5: Join us to get your wiggles out with singing and dancing. Children will use a variety of musical instruments to increase sensory development\, coordination\, literacy & numeracy skills. Stay and play with friends.
URL:https://www.trailslibrary.org/event/music-and-more-warrensburg-9/
LOCATION:Warrensburg Branch\, 432 N. Holden\, Warrensburg\, Missouri\, 64093\, United States
CATEGORIES:Children,Kids,Pre-School,Preschool,Toddlers
END:VEVENT
BEGIN:VEVENT
DTSTART;TZID=America/New_York:20241109T093000
DTEND;TZID=America/New_York:20241109T103000
DTSTAMP:20260419T221739
CREATED:20240822T163834Z
LAST-MODIFIED:20240822T163834Z
UID:10007948-1731144600-1731148200@www.trailslibrary.org
SUMMARY:Roblox Saturday - Corder
DESCRIPTION:Ages 6-18: Join in the fun as we talk and play all things Roblox!
URL:https://www.trailslibrary.org/event/roblox-saturday-corder-10/
LOCATION:Corder Branch\, 221 N. Lafayette\, Corder\, MO\, 64021\, United States
CATEGORIES:Children,Kids,Pre-Teen,Pre-Teens,Teen,Teens
END:VEVENT
BEGIN:VEVENT
DTSTART;TZID=America/New_York:20241109T100000
DTEND;TZID=America/New_York:20241109T110000
DTSTAMP:20260419T221739
CREATED:20240822T161430Z
LAST-MODIFIED:20240822T161430Z
UID:10007861-1731146400-1731150000@www.trailslibrary.org
SUMMARY:Cartoons & Pancakes - Concordia
DESCRIPTION:All Ages: It’s Second Saturday! Let’s enjoy pancakes and cartoons!
URL:https://www.trailslibrary.org/event/cartoons-pancakes-concordia-7/
LOCATION:Concordia Branch\, 813 S Main\, Concordia\, MO\, 64020\, United States
CATEGORIES:Adult,Adults,All Ages,Children,Family,Kids,Movie,preteens,senior,Seniors,Teen,Teens,Youth
END:VEVENT
BEGIN:VEVENT
DTSTART;TZID=America/New_York:20241109T120000
DTEND;TZID=America/New_York:20241109T130000
DTSTAMP:20260419T221739
CREATED:20240822T162621Z
LAST-MODIFIED:20240822T162621Z
UID:10007901-1731153600-1731157200@www.trailslibrary.org
SUMMARY:Chess Club - Corder
DESCRIPTION:Ages 6-18: Come test your skills with friendly opponents.
URL:https://www.trailslibrary.org/event/chess-club-corder-6/
LOCATION:Corder Branch\, 221 N. Lafayette\, Corder\, MO\, 64021\, United States
CATEGORIES:Children,Kids,Pre-Teen,Pre-Teens,Teen,Teens
END:VEVENT
BEGIN:VEVENT
DTSTART;TZID=America/New_York:20241112T100000
DTEND;TZID=America/New_York:20241112T103000
DTSTAMP:20260419T221739
CREATED:20240822T161229Z
LAST-MODIFIED:20240822T161229Z
UID:10007854-1731405600-1731407400@www.trailslibrary.org
SUMMARY:Bubbly Storytime - Concordia
DESCRIPTION:Ages 0-5: Storytimes are for building pre-reading skills\, making friends and having fun! And there will be bubbles!
URL:https://www.trailslibrary.org/event/bubbly-storytime-concordia-16/
LOCATION:Concordia Branch\, 813 S Main\, Concordia\, MO\, 64020\, United States
CATEGORIES:Children,Kids,Pre-School,Preschool,Storytime,Toddlers
END:VEVENT
BEGIN:VEVENT
DTSTART;TZID=America/New_York:20241112T100000
DTEND;TZID=America/New_York:20241112T104500
DTSTAMP:20260419T221739
CREATED:20240822T200839Z
LAST-MODIFIED:20240822T200839Z
UID:10008305-1731405600-1731408300@www.trailslibrary.org
SUMMARY:Storytime - Warrensburg
DESCRIPTION:Ages 0-5: Meet up for stories\, music\, dancing\, a craft\, and of course bubbles!
URL:https://www.trailslibrary.org/event/storytime-warrensburg-84/
LOCATION:Warrensburg Branch\, 432 N. Holden\, Warrensburg\, Missouri\, 64093\, United States
CATEGORIES:Children,Kids,Pre-School,Preschool,Storytime,Toddlers
END:VEVENT
BEGIN:VEVENT
DTSTART;TZID=America/New_York:20241112T143000
DTEND;TZID=America/New_York:20241112T153000
DTSTAMP:20260419T221739
CREATED:20240822T201040Z
LAST-MODIFIED:20240822T201040Z
UID:10008309-1731421800-1731425400@www.trailslibrary.org
SUMMARY:Storytime - Warrensburg
DESCRIPTION:Ages 0-5: Meet up for stories\, music\, dancing\, a craft\, and of course bubbles!
URL:https://www.trailslibrary.org/event/storytime-warrensburg-88/
LOCATION:Warrensburg Branch\, 432 N. Holden\, Warrensburg\, Missouri\, 64093\, United States
CATEGORIES:Children,Kids,Pre-School,Preschool,Storytime,Toddlers
END:VEVENT
BEGIN:VEVENT
DTSTART;TZID=America/New_York:20241113T100000
DTEND;TZID=America/New_York:20241113T100000
DTSTAMP:20260419T221739
CREATED:20240822T171021Z
LAST-MODIFIED:20240822T171021Z
UID:10008005-1731492000-1731492000@www.trailslibrary.org
SUMMARY:Storytime - Holden
DESCRIPTION:Ages 0-5: Come listen to a story at the library and do a craft.
URL:https://www.trailslibrary.org/event/storytime-holden-130/
LOCATION:Holden Branch\, 207 S. Main\, Holden\, MO\, 64040\, United States
CATEGORIES:Children,Kids,Pre-School,Preschool,Storytime,Toddlers
END:VEVENT
BEGIN:VEVENT
DTSTART;TZID=America/New_York:20241113T100000
DTEND;TZID=America/New_York:20241113T100000
DTSTAMP:20260419T221739
CREATED:20240822T185452Z
LAST-MODIFIED:20240822T185452Z
UID:10008091-1731492000-1731492000@www.trailslibrary.org
SUMMARY:Storytime - Lexington
DESCRIPTION:Ages 0-5: Bring your little ones for storytime! Each week we read\, sing\, play and learn\, all while developing early literacy skills.
URL:https://www.trailslibrary.org/event/storytime-lexington-118/
LOCATION:Lexington Branch\, 1008 Main Street\, Lexington\, MO\, 64067\, United States
CATEGORIES:Children,Kids,Pre-School,Preschool,Storytime,Toddlers
END:VEVENT
BEGIN:VEVENT
DTSTART;TZID=America/New_York:20241113T100000
DTEND;TZID=America/New_York:20241113T100000
DTSTAMP:20260419T221739
CREATED:20240822T211234Z
LAST-MODIFIED:20240822T211234Z
UID:10008426-1731492000-1731492000@www.trailslibrary.org
SUMMARY:Storytime - Odessa
DESCRIPTION:Ages 0-5: Storytimes are for building pre-reading skills\, making friends\, and having fun!
URL:https://www.trailslibrary.org/event/storytime-odessa-87/
LOCATION:Odessa Branch\, 107 W. Mason\, Odessa\, MO\, 64076\, United States
CATEGORIES:Children,Kids,Pre-School,Preschool,Storytime,Toddlers
END:VEVENT
BEGIN:VEVENT
DTSTART;TZID=America/New_York:20241113T100000
DTEND;TZID=America/New_York:20241113T110000
DTSTAMP:20260419T221739
CREATED:20240822T162025Z
LAST-MODIFIED:20240822T162025Z
UID:10007873-1731492000-1731495600@www.trailslibrary.org
SUMMARY:Storytime - Corder
DESCRIPTION:Ages 0-5: Storytimes are for building pre-reading skills\, making friends\, and having fun!
URL:https://www.trailslibrary.org/event/storytime-corder-115/
LOCATION:Corder Branch\, 221 N. Lafayette\, Corder\, MO\, 64021\, United States
CATEGORIES:Children,Kids,Pre-School,Preschool,Storytime,Toddlers
END:VEVENT
BEGIN:VEVENT
DTSTART;TZID=America/New_York:20241113T100000
DTEND;TZID=America/New_York:20241113T110000
DTSTAMP:20260419T221739
CREATED:20240822T210845Z
LAST-MODIFIED:20240822T210845Z
UID:10008367-1731492000-1731495600@www.trailslibrary.org
SUMMARY:Storytime - Knob Noster
DESCRIPTION:Ages 0-5: Help your child develop a love for literacy with stories\, music\, & bubbles!
URL:https://www.trailslibrary.org/event/storytime-knob-noster-119/
LOCATION:Knob Noster Branch\, 202 N. Adams\, Knob Noster\, MO\, 65336\, United States
CATEGORIES:Children,Kids,Pre-School,Preschool,Storytime,Toddlers
END:VEVENT
BEGIN:VEVENT
DTSTART;TZID=America/New_York:20241113T143000
DTEND;TZID=America/New_York:20241113T160000
DTSTAMP:20260419T221739
CREATED:20240822T210401Z
LAST-MODIFIED:20240822T210401Z
UID:10008330-1731508200-1731513600@www.trailslibrary.org
SUMMARY:Crafternoon - Knob Noster
DESCRIPTION:Ages 6-12: Join us every second Wednesday for early out while we do a fun new craft.
URL:https://www.trailslibrary.org/event/crafternoon-knob-noster-2/
LOCATION:Knob Noster Branch\, 202 N. Adams\, Knob Noster\, MO\, 65336\, United States
CATEGORIES:Children,Crafts,Kids
END:VEVENT
BEGIN:VEVENT
DTSTART;TZID=America/New_York:20241113T150000
DTEND;TZID=America/New_York:20241113T180000
DTSTAMP:20260419T221739
CREATED:20240822T195050Z
LAST-MODIFIED:20240822T195050Z
UID:10008247-1731510000-1731520800@www.trailslibrary.org
SUMMARY:Libraries Got Game - Warrensburg
DESCRIPTION:All Ages: Get BOARD at the library with your family and friends! Fun and exciting board and XL games.
URL:https://www.trailslibrary.org/event/libraries-got-game-warrensburg-85/
LOCATION:Warrensburg Branch\, 432 N. Holden\, Warrensburg\, Missouri\, 64093\, United States
CATEGORIES:Adult,Adults,All Ages,Children,Family,Kids,preteens,senior,Seniors,Teen,Teens,Youth
END:VEVENT
BEGIN:VEVENT
DTSTART;TZID=America/New_York:20241114T100000
DTEND;TZID=America/New_York:20241114T110000
DTSTAMP:20260419T221739
CREATED:20240822T195752Z
LAST-MODIFIED:20240822T195752Z
UID:10008267-1731578400-1731582000@www.trailslibrary.org
SUMMARY:Music and More - Warrensburg
DESCRIPTION:Ages 0-5: Join us to get your wiggles out with singing and dancing. Children will use a variety of musical instruments to increase sensory development\, coordination\, literacy & numeracy skills. Stay and play with friends.
URL:https://www.trailslibrary.org/event/music-and-more-warrensburg-10/
LOCATION:Warrensburg Branch\, 432 N. Holden\, Warrensburg\, Missouri\, 64093\, United States
CATEGORIES:Children,Kids,Pre-School,Preschool,Toddlers
END:VEVENT
BEGIN:VEVENT
DTSTART;TZID=America/New_York:20241114T150000
DTEND;TZID=America/New_York:20241114T150000
DTSTAMP:20260419T221739
CREATED:20240822T170609Z
LAST-MODIFIED:20240822T170609Z
UID:10007987-1731596400-1731596400@www.trailslibrary.org
SUMMARY:Dungeons & Dragons Club - Holden
DESCRIPTION:Ages 13+ REGISTRATION REQUIRED: Come play Dungeons and Dragons with us.
URL:https://www.trailslibrary.org/event/dungeons-dragons-club-holden-3/
LOCATION:Holden Branch\, 207 S. Main\, Holden\, MO\, 64040\, United States
CATEGORIES:Children,Kids,Pre-Teen,Pre-Teens
END:VEVENT
BEGIN:VEVENT
DTSTART;TZID=America/New_York:20241114T153000
DTEND;TZID=America/New_York:20241114T170000
DTSTAMP:20260419T221739
CREATED:20240822T185354Z
LAST-MODIFIED:20240822T185354Z
UID:10008078-1731598200-1731603600@www.trailslibrary.org
SUMMARY:Kids Club - Lexington
DESCRIPTION:Ages 6-12: If you like crafts\, games and fun science activites (STEAM) then this club is for you. Snack provided. Bring a friend for more FUN!
URL:https://www.trailslibrary.org/event/kids-club-lexington-13/
LOCATION:Lexington Branch\, 1008 Main Street\, Lexington\, MO\, 64067\, United States
CATEGORIES:Children,Crafts,Kids
END:VEVENT
BEGIN:VEVENT
DTSTART;TZID=America/New_York:20241114T154500
DTEND;TZID=America/New_York:20241114T164500
DTSTAMP:20260419T221739
CREATED:20240822T184044Z
LAST-MODIFIED:20240822T184044Z
UID:10008071-1731599100-1731602700@www.trailslibrary.org
SUMMARY:Trading Card Club - Leeton
DESCRIPTION:Ages 6-12: Trading card fans\, join Mrs. Schuler for trading card fun to include: playing\, chatting\, trading\, and more!
URL:https://www.trailslibrary.org/event/trading-card-club-leeton-12/
LOCATION:Leeton Express Branch\, 500 N. Main\, Leeton\, MO\, 64761\, United States
CATEGORIES:Children,Kids,Youth
END:VEVENT
BEGIN:VEVENT
DTSTART;TZID=America/New_York:20241114T173000
DTEND;TZID=America/New_York:20241114T173000
DTSTAMP:20260419T221739
CREATED:20240822T211133Z
LAST-MODIFIED:20240822T211133Z
UID:10008404-1731605400-1731605400@www.trailslibrary.org
SUMMARY:Play and Learn - Odessa
DESCRIPTION:Ages 0-5: Bring your toddlers to Play and Learn to give them an opportunity to develop their motor skills and play with other children
URL:https://www.trailslibrary.org/event/play-and-learn-odessa-2/
LOCATION:Odessa Branch\, 107 W. Mason\, Odessa\, MO\, 64076\, United States
CATEGORIES:Children,Kids,Pre-School,Preschool,Toddlers
END:VEVENT
BEGIN:VEVENT
DTSTART;TZID=America/New_York:20241116T093000
DTEND;TZID=America/New_York:20241116T103000
DTSTAMP:20260419T221739
CREATED:20240822T163835Z
LAST-MODIFIED:20240822T163835Z
UID:10007949-1731749400-1731753000@www.trailslibrary.org
SUMMARY:Roblox Saturday - Corder
DESCRIPTION:Ages 6-18: Join in the fun as we talk and play all things Roblox!
URL:https://www.trailslibrary.org/event/roblox-saturday-corder-11/
LOCATION:Corder Branch\, 221 N. Lafayette\, Corder\, MO\, 64021\, United States
CATEGORIES:Children,Kids,Pre-Teen,Pre-Teens,Teen,Teens
END:VEVENT
BEGIN:VEVENT
DTSTART;TZID=America/New_York:20241116T100000
DTEND;TZID=America/New_York:20241116T110000
DTSTAMP:20260419T221739
CREATED:20240822T200227Z
LAST-MODIFIED:20240822T200227Z
UID:10008284-1731751200-1731754800@www.trailslibrary.org
SUMMARY:RED (Robotics\, Engineering & Design) - Warrensburg
DESCRIPTION:Ages 6-12: Join us as we explore and create through various technology\, hands-on activities\, and art.
URL:https://www.trailslibrary.org/event/red-robotics-engineering-design-warrensburg-4/
LOCATION:Warrensburg Branch\, 432 N. Holden\, Warrensburg\, Missouri\, 64093\, United States
CATEGORIES:Children,Kids,STEAM
END:VEVENT
BEGIN:VEVENT
DTSTART;TZID=America/New_York:20241116T110000
DTEND;TZID=America/New_York:20241116T110000
DTSTAMP:20260419T221739
CREATED:20240822T171311Z
LAST-MODIFIED:20240822T171311Z
UID:10008011-1731754800-1731754800@www.trailslibrary.org
SUMMARY:Super Saturdays - Holden
DESCRIPTION:Ages 6-12: Super Saturdays are tons of fun. Come enjoy crafts\, card games\, and fun galore!
URL:https://www.trailslibrary.org/event/super-saturdays-holden-13/
LOCATION:Holden Branch\, 207 S. Main\, Holden\, MO\, 64040\, United States
CATEGORIES:Children,Kids,Pre-Teen,Pre-Teens
END:VEVENT
BEGIN:VEVENT
DTSTART;TZID=America/New_York:20241118T093000
DTEND;TZID=America/New_York:20241118T100000
DTSTAMP:20260419T221739
CREATED:20240822T163355Z
LAST-MODIFIED:20240822T163355Z
UID:10007929-1731922200-1731924000@www.trailslibrary.org
SUMMARY:Monday Melodies - Corder
DESCRIPTION:Ages 0-5: Join us for fun-filled music and movement sessions tailored for toddlers! These engaging programs encourage physical activity\, coordination\, and early literacy through songs\, dance\, and interactive play. It’s a wonderful opportunity for your little one to socialize\, learn\, and enjoy the joyful world of music in a welcoming environment.
URL:https://www.trailslibrary.org/event/monday-melodies-corder-9/
LOCATION:Corder Branch\, 221 N. Lafayette\, Corder\, MO\, 64021\, United States
CATEGORIES:Children,Kids,Pre-School,Preschool,Toddlers
END:VEVENT
BEGIN:VEVENT
DTSTART;TZID=America/New_York:20241118T100000
DTEND;TZID=America/New_York:20241118T100000
DTSTAMP:20260419T221739
CREATED:20240822T192724Z
LAST-MODIFIED:20240822T192724Z
UID:10008180-1731924000-1731924000@www.trailslibrary.org
SUMMARY:Storytime - Waverly
DESCRIPTION:Ages 0-5: Come and enjoy stories\, crafts and more!
URL:https://www.trailslibrary.org/event/storytime-waverly-112/
LOCATION:Waverly Branch\, 203 E. Kelling\, Waverly\, MO\, 64096\, United States
CATEGORIES:Children,Kids,Pre-School,Preschool,Storytime,Toddlers
END:VEVENT
BEGIN:VEVENT
DTSTART;TZID=America/New_York:20241118T153000
DTEND;TZID=America/New_York:20241118T163000
DTSTAMP:20260419T221739
CREATED:20240822T163031Z
LAST-MODIFIED:20240822T163031Z
UID:10007915-1731943800-1731947400@www.trailslibrary.org
SUMMARY:Game On! - Corder
DESCRIPTION:Ages 6-18: Join us for some after school fun playing the Wii. We have Mario Kart and some sports games available to challenge your peers to a friendly competition!
URL:https://www.trailslibrary.org/event/game-on-corder-13/
LOCATION:Corder Branch\, 221 N. Lafayette\, Corder\, MO\, 64021\, United States
CATEGORIES:Children,Kids,Pre-Teen,Pre-Teens,Teen,Teens
END:VEVENT
BEGIN:VEVENT
DTSTART;TZID=America/New_York:20241118T160000
DTEND;TZID=America/New_York:20241118T170000
DTSTAMP:20260419T221739
CREATED:20240822T211148Z
LAST-MODIFIED:20240822T211148Z
UID:10008409-1731945600-1731949200@www.trailslibrary.org
SUMMARY:S.T.E.M. Lab - Odessa
DESCRIPTION:Ages 9-12: Calling all creators\, join us in the lab as we create Gear Bots
URL:https://www.trailslibrary.org/event/s-t-e-m-lab-odessa-2/
LOCATION:Odessa Branch\, 107 W. Mason\, Odessa\, MO\, 64076\, United States
CATEGORIES:Children,Kids,Technology
END:VEVENT
BEGIN:VEVENT
DTSTART;TZID=America/New_York:20241119T100000
DTEND;TZID=America/New_York:20241119T103000
DTSTAMP:20260419T221739
CREATED:20240822T161230Z
LAST-MODIFIED:20240822T161230Z
UID:10007855-1732010400-1732012200@www.trailslibrary.org
SUMMARY:Bubbly Storytime - Concordia
DESCRIPTION:Ages 0-5: Storytimes are for building pre-reading skills\, making friends and having fun! And there will be bubbles!
URL:https://www.trailslibrary.org/event/bubbly-storytime-concordia-17/
LOCATION:Concordia Branch\, 813 S Main\, Concordia\, MO\, 64020\, United States
CATEGORIES:Children,Kids,Pre-School,Preschool,Storytime,Toddlers
END:VEVENT
BEGIN:VEVENT
DTSTART;TZID=America/New_York:20241119T100000
DTEND;TZID=America/New_York:20241119T104500
DTSTAMP:20260419T221739
CREATED:20240822T201039Z
LAST-MODIFIED:20240822T201039Z
UID:10008306-1732010400-1732013100@www.trailslibrary.org
SUMMARY:Storytime - Warrensburg
DESCRIPTION:Ages 0-5: Meet up for stories\, music\, dancing\, a craft\, and of course bubbles!
URL:https://www.trailslibrary.org/event/storytime-warrensburg-85/
LOCATION:Warrensburg Branch\, 432 N. Holden\, Warrensburg\, Missouri\, 64093\, United States
CATEGORIES:Children,Kids,Pre-School,Preschool,Storytime,Toddlers
END:VEVENT
BEGIN:VEVENT
DTSTART;TZID=America/New_York:20241119T143000
DTEND;TZID=America/New_York:20241119T153000
DTSTAMP:20260419T221739
CREATED:20240822T201040Z
LAST-MODIFIED:20240822T201040Z
UID:10008310-1732026600-1732030200@www.trailslibrary.org
SUMMARY:Storytime - Warrensburg
DESCRIPTION:Ages 0-5: Meet up for stories\, music\, dancing\, a craft\, and of course bubbles!
URL:https://www.trailslibrary.org/event/storytime-warrensburg-89/
LOCATION:Warrensburg Branch\, 432 N. Holden\, Warrensburg\, Missouri\, 64093\, United States
CATEGORIES:Children,Kids,Pre-School,Preschool,Storytime,Toddlers
END:VEVENT
END:VCALENDAR