BEGIN:VCALENDAR
VERSION:2.0
PRODID:-//Trails Regional Library - ECPv6.15.20//NONSGML v1.0//EN
CALSCALE:GREGORIAN
METHOD:PUBLISH
X-ORIGINAL-URL:https://www.trailslibrary.org
X-WR-CALDESC:Events for Trails Regional Library
REFRESH-INTERVAL;VALUE=DURATION:PT1H
X-Robots-Tag:noindex
X-PUBLISHED-TTL:PT1H
BEGIN:VTIMEZONE
TZID:America/New_York
BEGIN:DAYLIGHT
TZOFFSETFROM:-0500
TZOFFSETTO:-0400
TZNAME:EDT
DTSTART:20240310T070000
END:DAYLIGHT
BEGIN:STANDARD
TZOFFSETFROM:-0400
TZOFFSETTO:-0500
TZNAME:EST
DTSTART:20241103T060000
END:STANDARD
BEGIN:DAYLIGHT
TZOFFSETFROM:-0500
TZOFFSETTO:-0400
TZNAME:EDT
DTSTART:20250309T070000
END:DAYLIGHT
BEGIN:STANDARD
TZOFFSETFROM:-0400
TZOFFSETTO:-0500
TZNAME:EST
DTSTART:20251102T060000
END:STANDARD
BEGIN:DAYLIGHT
TZOFFSETFROM:-0500
TZOFFSETTO:-0400
TZNAME:EDT
DTSTART:20260308T070000
END:DAYLIGHT
BEGIN:STANDARD
TZOFFSETFROM:-0400
TZOFFSETTO:-0500
TZNAME:EST
DTSTART:20261101T060000
END:STANDARD
END:VTIMEZONE
BEGIN:VEVENT
DTSTART;TZID=America/New_York:20250705T110000
DTEND;TZID=America/New_York:20250705T110000
DTSTAMP:20260425T144314
CREATED:20250509T134320Z
LAST-MODIFIED:20250509T134320Z
UID:10008969-1751713200-1751713200@www.trailslibrary.org
SUMMARY:Family Movie Matinee - Holden Branch
DESCRIPTION:All Ages: Come to the library and enjoy a family friendly movie.
URL:https://www.trailslibrary.org/event/family-movie-matinee-holden-branch-6/
LOCATION:Holden Branch\, 207 S. Main\, Holden\, MO\, 64040\, United States
CATEGORIES:Adult,Adults,All Ages,Children,Family,Kids,Movie,preteens,senior,Seniors,Teen,Teens,Youth
END:VEVENT
BEGIN:VEVENT
DTSTART;TZID=America/New_York:20250712T100000
DTEND;TZID=America/New_York:20250712T100000
DTSTAMP:20260425T144314
CREATED:20250509T133049Z
LAST-MODIFIED:20250509T133049Z
UID:10008890-1752314400-1752314400@www.trailslibrary.org
SUMMARY:Cartoons & Pancakes - Concordia Branch
DESCRIPTION:All Ages: It’s Second Saturday! Let’s enjoy pancakes and cartoons!
URL:https://www.trailslibrary.org/event/cartoons-pancakes-concordia-branch-7/
LOCATION:Concordia Branch\, 813 S Main\, Concordia\, MO\, 64020\, United States
CATEGORIES:Adult,Adults,All Ages,Children,Family,Kids,Movie,preteens,senior,Seniors,Teen,Teens,Youth
END:VEVENT
BEGIN:VEVENT
DTSTART;TZID=America/New_York:20250725T153000
DTEND;TZID=America/New_York:20250725T153000
DTSTAMP:20260425T144314
CREATED:20250509T140128Z
LAST-MODIFIED:20250509T140128Z
UID:10009059-1753457400-1753457400@www.trailslibrary.org
SUMMARY:Feature Friday - Odessa Branch
DESCRIPTION:All Ages: Join us for our family movie. We provide the popcorn\, you supply your favorite drink.
URL:https://www.trailslibrary.org/event/feature-friday-odessa-branch-7/
LOCATION:Odessa Branch\, 107 W. Mason\, Odessa\, MO\, 64076\, United States
CATEGORIES:Adult,Adults,All Ages,Children,Family,Kids,Movie,preteens,senior,Seniors,Teen,Teens,Youth
END:VEVENT
BEGIN:VEVENT
DTSTART;TZID=America/New_York:20250728T140000
DTEND;TZID=America/New_York:20250728T140000
DTSTAMP:20260425T144314
CREATED:20250509T134945Z
LAST-MODIFIED:20250509T134945Z
UID:10008997-1753711200-1753711200@www.trailslibrary.org
SUMMARY:Monday Matinee - Knob Noster Branch
DESCRIPTION:All Ages: Reel fun awaits—join us at the library for a film\, popcorn\, and good vibes.
URL:https://www.trailslibrary.org/event/monday-matinee-knob-noster-branch-2/
LOCATION:Knob Noster Branch\, 202 N. Adams\, Knob Noster\, MO\, 65336\, United States
CATEGORIES:Adult,Adults,All Ages,Children,Family,Kids,Movie,preteens,senior,Seniors,Teen,Teens,Youth
END:VEVENT
END:VCALENDAR