BEGIN:VCALENDAR
VERSION:2.0
PRODID:-//Trails Regional Library - ECPv6.15.20//NONSGML v1.0//EN
CALSCALE:GREGORIAN
METHOD:PUBLISH
X-ORIGINAL-URL:https://www.trailslibrary.org
X-WR-CALDESC:Events for Trails Regional Library
REFRESH-INTERVAL;VALUE=DURATION:PT1H
X-Robots-Tag:noindex
X-PUBLISHED-TTL:PT1H
BEGIN:VTIMEZONE
TZID:America/New_York
BEGIN:DAYLIGHT
TZOFFSETFROM:-0500
TZOFFSETTO:-0400
TZNAME:EDT
DTSTART:20220313T070000
END:DAYLIGHT
BEGIN:STANDARD
TZOFFSETFROM:-0400
TZOFFSETTO:-0500
TZNAME:EST
DTSTART:20221106T060000
END:STANDARD
BEGIN:DAYLIGHT
TZOFFSETFROM:-0500
TZOFFSETTO:-0400
TZNAME:EDT
DTSTART:20230312T070000
END:DAYLIGHT
BEGIN:STANDARD
TZOFFSETFROM:-0400
TZOFFSETTO:-0500
TZNAME:EST
DTSTART:20231105T060000
END:STANDARD
BEGIN:DAYLIGHT
TZOFFSETFROM:-0500
TZOFFSETTO:-0400
TZNAME:EDT
DTSTART:20240310T070000
END:DAYLIGHT
BEGIN:STANDARD
TZOFFSETFROM:-0400
TZOFFSETTO:-0500
TZNAME:EST
DTSTART:20241103T060000
END:STANDARD
END:VTIMEZONE
BEGIN:VEVENT
DTSTART;TZID=America/New_York:20230711T090000
DTEND;TZID=America/New_York:20230711T100000
DTSTAMP:20260424T184026
CREATED:20230622T135331Z
LAST-MODIFIED:20230622T154519Z
UID:10006535-1689066000-1689069600@www.trailslibrary.org
SUMMARY:Together Tuesdays
DESCRIPTION:Ages 6-12 – Join Ms. Stephanie and Ms. Sharliene AT THE LIBRARY Tuesdays in July for Together Tuesdays.
URL:https://www.trailslibrary.org/event/together-tuesdays/
LOCATION:Leeton Express Branch\, 500 N. Main\, Leeton\, MO\, 64761\, United States
CATEGORIES:Children,Pre-Teen,Pre-Teens
END:VEVENT
BEGIN:VEVENT
DTSTART;TZID=America/New_York:20230711T130000
DTEND;TZID=America/New_York:20230711T140000
DTSTAMP:20260424T184026
CREATED:20230623T145931Z
LAST-MODIFIED:20230628T204308Z
UID:10005488-1689080400-1689084000@www.trailslibrary.org
SUMMARY:Storytellers Book Club - Knob Noster Branch
DESCRIPTION:Ages 8-18 – Registration is required. This isn’t your average book club! Tweens and Teens\, join us for a fun read this summer and the chance to hone your storytelling skills!
URL:https://www.trailslibrary.org/event/storytellers-book-club/
LOCATION:Knob Noster Branch\, 202 N. Adams\, Knob Noster\, MO\, 65336\, United States
CATEGORIES:Children,Pre-Teen,Pre-Teens
END:VEVENT
BEGIN:VEVENT
DTSTART;TZID=America/New_York:20230711T150000
DTEND;TZID=America/New_York:20230711T160000
DTSTAMP:20260424T184026
CREATED:20230623T145929Z
LAST-MODIFIED:20230628T204437Z
UID:10006597-1689087600-1689091200@www.trailslibrary.org
SUMMARY:Kids in the Kitchen - Odessa Branch
DESCRIPTION:Ages 9-12 – Registration required (Limit 10)Kids in the Kitchen is a fun hands-on program offered by University of Missouri Extension that teaches kids how to prepare simple recipes and encourages them to be active and to eat healthier meals and snacks.
URL:https://www.trailslibrary.org/event/kids-in-the-kitchen-2/
LOCATION:Odessa Branch\, 107 W. Mason\, Odessa\, MO\, 64076\, United States
CATEGORIES:Children,Pre-Teen,Pre-Teens
END:VEVENT
END:VCALENDAR