BEGIN:VCALENDAR
VERSION:2.0
PRODID:-//Trails Regional Library - ECPv6.15.20//NONSGML v1.0//EN
CALSCALE:GREGORIAN
METHOD:PUBLISH
X-WR-CALNAME:Trails Regional Library
X-ORIGINAL-URL:https://www.trailslibrary.org
X-WR-CALDESC:Events for Trails Regional Library
REFRESH-INTERVAL;VALUE=DURATION:PT1H
X-Robots-Tag:noindex
X-PUBLISHED-TTL:PT1H
BEGIN:VTIMEZONE
TZID:America/New_York
BEGIN:DAYLIGHT
TZOFFSETFROM:-0500
TZOFFSETTO:-0400
TZNAME:EDT
DTSTART:20230312T070000
END:DAYLIGHT
BEGIN:STANDARD
TZOFFSETFROM:-0400
TZOFFSETTO:-0500
TZNAME:EST
DTSTART:20231105T060000
END:STANDARD
BEGIN:DAYLIGHT
TZOFFSETFROM:-0500
TZOFFSETTO:-0400
TZNAME:EDT
DTSTART:20240310T070000
END:DAYLIGHT
BEGIN:STANDARD
TZOFFSETFROM:-0400
TZOFFSETTO:-0500
TZNAME:EST
DTSTART:20241103T060000
END:STANDARD
BEGIN:DAYLIGHT
TZOFFSETFROM:-0500
TZOFFSETTO:-0400
TZNAME:EDT
DTSTART:20250309T070000
END:DAYLIGHT
BEGIN:STANDARD
TZOFFSETFROM:-0400
TZOFFSETTO:-0500
TZNAME:EST
DTSTART:20251102T060000
END:STANDARD
END:VTIMEZONE
BEGIN:VEVENT
DTSTART;TZID=America/New_York:20240613T150000
DTEND;TZID=America/New_York:20240613T150000
DTSTAMP:20260424T012605
CREATED:20240520T193609Z
LAST-MODIFIED:20240520T193609Z
UID:10007543-1718290800-1718290800@www.trailslibrary.org
SUMMARY:Culture Shock! - Odessa
DESCRIPTION:Ages 13-18: Journey through the mythologies and histories of different cultures around the world by making crafts or playing games at the library. This week’s theme is Greek Mythology!
URL:https://www.trailslibrary.org/event/culture-shock-odessa-2/
LOCATION:Odessa Branch\, 107 W. Mason\, Odessa\, MO\, 64076\, United States
CATEGORIES:Crafts,Pre-Teen,Pre-Teens,Teen,Teens
END:VEVENT
BEGIN:VEVENT
DTSTART;TZID=America/New_York:20240613T150000
DTEND;TZID=America/New_York:20240613T160000
DTSTAMP:20260424T012605
CREATED:20240520T204110Z
LAST-MODIFIED:20240520T204110Z
UID:10007666-1718290800-1718294400@www.trailslibrary.org
SUMMARY:Summer Card Making Class - Warrensburg
DESCRIPTION:Ages 13+: Join your friends at Trails as we make a trio of cute summer cards.
URL:https://www.trailslibrary.org/event/summer-card-making-class-warrensburg/
LOCATION:Warrensburg Branch\, 432 N. Holden\, Warrensburg\, Missouri\, 64093\, United States
CATEGORIES:Adult,Adults,Crafts,Pre-Teen,Pre-Teens,senior,Seniors,Teen,Teens,Youth
END:VEVENT
BEGIN:VEVENT
DTSTART;TZID=America/New_York:20240613T160000
DTEND;TZID=America/New_York:20240613T160000
DTSTAMP:20260424T012605
CREATED:20240521T141643Z
LAST-MODIFIED:20240521T141643Z
UID:10007735-1718294400-1718294400@www.trailslibrary.org
SUMMARY:Anime Adventures - Concordia
DESCRIPTION:Ages 11-14: Watch Anime! Eat Snacks!
URL:https://www.trailslibrary.org/event/anime-adventures-concordia/
LOCATION:Concordia Branch\, 813 S Main\, Concordia\, MO\, 64020\, United States
CATEGORIES:Kids,Pre-Teen,Pre-Teens,Youth
END:VEVENT
END:VCALENDAR