BEGIN:VCALENDAR
VERSION:2.0
PRODID:-//Trails Regional Library - ECPv6.15.20//NONSGML v1.0//EN
CALSCALE:GREGORIAN
METHOD:PUBLISH
X-WR-CALNAME:Trails Regional Library
X-ORIGINAL-URL:https://www.trailslibrary.org
X-WR-CALDESC:Events for Trails Regional Library
REFRESH-INTERVAL;VALUE=DURATION:PT1H
X-Robots-Tag:noindex
X-PUBLISHED-TTL:PT1H
BEGIN:VTIMEZONE
TZID:America/New_York
BEGIN:DAYLIGHT
TZOFFSETFROM:-0500
TZOFFSETTO:-0400
TZNAME:EDT
DTSTART:20230312T070000
END:DAYLIGHT
BEGIN:STANDARD
TZOFFSETFROM:-0400
TZOFFSETTO:-0500
TZNAME:EST
DTSTART:20231105T060000
END:STANDARD
BEGIN:DAYLIGHT
TZOFFSETFROM:-0500
TZOFFSETTO:-0400
TZNAME:EDT
DTSTART:20240310T070000
END:DAYLIGHT
BEGIN:STANDARD
TZOFFSETFROM:-0400
TZOFFSETTO:-0500
TZNAME:EST
DTSTART:20241103T060000
END:STANDARD
BEGIN:DAYLIGHT
TZOFFSETFROM:-0500
TZOFFSETTO:-0400
TZNAME:EDT
DTSTART:20250309T070000
END:DAYLIGHT
BEGIN:STANDARD
TZOFFSETFROM:-0400
TZOFFSETTO:-0500
TZNAME:EST
DTSTART:20251102T060000
END:STANDARD
END:VTIMEZONE
BEGIN:VEVENT
DTSTART;TZID=America/New_York:20240620T150000
DTEND;TZID=America/New_York:20240620T150000
DTSTAMP:20260424T012541
CREATED:20240520T193624Z
LAST-MODIFIED:20240520T193624Z
UID:10007545-1718895600-1718895600@www.trailslibrary.org
SUMMARY:Culture Shock! - Odessa
DESCRIPTION:Ages 13-18 REGISTRATION Required: Journey through the mythologies and histories of different cultures around the world by making crafts or playing games at the library. This week’s theme is Japanese Mythology!
URL:https://www.trailslibrary.org/event/culture-shock-odessa-4/
LOCATION:Odessa Branch\, 107 W. Mason\, Odessa\, MO\, 64076\, United States
CATEGORIES:Crafts,Pre-Teen,Pre-Teens,Teen,Teens
END:VEVENT
BEGIN:VEVENT
DTSTART;TZID=America/New_York:20240620T153000
DTEND;TZID=America/New_York:20240620T170000
DTSTAMP:20260424T012541
CREATED:20240520T192854Z
LAST-MODIFIED:20240520T192854Z
UID:10007515-1718897400-1718902800@www.trailslibrary.org
SUMMARY:T(w)een Time - Lexington
DESCRIPTION:Ages 13-18: Come hang out with friends for an afternoon of fun! Play games and enjoy snacks!
URL:https://www.trailslibrary.org/event/tween-time-lexington-9/
LOCATION:Lexington Branch\, 1008 Main Street\, Lexington\, MO\, 64067\, United States
CATEGORIES:Pre-Teen,Pre-Teens,Teen,Teens
END:VEVENT
END:VCALENDAR