BEGIN:VCALENDAR
VERSION:2.0
PRODID:-//Trails Regional Library - ECPv6.15.20//NONSGML v1.0//EN
CALSCALE:GREGORIAN
METHOD:PUBLISH
X-ORIGINAL-URL:https://www.trailslibrary.org
X-WR-CALDESC:Events for Trails Regional Library
REFRESH-INTERVAL;VALUE=DURATION:PT1H
X-Robots-Tag:noindex
X-PUBLISHED-TTL:PT1H
BEGIN:VTIMEZONE
TZID:America/New_York
BEGIN:DAYLIGHT
TZOFFSETFROM:-0500
TZOFFSETTO:-0400
TZNAME:EDT
DTSTART:20230312T070000
END:DAYLIGHT
BEGIN:STANDARD
TZOFFSETFROM:-0400
TZOFFSETTO:-0500
TZNAME:EST
DTSTART:20231105T060000
END:STANDARD
BEGIN:DAYLIGHT
TZOFFSETFROM:-0500
TZOFFSETTO:-0400
TZNAME:EDT
DTSTART:20240310T070000
END:DAYLIGHT
BEGIN:STANDARD
TZOFFSETFROM:-0400
TZOFFSETTO:-0500
TZNAME:EST
DTSTART:20241103T060000
END:STANDARD
BEGIN:DAYLIGHT
TZOFFSETFROM:-0500
TZOFFSETTO:-0400
TZNAME:EDT
DTSTART:20250309T070000
END:DAYLIGHT
BEGIN:STANDARD
TZOFFSETFROM:-0400
TZOFFSETTO:-0500
TZNAME:EST
DTSTART:20251102T060000
END:STANDARD
END:VTIMEZONE
BEGIN:VEVENT
DTSTART;TZID=America/New_York:20240725T150000
DTEND;TZID=America/New_York:20240725T163000
DTSTAMP:20260423T234813
CREATED:20240520T204325Z
LAST-MODIFIED:20240520T204325Z
UID:10007708-1721919600-1721925000@www.trailslibrary.org
SUMMARY:Anime Otaku - Warrensburg
DESCRIPTION:Ages 13-18: Watch and discuss programs on crunchyroll!
URL:https://www.trailslibrary.org/event/anime-otaku-warrensburg-3/
LOCATION:Warrensburg Branch\, 432 N. Holden\, Warrensburg\, Missouri\, 64093\, United States
CATEGORIES:Pre-Teen,Pre-Teens,Teen,Teens,Youth
END:VEVENT
BEGIN:VEVENT
DTSTART;TZID=America/New_York:20240725T153000
DTEND;TZID=America/New_York:20240725T170000
DTSTAMP:20260423T234813
CREATED:20240520T193609Z
LAST-MODIFIED:20240520T193609Z
UID:10007541-1721921400-1721926800@www.trailslibrary.org
SUMMARY:Otaku Club - Odessa
DESCRIPTION:Ages 13-18: Enjoy an evening of watching anime and discussing all things nerdy with like minded people!
URL:https://www.trailslibrary.org/event/otaku-club-odessa-2/
LOCATION:Odessa Branch\, 107 W. Mason\, Odessa\, MO\, 64076\, United States
CATEGORIES:Pre-Teen,Pre-Teens,Teen,Teens
END:VEVENT
END:VCALENDAR