BEGIN:VCALENDAR
VERSION:2.0
PRODID:-//Trails Regional Library - ECPv6.15.20//NONSGML v1.0//EN
CALSCALE:GREGORIAN
METHOD:PUBLISH
X-WR-CALNAME:Trails Regional Library
X-ORIGINAL-URL:https://www.trailslibrary.org
X-WR-CALDESC:Events for Trails Regional Library
REFRESH-INTERVAL;VALUE=DURATION:PT1H
X-Robots-Tag:noindex
X-PUBLISHED-TTL:PT1H
BEGIN:VTIMEZONE
TZID:America/New_York
BEGIN:DAYLIGHT
TZOFFSETFROM:-0500
TZOFFSETTO:-0400
TZNAME:EDT
DTSTART:20230312T070000
END:DAYLIGHT
BEGIN:STANDARD
TZOFFSETFROM:-0400
TZOFFSETTO:-0500
TZNAME:EST
DTSTART:20231105T060000
END:STANDARD
BEGIN:DAYLIGHT
TZOFFSETFROM:-0500
TZOFFSETTO:-0400
TZNAME:EDT
DTSTART:20240310T070000
END:DAYLIGHT
BEGIN:STANDARD
TZOFFSETFROM:-0400
TZOFFSETTO:-0500
TZNAME:EST
DTSTART:20241103T060000
END:STANDARD
BEGIN:DAYLIGHT
TZOFFSETFROM:-0500
TZOFFSETTO:-0400
TZNAME:EDT
DTSTART:20250309T070000
END:DAYLIGHT
BEGIN:STANDARD
TZOFFSETFROM:-0400
TZOFFSETTO:-0500
TZNAME:EST
DTSTART:20251102T060000
END:STANDARD
BEGIN:DAYLIGHT
TZOFFSETFROM:-0500
TZOFFSETTO:-0400
TZNAME:EDT
DTSTART:20260308T070000
END:DAYLIGHT
BEGIN:STANDARD
TZOFFSETFROM:-0400
TZOFFSETTO:-0500
TZNAME:EST
DTSTART:20261101T060000
END:STANDARD
END:VTIMEZONE
BEGIN:VEVENT
DTSTART;TZID=America/New_York:20241102T093000
DTEND;TZID=America/New_York:20241102T103000
DTSTAMP:20260423T183451
CREATED:20240822T163635Z
LAST-MODIFIED:20240822T163635Z
UID:10007947-1730539800-1730543400@www.trailslibrary.org
SUMMARY:Roblox Saturday - Corder
DESCRIPTION:Ages 6-18: Join in the fun as we talk and play all things Roblox!
URL:https://www.trailslibrary.org/event/roblox-saturday-corder-9/
LOCATION:Corder Branch\, 221 N. Lafayette\, Corder\, MO\, 64021\, United States
CATEGORIES:Children,Kids,Pre-Teen,Pre-Teens,Teen,Teens
END:VEVENT
BEGIN:VEVENT
DTSTART;TZID=America/New_York:20241104T153000
DTEND;TZID=America/New_York:20241104T163000
DTSTAMP:20260423T183451
CREATED:20240822T163031Z
LAST-MODIFIED:20240822T163031Z
UID:10007914-1730734200-1730737800@www.trailslibrary.org
SUMMARY:Game On! - Corder
DESCRIPTION:Ages 6-18: Join us for some after school fun playing the Wii. We have Mario Kart and some sports games available to challenge your peers to a friendly competition!
URL:https://www.trailslibrary.org/event/game-on-corder-12/
LOCATION:Corder Branch\, 221 N. Lafayette\, Corder\, MO\, 64021\, United States
CATEGORIES:Children,Kids,Pre-Teen,Pre-Teens,Teen,Teens
END:VEVENT
BEGIN:VEVENT
DTSTART;TZID=America/New_York:20241106T143000
DTEND;TZID=America/New_York:20241106T160000
DTSTAMP:20260423T183451
CREATED:20240822T193659Z
LAST-MODIFIED:20240822T193659Z
UID:10008192-1730903400-1730908800@www.trailslibrary.org
SUMMARY:Anime Otaku: Teens - Warrensburg
DESCRIPTION:Ages 13-18: Whether you’re a long-time enthusiast or taking your first steps into exploring the genre\, all are welcome to come and join our anime and manga club.
URL:https://www.trailslibrary.org/event/anime-otaku-teens-warrensburg-4/
LOCATION:Warrensburg Branch\, 432 N. Holden\, Warrensburg\, Missouri\, 64093\, United States
CATEGORIES:Pre-Teen,Pre-Teens,Teen,Teens,Youth
END:VEVENT
BEGIN:VEVENT
DTSTART;TZID=America/New_York:20241109T093000
DTEND;TZID=America/New_York:20241109T103000
DTSTAMP:20260423T183451
CREATED:20240822T163834Z
LAST-MODIFIED:20240822T163834Z
UID:10007948-1731144600-1731148200@www.trailslibrary.org
SUMMARY:Roblox Saturday - Corder
DESCRIPTION:Ages 6-18: Join in the fun as we talk and play all things Roblox!
URL:https://www.trailslibrary.org/event/roblox-saturday-corder-10/
LOCATION:Corder Branch\, 221 N. Lafayette\, Corder\, MO\, 64021\, United States
CATEGORIES:Children,Kids,Pre-Teen,Pre-Teens,Teen,Teens
END:VEVENT
BEGIN:VEVENT
DTSTART;TZID=America/New_York:20241109T120000
DTEND;TZID=America/New_York:20241109T130000
DTSTAMP:20260423T183451
CREATED:20240822T162621Z
LAST-MODIFIED:20240822T162621Z
UID:10007901-1731153600-1731157200@www.trailslibrary.org
SUMMARY:Chess Club - Corder
DESCRIPTION:Ages 6-18: Come test your skills with friendly opponents.
URL:https://www.trailslibrary.org/event/chess-club-corder-6/
LOCATION:Corder Branch\, 221 N. Lafayette\, Corder\, MO\, 64021\, United States
CATEGORIES:Children,Kids,Pre-Teen,Pre-Teens,Teen,Teens
END:VEVENT
BEGIN:VEVENT
DTSTART;TZID=America/New_York:20241113T143000
DTEND;TZID=America/New_York:20241113T160000
DTSTAMP:20260423T183451
CREATED:20240822T193700Z
LAST-MODIFIED:20240822T193700Z
UID:10008193-1731508200-1731513600@www.trailslibrary.org
SUMMARY:Anime Otaku: Teens - Warrensburg
DESCRIPTION:Ages 13-18: Whether you’re a long-time enthusiast or taking your first steps into exploring the genre\, all are welcome to come and join our anime and manga club.
URL:https://www.trailslibrary.org/event/anime-otaku-teens-warrensburg-5/
LOCATION:Warrensburg Branch\, 432 N. Holden\, Warrensburg\, Missouri\, 64093\, United States
CATEGORIES:Pre-Teen,Pre-Teens,Teen,Teens,Youth
END:VEVENT
BEGIN:VEVENT
DTSTART;TZID=America/New_York:20241114T150000
DTEND;TZID=America/New_York:20241114T150000
DTSTAMP:20260423T183451
CREATED:20240822T170609Z
LAST-MODIFIED:20240822T170609Z
UID:10007987-1731596400-1731596400@www.trailslibrary.org
SUMMARY:Dungeons & Dragons Club - Holden
DESCRIPTION:Ages 13+ REGISTRATION REQUIRED: Come play Dungeons and Dragons with us.
URL:https://www.trailslibrary.org/event/dungeons-dragons-club-holden-3/
LOCATION:Holden Branch\, 207 S. Main\, Holden\, MO\, 64040\, United States
CATEGORIES:Children,Kids,Pre-Teen,Pre-Teens
END:VEVENT
BEGIN:VEVENT
DTSTART;TZID=America/New_York:20241116T093000
DTEND;TZID=America/New_York:20241116T103000
DTSTAMP:20260423T183451
CREATED:20240822T163835Z
LAST-MODIFIED:20240822T163835Z
UID:10007949-1731749400-1731753000@www.trailslibrary.org
SUMMARY:Roblox Saturday - Corder
DESCRIPTION:Ages 6-18: Join in the fun as we talk and play all things Roblox!
URL:https://www.trailslibrary.org/event/roblox-saturday-corder-11/
LOCATION:Corder Branch\, 221 N. Lafayette\, Corder\, MO\, 64021\, United States
CATEGORIES:Children,Kids,Pre-Teen,Pre-Teens,Teen,Teens
END:VEVENT
BEGIN:VEVENT
DTSTART;TZID=America/New_York:20241116T110000
DTEND;TZID=America/New_York:20241116T110000
DTSTAMP:20260423T183451
CREATED:20240822T171311Z
LAST-MODIFIED:20240822T171311Z
UID:10008011-1731754800-1731754800@www.trailslibrary.org
SUMMARY:Super Saturdays - Holden
DESCRIPTION:Ages 6-12: Super Saturdays are tons of fun. Come enjoy crafts\, card games\, and fun galore!
URL:https://www.trailslibrary.org/event/super-saturdays-holden-13/
LOCATION:Holden Branch\, 207 S. Main\, Holden\, MO\, 64040\, United States
CATEGORIES:Children,Kids,Pre-Teen,Pre-Teens
END:VEVENT
BEGIN:VEVENT
DTSTART;TZID=America/New_York:20241118T153000
DTEND;TZID=America/New_York:20241118T163000
DTSTAMP:20260423T183451
CREATED:20240822T163031Z
LAST-MODIFIED:20240822T163031Z
UID:10007915-1731943800-1731947400@www.trailslibrary.org
SUMMARY:Game On! - Corder
DESCRIPTION:Ages 6-18: Join us for some after school fun playing the Wii. We have Mario Kart and some sports games available to challenge your peers to a friendly competition!
URL:https://www.trailslibrary.org/event/game-on-corder-13/
LOCATION:Corder Branch\, 221 N. Lafayette\, Corder\, MO\, 64021\, United States
CATEGORIES:Children,Kids,Pre-Teen,Pre-Teens,Teen,Teens
END:VEVENT
BEGIN:VEVENT
DTSTART;TZID=America/New_York:20241121T150000
DTEND;TZID=America/New_York:20241121T150000
DTSTAMP:20260423T183451
CREATED:20240822T170233Z
LAST-MODIFIED:20240822T170233Z
UID:10007976-1732201200-1732201200@www.trailslibrary.org
SUMMARY:Chess Club - Holden
DESCRIPTION:Ages 13+ REGISTRATION REQUIRED: Come play chess with us at the library!
URL:https://www.trailslibrary.org/event/chess-club-holden-3/
LOCATION:Holden Branch\, 207 S. Main\, Holden\, MO\, 64040\, United States
CATEGORIES:Children,Kids,Pre-Teen,Pre-Teens
END:VEVENT
BEGIN:VEVENT
DTSTART;TZID=America/New_York:20241121T153000
DTEND;TZID=America/New_York:20241121T170000
DTSTAMP:20260423T183451
CREATED:20240822T185707Z
LAST-MODIFIED:20240822T185707Z
UID:10008098-1732203000-1732208400@www.trailslibrary.org
SUMMARY:T(w)een Time - Lexington
DESCRIPTION:Ages 13-18: Come hang out with friends for an afternoon of fun! Play games and enjoy snacks!
URL:https://www.trailslibrary.org/event/tween-time-lexington-13/
LOCATION:Lexington Branch\, 1008 Main Street\, Lexington\, MO\, 64067\, United States
CATEGORIES:Pre-Teen,Pre-Teens,Teen,Teens
END:VEVENT
BEGIN:VEVENT
DTSTART;TZID=America/New_York:20241123T093000
DTEND;TZID=America/New_York:20241123T103000
DTSTAMP:20260423T183451
CREATED:20240822T163835Z
LAST-MODIFIED:20240822T163835Z
UID:10007950-1732354200-1732357800@www.trailslibrary.org
SUMMARY:Roblox Saturday - Corder
DESCRIPTION:Ages 6-18: Join in the fun as we talk and play all things Roblox!
URL:https://www.trailslibrary.org/event/roblox-saturday-corder-12/
LOCATION:Corder Branch\, 221 N. Lafayette\, Corder\, MO\, 64021\, United States
CATEGORIES:Children,Kids,Pre-Teen,Pre-Teens,Teen,Teens
END:VEVENT
BEGIN:VEVENT
DTSTART;TZID=America/New_York:20241125T153000
DTEND;TZID=America/New_York:20241125T163000
DTSTAMP:20260423T183451
CREATED:20240822T163031Z
LAST-MODIFIED:20240822T163031Z
UID:10007916-1732548600-1732552200@www.trailslibrary.org
SUMMARY:Game On! - Corder
DESCRIPTION:Ages 6-18: Join us for some after school fun playing the Wii. We have Mario Kart and some sports games available to challenge your peers to a friendly competition!
URL:https://www.trailslibrary.org/event/game-on-corder-14/
LOCATION:Corder Branch\, 221 N. Lafayette\, Corder\, MO\, 64021\, United States
CATEGORIES:Children,Kids,Pre-Teen,Pre-Teens,Teen,Teens
END:VEVENT
BEGIN:VEVENT
DTSTART;TZID=America/New_York:20241130T093000
DTEND;TZID=America/New_York:20241130T103000
DTSTAMP:20260423T183451
CREATED:20240822T163835Z
LAST-MODIFIED:20240822T163835Z
UID:10007951-1732959000-1732962600@www.trailslibrary.org
SUMMARY:Roblox Saturday - Corder
DESCRIPTION:Ages 6-18: Join in the fun as we talk and play all things Roblox!
URL:https://www.trailslibrary.org/event/roblox-saturday-corder-13/
LOCATION:Corder Branch\, 221 N. Lafayette\, Corder\, MO\, 64021\, United States
CATEGORIES:Children,Kids,Pre-Teen,Pre-Teens,Teen,Teens
END:VEVENT
BEGIN:VEVENT
DTSTART;TZID=America/New_York:20241202T153000
DTEND;TZID=America/New_York:20241202T163000
DTSTAMP:20260423T183451
CREATED:20240822T163031Z
LAST-MODIFIED:20240822T163031Z
UID:10007917-1733153400-1733157000@www.trailslibrary.org
SUMMARY:Game On! - Corder
DESCRIPTION:Ages 6-18: Join us for some after school fun playing the Wii. We have Mario Kart and some sports games available to challenge your peers to a friendly competition!
URL:https://www.trailslibrary.org/event/game-on-corder-15/
LOCATION:Corder Branch\, 221 N. Lafayette\, Corder\, MO\, 64021\, United States
CATEGORIES:Children,Kids,Pre-Teen,Pre-Teens,Teen,Teens
END:VEVENT
BEGIN:VEVENT
DTSTART;TZID=America/New_York:20241206T103000
DTEND;TZID=America/New_York:20241206T113000
DTSTAMP:20260423T183451
CREATED:20240822T162822Z
LAST-MODIFIED:20240822T162822Z
UID:10007906-1733481000-1733484600@www.trailslibrary.org
SUMMARY:Fri-yay! - Corder
DESCRIPTION:Ages 6-18: We have exciting activities\, games\, and crafts. Enjoy a relaxing atmosphere while making new friends and learning new things. Don’t miss out on the fun!
URL:https://www.trailslibrary.org/event/fri-yay-corder-4/
LOCATION:Corder Branch\, 221 N. Lafayette\, Corder\, MO\, 64021\, United States
CATEGORIES:Children,Kids,Pre-Teen,Pre-Teens,Teen,Teens
END:VEVENT
BEGIN:VEVENT
DTSTART;TZID=America/New_York:20241207T093000
DTEND;TZID=America/New_York:20241207T103000
DTSTAMP:20260423T183451
CREATED:20240822T163836Z
LAST-MODIFIED:20240822T163836Z
UID:10007952-1733563800-1733567400@www.trailslibrary.org
SUMMARY:Roblox Saturday - Corder
DESCRIPTION:Ages 6-18: Join in the fun as we talk and play all things Roblox!
URL:https://www.trailslibrary.org/event/roblox-saturday-corder-14/
LOCATION:Corder Branch\, 221 N. Lafayette\, Corder\, MO\, 64021\, United States
CATEGORIES:Children,Kids,Pre-Teen,Pre-Teens,Teen,Teens
END:VEVENT
BEGIN:VEVENT
DTSTART;TZID=America/New_York:20241209T153000
DTEND;TZID=America/New_York:20241209T163000
DTSTAMP:20260423T183451
CREATED:20240822T163045Z
LAST-MODIFIED:20240822T163045Z
UID:10007918-1733758200-1733761800@www.trailslibrary.org
SUMMARY:Game On! - Corder
DESCRIPTION:Ages 6-18: Join us for some after school fun playing the Wii. We have Mario Kart and some sports games available to challenge your peers to a friendly competition!
URL:https://www.trailslibrary.org/event/game-on-corder-16/
LOCATION:Corder Branch\, 221 N. Lafayette\, Corder\, MO\, 64021\, United States
CATEGORIES:Children,Kids,Pre-Teen,Pre-Teens,Teen,Teens
END:VEVENT
BEGIN:VEVENT
DTSTART;TZID=America/New_York:20241214T093000
DTEND;TZID=America/New_York:20241214T103000
DTSTAMP:20260423T183451
CREATED:20240822T164036Z
LAST-MODIFIED:20240822T164036Z
UID:10007953-1734168600-1734172200@www.trailslibrary.org
SUMMARY:Roblox Saturday - Corder
DESCRIPTION:Ages 6-18: Join in the fun as we talk and play all things Roblox!
URL:https://www.trailslibrary.org/event/roblox-saturday-corder-15/
LOCATION:Corder Branch\, 221 N. Lafayette\, Corder\, MO\, 64021\, United States
CATEGORIES:Children,Kids,Pre-Teen,Pre-Teens,Teen,Teens
END:VEVENT
BEGIN:VEVENT
DTSTART;TZID=America/New_York:20241214T120000
DTEND;TZID=America/New_York:20241214T130000
DTSTAMP:20260423T183451
CREATED:20240822T162622Z
LAST-MODIFIED:20240822T162622Z
UID:10007902-1734177600-1734181200@www.trailslibrary.org
SUMMARY:Chess Club - Corder
DESCRIPTION:Ages 6-18: Come test your skills with friendly opponents.
URL:https://www.trailslibrary.org/event/chess-club-corder-7/
LOCATION:Corder Branch\, 221 N. Lafayette\, Corder\, MO\, 64021\, United States
CATEGORIES:Children,Kids,Pre-Teen,Pre-Teens,Teen,Teens
END:VEVENT
BEGIN:VEVENT
DTSTART;TZID=America/New_York:20241216T153000
DTEND;TZID=America/New_York:20241216T163000
DTSTAMP:20260423T183451
CREATED:20240822T163046Z
LAST-MODIFIED:20240822T163046Z
UID:10007919-1734363000-1734366600@www.trailslibrary.org
SUMMARY:Game On! - Corder
DESCRIPTION:Ages 6-18: Join us for some after school fun playing the Wii. We have Mario Kart and some sports games available to challenge your peers to a friendly competition!
URL:https://www.trailslibrary.org/event/game-on-corder-17/
LOCATION:Corder Branch\, 221 N. Lafayette\, Corder\, MO\, 64021\, United States
CATEGORIES:Children,Kids,Pre-Teen,Pre-Teens,Teen,Teens
END:VEVENT
BEGIN:VEVENT
DTSTART;TZID=America/New_York:20241218T143000
DTEND;TZID=America/New_York:20241218T160000
DTSTAMP:20260423T183451
CREATED:20240822T193700Z
LAST-MODIFIED:20240822T193700Z
UID:10008194-1734532200-1734537600@www.trailslibrary.org
SUMMARY:Anime Otaku: Teens - Warrensburg
DESCRIPTION:Ages 13-18: Whether you’re a long-time enthusiast or taking your first steps into exploring the genre\, all are welcome to come and join our anime and manga club.
URL:https://www.trailslibrary.org/event/anime-otaku-teens-warrensburg-6/
LOCATION:Warrensburg Branch\, 432 N. Holden\, Warrensburg\, Missouri\, 64093\, United States
CATEGORIES:Pre-Teen,Pre-Teens,Teen,Teens,Youth
END:VEVENT
BEGIN:VEVENT
DTSTART;TZID=America/New_York:20241219T153000
DTEND;TZID=America/New_York:20241219T170000
DTSTAMP:20260423T183451
CREATED:20240822T185707Z
LAST-MODIFIED:20240822T185707Z
UID:10008099-1734622200-1734627600@www.trailslibrary.org
SUMMARY:T(w)een Time - Lexington
DESCRIPTION:Ages 13-18: Come hang out with friends for an afternoon of fun! Play games and enjoy snacks!
URL:https://www.trailslibrary.org/event/tween-time-lexington-14/
LOCATION:Lexington Branch\, 1008 Main Street\, Lexington\, MO\, 64067\, United States
CATEGORIES:Pre-Teen,Pre-Teens,Teen,Teens
END:VEVENT
BEGIN:VEVENT
DTSTART;TZID=America/New_York:20241221T093000
DTEND;TZID=America/New_York:20241221T103000
DTSTAMP:20260423T183451
CREATED:20240822T164036Z
LAST-MODIFIED:20240822T164036Z
UID:10007954-1734773400-1734777000@www.trailslibrary.org
SUMMARY:Roblox Saturday - Corder
DESCRIPTION:Ages 6-18: Join in the fun as we talk and play all things Roblox!
URL:https://www.trailslibrary.org/event/roblox-saturday-corder-16/
LOCATION:Corder Branch\, 221 N. Lafayette\, Corder\, MO\, 64021\, United States
CATEGORIES:Children,Kids,Pre-Teen,Pre-Teens,Teen,Teens
END:VEVENT
BEGIN:VEVENT
DTSTART;TZID=America/New_York:20250107T160000
DTEND;TZID=America/New_York:20250107T160000
DTSTAMP:20260423T183451
CREATED:20241217T183501Z
LAST-MODIFIED:20241217T183501Z
UID:10008722-1736265600-1736265600@www.trailslibrary.org
SUMMARY:Well-Read Poet's Society - Odessa Branch
DESCRIPTION:Ages 13+: Join us for a cup of tea as we discuss\, read\, and compose poetry.
URL:https://www.trailslibrary.org/event/well-read-poets-society-odessa-branch/
LOCATION:Odessa Branch\, 107 W. Mason\, Odessa\, MO\, 64076\, United States
CATEGORIES:Adult,Adults,Pre-Teen,Pre-Teens,senior,Seniors,Teen,Teens
END:VEVENT
BEGIN:VEVENT
DTSTART;TZID=America/New_York:20250113T000000
DTEND;TZID=America/New_York:20250113T000000
DTSTAMP:20260423T183451
CREATED:20241217T164949Z
LAST-MODIFIED:20241217T164949Z
UID:10008464-1736726400-1736726400@www.trailslibrary.org
SUMMARY:Escape the Winter Blues - Concordia Branch
DESCRIPTION:Ages 6-17: Use your wits to solve a series of puzzles to escape the Winter Blues!
URL:https://www.trailslibrary.org/event/escape-the-winter-blues-concordia-branch/
LOCATION:Concordia Branch\, 813 S Main\, Concordia\, MO\, 64020\, United States
CATEGORIES:Children,Kids,Pre-Teen,Pre-Teens,Teen,Teens
END:VEVENT
BEGIN:VEVENT
DTSTART;TZID=America/New_York:20250114T000000
DTEND;TZID=America/New_York:20250114T000000
DTSTAMP:20260423T183451
CREATED:20241217T164949Z
LAST-MODIFIED:20241217T164949Z
UID:10008465-1736812800-1736812800@www.trailslibrary.org
SUMMARY:Escape the Winter Blues - Concordia Branch
DESCRIPTION:Ages 6-17: Use your wits to solve a series of puzzles to escape the Winter Blues!
URL:https://www.trailslibrary.org/event/escape-the-winter-blues-concordia-branch-2/
LOCATION:Concordia Branch\, 813 S Main\, Concordia\, MO\, 64020\, United States
CATEGORIES:Children,Kids,Pre-Teen,Pre-Teens,Teen,Teens
END:VEVENT
BEGIN:VEVENT
DTSTART;TZID=America/New_York:20250115T000000
DTEND;TZID=America/New_York:20250115T000000
DTSTAMP:20260423T183451
CREATED:20241217T165148Z
LAST-MODIFIED:20241217T165148Z
UID:10008466-1736899200-1736899200@www.trailslibrary.org
SUMMARY:Escape the Winter Blues - Concordia Branch
DESCRIPTION:Ages 6-17: Use your wits to solve a series of puzzles to escape the Winter Blues!
URL:https://www.trailslibrary.org/event/escape-the-winter-blues-concordia-branch-3/
LOCATION:Concordia Branch\, 813 S Main\, Concordia\, MO\, 64020\, United States
CATEGORIES:Children,Kids,Pre-Teen,Pre-Teens,Teen,Teens
END:VEVENT
BEGIN:VEVENT
DTSTART;TZID=America/New_York:20250116T000000
DTEND;TZID=America/New_York:20250116T000000
DTSTAMP:20260423T183451
CREATED:20241217T165148Z
LAST-MODIFIED:20241217T165148Z
UID:10008467-1736985600-1736985600@www.trailslibrary.org
SUMMARY:Escape the Winter Blues - Concordia Branch
DESCRIPTION:Ages 6-17: Use your wits to solve a series of puzzles to escape the Winter Blues!
URL:https://www.trailslibrary.org/event/escape-the-winter-blues-concordia-branch-4/
LOCATION:Concordia Branch\, 813 S Main\, Concordia\, MO\, 64020\, United States
CATEGORIES:Children,Kids,Pre-Teen,Pre-Teens,Teen,Teens
END:VEVENT
END:VCALENDAR