BEGIN:VCALENDAR
VERSION:2.0
PRODID:-//Trails Regional Library - ECPv6.15.20//NONSGML v1.0//EN
CALSCALE:GREGORIAN
METHOD:PUBLISH
X-ORIGINAL-URL:https://www.trailslibrary.org
X-WR-CALDESC:Events for Trails Regional Library
REFRESH-INTERVAL;VALUE=DURATION:PT1H
X-Robots-Tag:noindex
X-PUBLISHED-TTL:PT1H
BEGIN:VTIMEZONE
TZID:America/New_York
BEGIN:DAYLIGHT
TZOFFSETFROM:-0500
TZOFFSETTO:-0400
TZNAME:EDT
DTSTART:20220313T070000
END:DAYLIGHT
BEGIN:STANDARD
TZOFFSETFROM:-0400
TZOFFSETTO:-0500
TZNAME:EST
DTSTART:20221106T060000
END:STANDARD
BEGIN:DAYLIGHT
TZOFFSETFROM:-0500
TZOFFSETTO:-0400
TZNAME:EDT
DTSTART:20230312T070000
END:DAYLIGHT
BEGIN:STANDARD
TZOFFSETFROM:-0400
TZOFFSETTO:-0500
TZNAME:EST
DTSTART:20231105T060000
END:STANDARD
BEGIN:DAYLIGHT
TZOFFSETFROM:-0500
TZOFFSETTO:-0400
TZNAME:EDT
DTSTART:20240310T070000
END:DAYLIGHT
BEGIN:STANDARD
TZOFFSETFROM:-0400
TZOFFSETTO:-0500
TZNAME:EST
DTSTART:20241103T060000
END:STANDARD
BEGIN:DAYLIGHT
TZOFFSETFROM:-0500
TZOFFSETTO:-0400
TZNAME:EDT
DTSTART:20250309T070000
END:DAYLIGHT
BEGIN:STANDARD
TZOFFSETFROM:-0400
TZOFFSETTO:-0500
TZNAME:EST
DTSTART:20251102T060000
END:STANDARD
END:VTIMEZONE
BEGIN:VEVENT
DTSTART;TZID=America/New_York:20230726T150000
DTEND;TZID=America/New_York:20230726T160000
DTSTAMP:20260425T082953
CREATED:20230622T135331Z
LAST-MODIFIED:20230725T141238Z
UID:10006534-1690383600-1690387200@www.trailslibrary.org
SUMMARY:Friendship Pins - Waverly
DESCRIPTION:Ages 6-12 – Come and make a friendship pin with your friends.These pins are made from decorative beads and safety pins to be worn as a symbol of friendship.
URL:https://www.trailslibrary.org/event/friendship-pins/
LOCATION:Waverly Branch\, 203 E. Kelling\, Waverly\, MO\, 64096\, United States
CATEGORIES:Children,Pre-Teen,Pre-Teens
END:VEVENT
BEGIN:VEVENT
DTSTART;TZID=America/New_York:20230726T154500
DTEND;TZID=America/New_York:20230726T170000
DTSTAMP:20260425T082953
CREATED:20230623T145930Z
LAST-MODIFIED:20230725T141222Z
UID:10005484-1690386300-1690390800@www.trailslibrary.org
SUMMARY:Wacky on Wednesday Club - Lexington
DESCRIPTION:Ages 6-12 – Who loves butterflies? We will be making a fun and easy butterfly suncatcher. Using your butterfly suncatcher\, you can make beautiful butterflies appear whenever the sun is out! Snack provided. Bring a friend for more fun!
URL:https://www.trailslibrary.org/event/wacky-on-wednesday-club/
LOCATION:Lexington Branch\, 1008 Main Street\, Lexington\, MO\, 64067\, United States
CATEGORIES:Children,Pre-Teen,Pre-Teens
END:VEVENT
BEGIN:VEVENT
DTSTART;TZID=America/New_York:20230803T153000
DTEND;TZID=America/New_York:20230803T163000
DTSTAMP:20260425T082953
CREATED:20230622T161329Z
LAST-MODIFIED:20230622T161329Z
UID:10005435-1691076600-1691080200@www.trailslibrary.org
SUMMARY:Awesome Amphibians - Knob Noster
DESCRIPTION:Ages 6-12 – Join us and the KNSP to learn all about our local amphibians!
URL:https://www.trailslibrary.org/event/awesome-amphibians-knob-noster/
LOCATION:MO
CATEGORIES:Children,Guest Speaker,Pre-Teen,Pre-Teens
END:VEVENT
BEGIN:VEVENT
DTSTART;TZID=America/New_York:20230823T154500
DTEND;TZID=America/New_York:20230823T170000
DTSTAMP:20260425T082953
CREATED:20230622T161937Z
LAST-MODIFIED:20230622T161937Z
UID:10005460-1692805500-1692810000@www.trailslibrary.org
SUMMARY:W.O.W - Wacky on Wednesday - Lexington
DESCRIPTION:Ages 6-11 LEGO Building – come get creative with LEGOS
URL:https://www.trailslibrary.org/event/w-o-w-wacky-on-wednesday-lexington/
LOCATION:MO
CATEGORIES:Children,Pre-Teen,Pre-Teens
END:VEVENT
BEGIN:VEVENT
DTSTART;TZID=America/New_York:20230913T140000
DTEND;TZID=America/New_York:20230913T160000
DTSTAMP:20260425T082953
CREATED:20230820T064247Z
LAST-MODIFIED:20230820T064247Z
UID:10006977-1694613600-1694620800@www.trailslibrary.org
SUMMARY:STEAM for T(w)eens - Warrensburg
DESCRIPTION:Ages 10-15: Did you ever want to build this? Did you every wonder what happens if? Come find out as we explore various STEAM activities.
URL:https://www.trailslibrary.org/event/steam-for-tweens-warrensburg-5/
LOCATION:Warrensburg Branch\, 432 N. Holden\, Warrensburg\, Missouri\, 64093\, United States
CATEGORIES:Children,Kids,Pre-Teen,Pre-Teens,STEAM
END:VEVENT
BEGIN:VEVENT
DTSTART;TZID=America/New_York:20230928T153000
DTEND;TZID=America/New_York:20230928T170000
DTSTAMP:20260425T082953
CREATED:20230818T201028Z
LAST-MODIFIED:20230820T042513Z
UID:10006732-1695915000-1695920400@www.trailslibrary.org
SUMMARY:Kid's Club - Lexington
DESCRIPTION:Ages 6-12: Calling all 6-12 year olds!  If you like crafts\, games and fun science activities (STEAM) then this club is for you.  Head over to the library and join in on the fun!  Snack provided.  Bring a friend for even MORE fun !
URL:https://www.trailslibrary.org/event/kids-club-lexington-4/
LOCATION:Lexington Branch\, 1008 Main Street\, Lexington\, MO\, 64067\, United States
CATEGORIES:Children,Kids,Pre-Teen,Pre-Teens
END:VEVENT
BEGIN:VEVENT
DTSTART;TZID=America/New_York:20231004T140000
DTEND;TZID=America/New_York:20231004T160000
DTSTAMP:20260425T082953
CREATED:20230820T064247Z
LAST-MODIFIED:20230820T064247Z
UID:10006978-1696428000-1696435200@www.trailslibrary.org
SUMMARY:STEAM for T(w)eens - Warrensburg
DESCRIPTION:Ages 13-18Did you ever want to build this? Did you every wonder what happens if? Come find out as we explore various STEAM activities.
URL:https://www.trailslibrary.org/event/steam-for-tweens-warrensburg-6/
LOCATION:Warrensburg Branch\, 432 N. Holden\, Warrensburg\, Missouri\, 64093\, United States
CATEGORIES:Children,Kids,Pre-Teen,Pre-Teens,STEAM
END:VEVENT
BEGIN:VEVENT
DTSTART;TZID=America/New_York:20231026T153000
DTEND;TZID=America/New_York:20231026T170000
DTSTAMP:20260425T082953
CREATED:20230818T201028Z
LAST-MODIFIED:20230820T042513Z
UID:10006729-1698334200-1698339600@www.trailslibrary.org
SUMMARY:Kid's Club - Lexington
DESCRIPTION:Ages 6-12: Calling all 6-12 year olds! If you like crafts\, games and fun science activities (STEAM) then this club is for you. Head over to the library and join in on the fun! Snack provided. Bring a friend for even MORE fun !
URL:https://www.trailslibrary.org/event/kids-club-lexington/
LOCATION:Lexington Branch\, 1008 Main Street\, Lexington\, MO\, 64067\, United States
CATEGORIES:Children,Kids,Pre-Teen,Pre-Teens
END:VEVENT
BEGIN:VEVENT
DTSTART;TZID=America/New_York:20231108T140000
DTEND;TZID=America/New_York:20231108T160000
DTSTAMP:20260425T082953
CREATED:20230820T064320Z
LAST-MODIFIED:20230820T064320Z
UID:10006979-1699452000-1699459200@www.trailslibrary.org
SUMMARY:STEAM for T(w)eens - Warrensburg
DESCRIPTION:Ages 13-18: Did you ever want to build this? Did you every wonder what happens if? Come find out as we explore various STEAM activities.
URL:https://www.trailslibrary.org/event/steam-for-tweens-warrensburg-7/
LOCATION:Warrensburg Branch\, 432 N. Holden\, Warrensburg\, Missouri\, 64093\, United States
CATEGORIES:Children,Kids,Pre-Teen,Pre-Teens,STEAM
END:VEVENT
BEGIN:VEVENT
DTSTART;TZID=America/New_York:20231130T153000
DTEND;TZID=America/New_York:20231130T170000
DTSTAMP:20260425T082953
CREATED:20230818T201028Z
LAST-MODIFIED:20230820T042513Z
UID:10006731-1701358200-1701363600@www.trailslibrary.org
SUMMARY:Kid's Club - Lexington
DESCRIPTION:Ages 6-12: Calling all 6-12 year olds! If you like crafts\, games and fun science activities (STEAM) then this club is for you. Head over to the library and join in on the fun! Snack provided. Bring a friend for even MORE fun !
URL:https://www.trailslibrary.org/event/kids-club-lexington-3/
LOCATION:Lexington Branch\, 1008 Main Street\, Lexington\, MO\, 64067\, United States
CATEGORIES:Children,Kids,Pre-Teen,Pre-Teens
END:VEVENT
BEGIN:VEVENT
DTSTART;TZID=America/New_York:20231227T140000
DTEND;TZID=America/New_York:20231227T160000
DTSTAMP:20260425T082953
CREATED:20230820T064320Z
LAST-MODIFIED:20230820T064320Z
UID:10006980-1703685600-1703692800@www.trailslibrary.org
SUMMARY:STEAM for T(w)eens - Warrensburg
DESCRIPTION:Ages 13-18: Did you ever want to build this? Did you every wonder what happens if? Come find out as we explore various STEAM activities.
URL:https://www.trailslibrary.org/event/steam-for-tweens-warrensburg-8/
LOCATION:Warrensburg Branch\, 432 N. Holden\, Warrensburg\, Missouri\, 64093\, United States
CATEGORIES:Children,Kids,Pre-Teen,Pre-Teens,STEAM
END:VEVENT
BEGIN:VEVENT
DTSTART;TZID=America/New_York:20231228T153000
DTEND;TZID=America/New_York:20231228T170000
DTSTAMP:20260425T082953
CREATED:20230818T201028Z
LAST-MODIFIED:20230820T042513Z
UID:10006730-1703777400-1703782800@www.trailslibrary.org
SUMMARY:Kid's Club - Lexington
DESCRIPTION:Ages 6-12: Calling all 6-12 year olds! If you like crafts\, games and fun science activities (STEAM) then this club is for you. Head over to the library and join in on the fun! Snack provided. Bring a friend for even MORE fun !
URL:https://www.trailslibrary.org/event/kids-club-lexington-2/
LOCATION:Lexington Branch\, 1008 Main Street\, Lexington\, MO\, 64067\, United States
CATEGORIES:Children,Kids,Pre-Teen,Pre-Teens
END:VEVENT
BEGIN:VEVENT
DTSTART;TZID=America/New_York:20240118T153000
DTEND;TZID=America/New_York:20240118T170000
DTSTAMP:20260425T082953
CREATED:20231215T182916Z
LAST-MODIFIED:20231215T182916Z
UID:10007245-1705591800-1705597200@www.trailslibrary.org
SUMMARY:T(w)een Time-Lexington
DESCRIPTION:Ages 13-18: Come hang out with friends for an afternoon of fun! Play games and enjoy snacks!
URL:https://www.trailslibrary.org/event/tween-time-lexington-5/
LOCATION:Lexington Branch\, 1008 Main Street\, Lexington\, MO\, 64067\, United States
CATEGORIES:Pre-Teen,Pre-Teens,Teen,Teens
END:VEVENT
BEGIN:VEVENT
DTSTART;TZID=America/New_York:20240203T100000
DTEND;TZID=America/New_York:20240203T110000
DTSTAMP:20260425T082953
CREATED:20231215T190335Z
LAST-MODIFIED:20231215T190335Z
UID:10007407-1706954400-1706958000@www.trailslibrary.org
SUMMARY:Bead It-Warrensburg
DESCRIPTION:Ages 5-18 REGISTRATION required: Join us to create fun and make Loom Bracelets
URL:https://www.trailslibrary.org/event/bead-it-warrensburg-2/
LOCATION:Warrensburg Branch\, 432 N. Holden\, Warrensburg\, Missouri\, 64093\, United States
CATEGORIES:Children,Crafts,Kids,Pre-Teen,Pre-Teens
END:VEVENT
BEGIN:VEVENT
DTSTART;TZID=America/New_York:20240207T150000
DTEND;TZID=America/New_York:20240207T163000
DTSTAMP:20260425T082953
CREATED:20231215T181415Z
LAST-MODIFIED:20231215T181415Z
UID:10006083-1707318000-1707323400@www.trailslibrary.org
SUMMARY:Anime/Manga Club-Knob Noster
DESCRIPTION:Ages 10+: Meet up for a fun afternoon of drawing\, debating\, discussing\, reading\, and socializing about all things related to anime/manga at the library
URL:https://www.trailslibrary.org/event/anime-manga-club-knob-noster/
LOCATION:Knob Noster Branch\, 202 N. Adams\, Knob Noster\, MO\, 65336\, United States
CATEGORIES:Book Clubs,Crafts,Pre-Teen,Pre-Teens,Teen,Teens
END:VEVENT
BEGIN:VEVENT
DTSTART;TZID=America/New_York:20240207T153000
DTEND;TZID=America/New_York:20240207T163000
DTSTAMP:20260425T082953
CREATED:20231215T190351Z
LAST-MODIFIED:20231215T190351Z
UID:10006314-1707319800-1707323400@www.trailslibrary.org
SUMMARY:This or That-Warrensburg
DESCRIPTION:Ages 6-12 REGISTRATION required: Make a tasty treat\, discover which is best\, homemade or store bought. Calculate and analyze cost per serving.
URL:https://www.trailslibrary.org/event/this-or-that-warrensburg/
LOCATION:Warrensburg Branch\, 432 N. Holden\, Warrensburg\, Missouri\, 64093\, United States
CATEGORIES:Children,Crafts,Kids,Pre-Teen,Pre-Teens,Teen,Teens
END:VEVENT
BEGIN:VEVENT
DTSTART;TZID=America/New_York:20240215T153000
DTEND;TZID=America/New_York:20240215T170000
DTSTAMP:20260425T082953
CREATED:20231215T182916Z
LAST-MODIFIED:20231215T182916Z
UID:10007246-1708011000-1708016400@www.trailslibrary.org
SUMMARY:T(w)een Time-Lexington
DESCRIPTION:Ages 13-18: Come hang out with friends for an afternoon of fun! Play games\, make friends\,and  enjoy snacks!
URL:https://www.trailslibrary.org/event/tween-time-lexington-6/
LOCATION:Lexington Branch\, 1008 Main Street\, Lexington\, MO\, 64067\, United States
CATEGORIES:Pre-Teen,Pre-Teens,Teen,Teens
END:VEVENT
BEGIN:VEVENT
DTSTART;TZID=America/New_York:20240228T153000
DTEND;TZID=America/New_York:20240228T163000
DTSTAMP:20260425T082953
CREATED:20231215T190105Z
LAST-MODIFIED:20231215T190105Z
UID:10007365-1709134200-1709137800@www.trailslibrary.org
SUMMARY:In a Mug-Warrensburg
DESCRIPTION:Ages 11-18 REGISTRATION required: Try creating tasty dishes with only a microwave and a mug as cooking utensils.
URL:https://www.trailslibrary.org/event/in-a-mug-warrensburg/
LOCATION:Warrensburg Branch\, 432 N. Holden\, Warrensburg\, Missouri\, 64093\, United States
CATEGORIES:Crafts,Pre-Teen,Pre-Teens,Teen,Teens
END:VEVENT
BEGIN:VEVENT
DTSTART;TZID=America/New_York:20240306T150000
DTEND;TZID=America/New_York:20240306T163000
DTSTAMP:20260425T082953
CREATED:20231215T181415Z
LAST-MODIFIED:20231215T181415Z
UID:10006085-1709737200-1709742600@www.trailslibrary.org
SUMMARY:Anime/Manga Club-Knob Noster
DESCRIPTION:Ages 10+: Meet up for a fun afternoon of drawing\, debating\, discussing\, reading\, and socializing about all things related to anime/manga at the library
URL:https://www.trailslibrary.org/event/anime-manga-club-knob-noster-2/
LOCATION:Knob Noster Branch\, 202 N. Adams\, Knob Noster\, MO\, 65336\, United States
CATEGORIES:Book Clubs,Crafts,Pre-Teen,Pre-Teens,Teen,Teens
END:VEVENT
BEGIN:VEVENT
DTSTART;TZID=America/New_York:20240313T153000
DTEND;TZID=America/New_York:20240313T163000
DTSTAMP:20260425T082953
CREATED:20231215T190405Z
LAST-MODIFIED:20231215T190405Z
UID:10006316-1710343800-1710347400@www.trailslibrary.org
SUMMARY:This or That-Warrensburg
DESCRIPTION:Ages 6-12 REGISTRATION required: Make a tasty treat\, discover which is best\, homemade or store bought. Calculate and analyze cost per serving.
URL:https://www.trailslibrary.org/event/this-or-that-warrensburg-2/
LOCATION:Warrensburg Branch\, 432 N. Holden\, Warrensburg\, Missouri\, 64093\, United States
CATEGORIES:Children,Crafts,Kids,Pre-Teen,Pre-Teens,Teen,Teens
END:VEVENT
BEGIN:VEVENT
DTSTART;TZID=America/New_York:20240320T153000
DTEND;TZID=America/New_York:20240320T163000
DTSTAMP:20260425T082953
CREATED:20231215T190105Z
LAST-MODIFIED:20231215T190105Z
UID:10007366-1710948600-1710952200@www.trailslibrary.org
SUMMARY:In a Mug-Warrensburg
DESCRIPTION:Ages 11-18 REGISTRATION required: Try creating tasty dishes with only a microwave and a mug as cooking utensils.
URL:https://www.trailslibrary.org/event/in-a-mug-warrensburg-2/
LOCATION:Warrensburg Branch\, 432 N. Holden\, Warrensburg\, Missouri\, 64093\, United States
CATEGORIES:Crafts,Pre-Teen,Pre-Teens,Teen,Teens
END:VEVENT
BEGIN:VEVENT
DTSTART;TZID=America/New_York:20240321T153000
DTEND;TZID=America/New_York:20240321T170000
DTSTAMP:20260425T082953
CREATED:20231215T182930Z
LAST-MODIFIED:20231215T182930Z
UID:10007247-1711035000-1711040400@www.trailslibrary.org
SUMMARY:T(w)een Time-Lexington
DESCRIPTION:Ages 13-18: Come hang out with friends for an afternoon of fun! Play games\, make friends\,and enjoy snacks!
URL:https://www.trailslibrary.org/event/tween-time-lexington-7/
LOCATION:Lexington Branch\, 1008 Main Street\, Lexington\, MO\, 64067\, United States
CATEGORIES:Pre-Teen,Pre-Teens,Teen,Teens
END:VEVENT
BEGIN:VEVENT
DTSTART;TZID=America/New_York:20240328T140000
DTEND;TZID=America/New_York:20240328T160000
DTSTAMP:20260425T082953
CREATED:20231215T181430Z
LAST-MODIFIED:20231215T181430Z
UID:10006089-1711634400-1711641600@www.trailslibrary.org
SUMMARY:Tissue Paper Painting-Knob Noster
DESCRIPTION:Ages 13-18 REGISTRATION required: Create a canvas of color with this popular tissue paper painting activity!
URL:https://www.trailslibrary.org/event/tissue-paper-painting-knob-noster-2/
LOCATION:Knob Noster Branch\, 202 N. Adams\, Knob Noster\, MO\, 65336\, United States
CATEGORIES:Crafts,Pre-Teen,Pre-Teens,Teen,Teens
END:VEVENT
BEGIN:VEVENT
DTSTART;TZID=America/New_York:20240403T150000
DTEND;TZID=America/New_York:20240403T163000
DTSTAMP:20260425T082953
CREATED:20231215T181429Z
LAST-MODIFIED:20231215T181429Z
UID:10006087-1712156400-1712161800@www.trailslibrary.org
SUMMARY:Anime/Manga Club-Knob Noster
DESCRIPTION:Ages 10+: Meet up for a fun afternoon of drawing\, debating\, discussing\, reading\, and socializing about all things related to anime/manga at the library
URL:https://www.trailslibrary.org/event/anime-manga-club-knob-noster-3/
LOCATION:Knob Noster Branch\, 202 N. Adams\, Knob Noster\, MO\, 65336\, United States
CATEGORIES:Book Clubs,Crafts,Pre-Teen,Pre-Teens,Teen,Teens
END:VEVENT
BEGIN:VEVENT
DTSTART;TZID=America/New_York:20240417T153000
DTEND;TZID=America/New_York:20240417T163000
DTSTAMP:20260425T082953
CREATED:20231215T190405Z
LAST-MODIFIED:20231215T190405Z
UID:10006318-1713367800-1713371400@www.trailslibrary.org
SUMMARY:This or That-Warrensburg
DESCRIPTION:Ages 6-12 REGISTRATION required: Make a tasty treat\, discover which is best\, homemade or store bought. Calculate and analyze cost per serving.
URL:https://www.trailslibrary.org/event/this-or-that-warrensburg-3/
LOCATION:Warrensburg Branch\, 432 N. Holden\, Warrensburg\, Missouri\, 64093\, United States
CATEGORIES:Children,Crafts,Kids,Pre-Teen,Pre-Teens,Teen,Teens
END:VEVENT
BEGIN:VEVENT
DTSTART;TZID=America/New_York:20240418T153000
DTEND;TZID=America/New_York:20240418T170000
DTSTAMP:20260425T082953
CREATED:20231215T182930Z
LAST-MODIFIED:20231215T182930Z
UID:10007248-1713454200-1713459600@www.trailslibrary.org
SUMMARY:T(w)een Time-Lexington
DESCRIPTION:Ages 13-18: Come hang out with friends for an afternoon of fun! Play games\, make friends\,and enjoy snacks!
URL:https://www.trailslibrary.org/event/tween-time-lexington-8/
LOCATION:Lexington Branch\, 1008 Main Street\, Lexington\, MO\, 64067\, United States
CATEGORIES:Pre-Teen,Pre-Teens,Teen,Teens
END:VEVENT
BEGIN:VEVENT
DTSTART;TZID=America/New_York:20240425T140000
DTEND;TZID=America/New_York:20240425T160000
DTSTAMP:20260425T082953
CREATED:20231215T181430Z
LAST-MODIFIED:20231215T181430Z
UID:10006091-1714053600-1714060800@www.trailslibrary.org
SUMMARY:Faux Stained Glass-Knob Noster
DESCRIPTION:Ages 13-18 REGISTRATION required: Turn an ordinary picture frame into a work of art! . We’ll provide ready-made templates. Just bring your creativity and come ready to paint!
URL:https://www.trailslibrary.org/event/faux-stained-glass-knob-noster/
LOCATION:Knob Noster Branch\, 202 N. Adams\, Knob Noster\, MO\, 65336\, United States
CATEGORIES:Crafts,Pre-Teen,Pre-Teens,Teen,Teens
END:VEVENT
BEGIN:VEVENT
DTSTART;TZID=America/New_York:20240529T103000
DTEND;TZID=America/New_York:20240529T120000
DTSTAMP:20260425T082953
CREATED:20240429T210404Z
LAST-MODIFIED:20240429T210839Z
UID:10007447-1716978600-1716984000@www.trailslibrary.org
SUMMARY:Show-Me Dinosaurs-Lexington Branch
DESCRIPTION:All Ages: Join Trails Regional Library and Show-Me Dinosaurs for a roaring kick-off to Summer Reading! Get ready to uncover dino secrets\, snap pics with our prehistoric pals\, unearth fossils\, and tons of other dino-mite surprises!
URL:https://www.trailslibrary.org/event/show-me-dinosaurs-lexington-branch/
LOCATION:Lexington Branch\, 1008 Main Street\, Lexington\, MO\, 64067\, United States
CATEGORIES:Adult,Adults,All Ages,Children,Everyone,Family,Kids,Performers,Pre-School,Pre-Teen,Pre-Teens,Preschool,Preteen,preteens,senior,Seniors,Storytime,Summer Reading Kick Off Event,Teen,Teens,Toddlers,Youth
ATTACH;FMTTYPE=image/jpeg:https://www.trailslibrary.org/wp-content/uploads/2024/04/Meet-Our-Dinosaurs.jpg
END:VEVENT
BEGIN:VEVENT
DTSTART;TZID=America/New_York:20240529T140000
DTEND;TZID=America/New_York:20240529T153000
DTSTAMP:20260425T082953
CREATED:20240429T210809Z
LAST-MODIFIED:20240429T211441Z
UID:10007448-1716991200-1716996600@www.trailslibrary.org
SUMMARY:Show-Me Dinosaurs-Odessa Branch
DESCRIPTION:All Ages: Join Trails Regional Library and Show-Me Dinosaurs for a roaring kick-off to Summer Reading! Get ready to uncover dino secrets\, snap pics with our prehistoric pals\, unearth fossils\, and tons of other dino-mite surprises!
URL:https://www.trailslibrary.org/event/show-me-dinosaurs-odessa-branch/
LOCATION:Odessa Branch\, 107 W. Mason\, Odessa\, MO\, 64076\, United States
CATEGORIES:Adult,Adults,All Ages,Children,Everyone,Family,Kids,Performers,Pre-School,Pre-Teen,Pre-Teens,Preschool,Preteen,preteens,senior,Seniors,Storytime,Summer Reading Kick Off Event,Teen,Teens,Toddlers,Youth
ATTACH;FMTTYPE=image/jpeg:https://www.trailslibrary.org/wp-content/uploads/2024/04/Meet-Our-Dinosaurs.jpg
END:VEVENT
BEGIN:VEVENT
DTSTART;TZID=America/New_York:20240530T103000
DTEND;TZID=America/New_York:20240530T113000
DTSTAMP:20260425T082953
CREATED:20240429T211222Z
LAST-MODIFIED:20240429T211255Z
UID:10007449-1717065000-1717068600@www.trailslibrary.org
SUMMARY:Show-Me Dinosaurs-Knob Noster Branch
DESCRIPTION:All Ages: Join Trails Regional Library and Show-Me Dinosaurs for a roaring kick-off to Summer Reading! Get ready to uncover dino secrets\, snap pics with our prehistoric pals\, unearth fossils\, and tons of other dino-mite surprises!
URL:https://www.trailslibrary.org/event/show-me-dinosaurs-knob-noster-branch/
LOCATION:Knob Noster Branch\, 202 N. Adams\, Knob Noster\, MO\, 65336\, United States
CATEGORIES:Adult,Adults,All Ages,Children,Everyone,Family,Kids,Performers,Pre-School,Pre-Teen,Pre-Teens,Preschool,Preteen,preteens,senior,Seniors,Storytime,Summer Reading Kick Off Event,Teen,Teens,Toddlers,Youth
ATTACH;FMTTYPE=image/jpeg:https://www.trailslibrary.org/wp-content/uploads/2024/04/Meet-Our-Dinosaurs.jpg
END:VEVENT
END:VCALENDAR