BEGIN:VCALENDAR
VERSION:2.0
PRODID:-//Trails Regional Library - ECPv6.15.20//NONSGML v1.0//EN
CALSCALE:GREGORIAN
METHOD:PUBLISH
X-WR-CALNAME:Trails Regional Library
X-ORIGINAL-URL:https://www.trailslibrary.org
X-WR-CALDESC:Events for Trails Regional Library
REFRESH-INTERVAL;VALUE=DURATION:PT1H
X-Robots-Tag:noindex
X-PUBLISHED-TTL:PT1H
BEGIN:VTIMEZONE
TZID:America/New_York
BEGIN:DAYLIGHT
TZOFFSETFROM:-0500
TZOFFSETTO:-0400
TZNAME:EDT
DTSTART:20240310T070000
END:DAYLIGHT
BEGIN:STANDARD
TZOFFSETFROM:-0400
TZOFFSETTO:-0500
TZNAME:EST
DTSTART:20241103T060000
END:STANDARD
BEGIN:DAYLIGHT
TZOFFSETFROM:-0500
TZOFFSETTO:-0400
TZNAME:EDT
DTSTART:20250309T070000
END:DAYLIGHT
BEGIN:STANDARD
TZOFFSETFROM:-0400
TZOFFSETTO:-0500
TZNAME:EST
DTSTART:20251102T060000
END:STANDARD
BEGIN:DAYLIGHT
TZOFFSETFROM:-0500
TZOFFSETTO:-0400
TZNAME:EDT
DTSTART:20260308T070000
END:DAYLIGHT
BEGIN:STANDARD
TZOFFSETFROM:-0400
TZOFFSETTO:-0500
TZNAME:EST
DTSTART:20261101T060000
END:STANDARD
END:VTIMEZONE
BEGIN:VEVENT
DTSTART;TZID=America/New_York:20250702T100000
DTEND;TZID=America/New_York:20250702T100000
DTSTAMP:20260422T051554
CREATED:20250509T135114Z
LAST-MODIFIED:20250509T135114Z
UID:10009011-1751450400-1751450400@www.trailslibrary.org
SUMMARY:Storytime - Knob Noster Branch
DESCRIPTION:Ages 0-5: Join us for engaging stories\, music\, and bubbles that encourage learning\, movement\, and a love of reading!
URL:https://www.trailslibrary.org/event/storytime-knob-noster-branch-21/
LOCATION:Knob Noster Branch\, 202 N. Adams\, Knob Noster\, MO\, 65336\, United States
CATEGORIES:Children,Kids,Pre-School,Preschool,Storytime,Toddlers
END:VEVENT
BEGIN:VEVENT
DTSTART;TZID=America/New_York:20250702T100000
DTEND;TZID=America/New_York:20250702T100000
DTSTAMP:20260422T051554
CREATED:20250509T135754Z
LAST-MODIFIED:20250509T135754Z
UID:10009035-1751450400-1751450400@www.trailslibrary.org
SUMMARY:Storytime - Lexington Branch
DESCRIPTION:Ages 0-5: Bring your little ones for storytime! Each week we read\, sing\, play and learn\, all while developing early literacy skills.
URL:https://www.trailslibrary.org/event/storytime-lexington-branch-20/
LOCATION:Lexington Branch\, 1008 Main Street\, Lexington\, MO\, 64067\, United States
CATEGORIES:Children,Kids,Pre-School,Preschool,Storytime,Toddlers
END:VEVENT
BEGIN:VEVENT
DTSTART;TZID=America/New_York:20250702T100000
DTEND;TZID=America/New_York:20250702T100000
DTSTAMP:20260422T051554
CREATED:20250509T140633Z
LAST-MODIFIED:20250509T140633Z
UID:10009093-1751450400-1751450400@www.trailslibrary.org
SUMMARY:Storytime - Odessa Branch
DESCRIPTION:Ages 0-5: Storytimes are for building pre-reading skills\, making friends\, and having fun!
URL:https://www.trailslibrary.org/event/storytime-odessa-branch-27/
LOCATION:Odessa Branch\, 107 W. Mason\, Odessa\, MO\, 64076\, United States
CATEGORIES:Children,Kids,Pre-School,Preschool,Storytime,Toddlers
END:VEVENT
BEGIN:VEVENT
DTSTART;TZID=America/New_York:20250702T150000
DTEND;TZID=America/New_York:20250702T150000
DTSTAMP:20260422T051554
CREATED:20250509T142525Z
LAST-MODIFIED:20250509T142525Z
UID:10009203-1751468400-1751468400@www.trailslibrary.org
SUMMARY:Bubbles & Wands - Waverly Branch
DESCRIPTION:Ages 0-5: Let’s blow some bubbles together. Learn how to make your own colorful bubbles and wand.
URL:https://www.trailslibrary.org/event/bubbles-wands-waverly-branch/
LOCATION:Waverly Branch\, 203 E. Kelling\, Waverly\, MO\, 64096\, United States
CATEGORIES:Children,Crafts,Kids,Pre-School,Preschool,Toddlers
END:VEVENT
END:VCALENDAR