BEGIN:VCALENDAR
VERSION:2.0
PRODID:-//Trails Regional Library - ECPv6.15.20//NONSGML v1.0//EN
CALSCALE:GREGORIAN
METHOD:PUBLISH
X-WR-CALNAME:Trails Regional Library
X-ORIGINAL-URL:https://www.trailslibrary.org
X-WR-CALDESC:Events for Trails Regional Library
REFRESH-INTERVAL;VALUE=DURATION:PT1H
X-Robots-Tag:noindex
X-PUBLISHED-TTL:PT1H
BEGIN:VTIMEZONE
TZID:America/New_York
BEGIN:DAYLIGHT
TZOFFSETFROM:-0500
TZOFFSETTO:-0400
TZNAME:EDT
DTSTART:20230312T070000
END:DAYLIGHT
BEGIN:STANDARD
TZOFFSETFROM:-0400
TZOFFSETTO:-0500
TZNAME:EST
DTSTART:20231105T060000
END:STANDARD
BEGIN:DAYLIGHT
TZOFFSETFROM:-0500
TZOFFSETTO:-0400
TZNAME:EDT
DTSTART:20240310T070000
END:DAYLIGHT
BEGIN:STANDARD
TZOFFSETFROM:-0400
TZOFFSETTO:-0500
TZNAME:EST
DTSTART:20241103T060000
END:STANDARD
BEGIN:DAYLIGHT
TZOFFSETFROM:-0500
TZOFFSETTO:-0400
TZNAME:EDT
DTSTART:20250309T070000
END:DAYLIGHT
BEGIN:STANDARD
TZOFFSETFROM:-0400
TZOFFSETTO:-0500
TZNAME:EST
DTSTART:20251102T060000
END:STANDARD
END:VTIMEZONE
BEGIN:VEVENT
DTSTART;TZID=America/New_York:20240710T100000
DTEND;TZID=America/New_York:20240710T100000
DTSTAMP:20260423T054553
CREATED:20240520T192839Z
LAST-MODIFIED:20240520T192839Z
UID:10007510-1720605600-1720605600@www.trailslibrary.org
SUMMARY:Storytime - Lexington
DESCRIPTION:Ages 0-5: Bring your little ones for storytime! Each week we read\, sing\, play and learn\, all while developing early literacy skills.
URL:https://www.trailslibrary.org/event/storytime-lexington-104/
LOCATION:Lexington Branch\, 1008 Main Street\, Lexington\, MO\, 64067\, United States
CATEGORIES:Children,Kids,Pre-School,Preschool,Storytime,Toddlers
END:VEVENT
BEGIN:VEVENT
DTSTART;TZID=America/New_York:20240710T100000
DTEND;TZID=America/New_York:20240710T100000
DTSTAMP:20260423T054553
CREATED:20240520T193539Z
LAST-MODIFIED:20240520T193539Z
UID:10007533-1720605600-1720605600@www.trailslibrary.org
SUMMARY:Storytime - Odessa
DESCRIPTION:Ages 0-5: Storytimes are for building pre-reading skills\, making friends\, and having fun!
URL:https://www.trailslibrary.org/event/storytime-odessa-71/
LOCATION:Odessa Branch\, 107 W. Mason\, Odessa\, MO\, 64076\, United States
CATEGORIES:Children,Kids,Pre-School,Preschool,Storytime,Toddlers
END:VEVENT
BEGIN:VEVENT
DTSTART;TZID=America/New_York:20240710T100000
DTEND;TZID=America/New_York:20240710T100000
DTSTAMP:20260423T054553
CREATED:20240521T141642Z
LAST-MODIFIED:20240521T141642Z
UID:10007731-1720605600-1720605600@www.trailslibrary.org
SUMMARY:Bubbly Storytimes - Concordia
DESCRIPTION:Ages 0-5: Storytimes are for building pre-reading skills\, making friends and having fun! And there will be bubbles!
URL:https://www.trailslibrary.org/event/bubbly-storytimes-concordia-6/
LOCATION:Concordia Branch\, 813 S Main\, Concordia\, MO\, 64020\, United States
CATEGORIES:Children,Kids,Pre-School,Preschool,Storytime,Toddlers
END:VEVENT
BEGIN:VEVENT
DTSTART;TZID=America/New_York:20240710T110000
DTEND;TZID=America/New_York:20240710T120000
DTSTAMP:20260423T054553
CREATED:20240521T152354Z
LAST-MODIFIED:20240521T152354Z
UID:10007802-1720609200-1720612800@www.trailslibrary.org
SUMMARY:Storytime - Knob Noster
DESCRIPTION:Ages 0-5: Help your child develop a love for literacy with stories\, music\, & bubbles!
URL:https://www.trailslibrary.org/event/storytime-knob-noster-106/
LOCATION:Knob Noster Branch\, 202 N. Adams\, Knob Noster\, MO\, 65336\, United States
CATEGORIES:Children,Kids,Pre-School,Preschool,Storytime,Toddlers
END:VEVENT
BEGIN:VEVENT
DTSTART;TZID=America/New_York:20240711T100000
DTEND;TZID=America/New_York:20240711T100000
DTSTAMP:20260423T054553
CREATED:20240520T193554Z
LAST-MODIFIED:20240520T193554Z
UID:10007537-1720692000-1720692000@www.trailslibrary.org
SUMMARY:Storytime - Odessa
DESCRIPTION:Ages 0-5: Storytimes are for building pre-reading skills\, making friends\, and having fun!
URL:https://www.trailslibrary.org/event/storytime-odessa-75/
LOCATION:Odessa Branch\, 107 W. Mason\, Odessa\, MO\, 64076\, United States
CATEGORIES:Children,Kids,Pre-School,Preschool,Storytime,Toddlers
END:VEVENT
BEGIN:VEVENT
DTSTART;TZID=America/New_York:20240715T100000
DTEND;TZID=America/New_York:20240715T100000
DTSTAMP:20260423T054553
CREATED:20240520T194206Z
LAST-MODIFIED:20240520T194206Z
UID:10007591-1721037600-1721037600@www.trailslibrary.org
SUMMARY:Little Adventure Storytime - Waverly
DESCRIPTION:Ages 0-5: Bring your little ones for a morning of reading\, crafting\, and more!
URL:https://www.trailslibrary.org/event/little-adventure-storytime-waverly-7/
LOCATION:Waverly Branch\, 203 E. Kelling\, Waverly\, MO\, 64096\, United States
CATEGORIES:Children,Crafts,Kids,Pre-School,Preschool,Storytime,Toddlers
END:VEVENT
BEGIN:VEVENT
DTSTART;TZID=America/New_York:20240716T100000
DTEND;TZID=America/New_York:20240716T110000
DTSTAMP:20260423T054553
CREATED:20240520T204240Z
LAST-MODIFIED:20240520T204240Z
UID:10007695-1721124000-1721127600@www.trailslibrary.org
SUMMARY:Storytime - Warrensburg
DESCRIPTION:Ages 0-5: Meet up for Stories\, Music\, Dancing\, a craft\, and of course bubbles!
URL:https://www.trailslibrary.org/event/storytime-warrensburg-62/
LOCATION:Warrensburg Branch\, 432 N. Holden\, Warrensburg\, Missouri\, 64093\, United States
CATEGORIES:Children,Kids,Preschool,Storytime
END:VEVENT
BEGIN:VEVENT
DTSTART;TZID=America/New_York:20240717T093000
DTEND;TZID=America/New_York:20240717T103000
DTSTAMP:20260423T054553
CREATED:20240521T152336Z
LAST-MODIFIED:20240521T152336Z
UID:10007790-1721208600-1721212200@www.trailslibrary.org
SUMMARY:Storytime - Knob Noster
DESCRIPTION:Ages 0-5 REGISTRATION Required: Help your child develop a love for literacy with stories\, music\, & bubbles! This week Knob Noster State Park will be bringing one of their animal ambassadors over for a visit (they will only be there for a visual look\, not to be handled by the littles)\, along with some pelts for the kids to have a sensory experience. Make sure you register!
URL:https://www.trailslibrary.org/event/storytime-knob-noster-95/
LOCATION:Knob Noster Branch\, 202 N. Adams\, Knob Noster\, MO\, 65336\, United States
CATEGORIES:Children,Guest Presenter,Kids,Pre-School,Preschool,Storytime,Toddlers
END:VEVENT
BEGIN:VEVENT
DTSTART;TZID=America/New_York:20240717T100000
DTEND;TZID=America/New_York:20240717T100000
DTSTAMP:20260423T054553
CREATED:20240520T192213Z
LAST-MODIFIED:20240520T192213Z
UID:10007480-1721210400-1721210400@www.trailslibrary.org
SUMMARY:Storytime - Holden
DESCRIPTION:Ages 0-5: Come listen to a story at the library and do a craft.
URL:https://www.trailslibrary.org/event/storytime-holden-119/
LOCATION:Holden Branch\, 207 S. Main\, Holden\, MO\, 64040\, United States
CATEGORIES:Children,Crafts,Kids,Preschool,Storytime
END:VEVENT
BEGIN:VEVENT
DTSTART;TZID=America/New_York:20240717T100000
DTEND;TZID=America/New_York:20240717T100000
DTSTAMP:20260423T054553
CREATED:20240520T192839Z
LAST-MODIFIED:20240520T192839Z
UID:10007511-1721210400-1721210400@www.trailslibrary.org
SUMMARY:Storytime - Lexington
DESCRIPTION:Ages 0-5: Bring your little ones for storytime! Each week we read\, sing\, play and learn\, all while developing early literacy skills.
URL:https://www.trailslibrary.org/event/storytime-lexington-105/
LOCATION:Lexington Branch\, 1008 Main Street\, Lexington\, MO\, 64067\, United States
CATEGORIES:Children,Kids,Pre-School,Preschool,Storytime,Toddlers
END:VEVENT
BEGIN:VEVENT
DTSTART;TZID=America/New_York:20240717T100000
DTEND;TZID=America/New_York:20240717T100000
DTSTAMP:20260423T054553
CREATED:20240520T193553Z
LAST-MODIFIED:20240520T193553Z
UID:10007534-1721210400-1721210400@www.trailslibrary.org
SUMMARY:Storytime - Odessa
DESCRIPTION:Ages 0-5: Storytimes are for building pre-reading skills\, making friends\, and having fun!
URL:https://www.trailslibrary.org/event/storytime-odessa-72/
LOCATION:Odessa Branch\, 107 W. Mason\, Odessa\, MO\, 64076\, United States
CATEGORIES:Children,Kids,Pre-School,Preschool,Storytime,Toddlers
END:VEVENT
BEGIN:VEVENT
DTSTART;TZID=America/New_York:20240717T100000
DTEND;TZID=America/New_York:20240717T100000
DTSTAMP:20260423T054553
CREATED:20240521T141642Z
LAST-MODIFIED:20240521T141642Z
UID:10007732-1721210400-1721210400@www.trailslibrary.org
SUMMARY:Bubbly Storytimes - Concordia
DESCRIPTION:Ages 0-5: Storytimes are for building pre-reading skills\, making friends and having fun! And there will be bubbles!
URL:https://www.trailslibrary.org/event/bubbly-storytimes-concordia-7/
LOCATION:Concordia Branch\, 813 S Main\, Concordia\, MO\, 64020\, United States
CATEGORIES:Children,Kids,Pre-School,Preschool,Storytime,Toddlers
END:VEVENT
BEGIN:VEVENT
DTSTART;TZID=America/New_York:20240717T110000
DTEND;TZID=America/New_York:20240717T120000
DTSTAMP:20260423T054553
CREATED:20240521T152336Z
LAST-MODIFIED:20240521T152336Z
UID:10007791-1721214000-1721217600@www.trailslibrary.org
SUMMARY:Storytime - Knob Noster
DESCRIPTION:Ages 0-5 REGISTRATION Required: Help your child develop a love for literacy with stories\, music\, & bubbles! This week Knob Noster State Park will be bringing one of their animal ambassadors over for a visit (they will only be there for a visual look\, not to be handled by the littles)\, along with some pelts for the kids to have a sensory experience. Make sure you register!
URL:https://www.trailslibrary.org/event/storytime-knob-noster-96/
LOCATION:Knob Noster Branch\, 202 N. Adams\, Knob Noster\, MO\, 65336\, United States
CATEGORIES:Children,Guest Presenter,Kids,Pre-School,Preschool,Storytime,Toddlers
END:VEVENT
BEGIN:VEVENT
DTSTART;TZID=America/New_York:20240718T100000
DTEND;TZID=America/New_York:20240718T100000
DTSTAMP:20260423T054553
CREATED:20240520T193554Z
LAST-MODIFIED:20240520T193554Z
UID:10007538-1721296800-1721296800@www.trailslibrary.org
SUMMARY:Storytime - Odessa
DESCRIPTION:Ages 0-5: Storytimes are for building pre-reading skills\, making friends\, and having fun!
URL:https://www.trailslibrary.org/event/storytime-odessa-76/
LOCATION:Odessa Branch\, 107 W. Mason\, Odessa\, MO\, 64076\, United States
CATEGORIES:Children,Kids,Pre-School,Preschool,Storytime,Toddlers
END:VEVENT
BEGIN:VEVENT
DTSTART;TZID=America/New_York:20240718T100000
DTEND;TZID=America/New_York:20240718T103000
DTSTAMP:20260423T054553
CREATED:20240520T204255Z
LAST-MODIFIED:20240520T204255Z
UID:10007700-1721296800-1721298600@www.trailslibrary.org
SUMMARY:Music and Movement - Warrensburg
DESCRIPTION:Ages 0-5: Join us to get your wiggles out with singing and dancing. Children will use a variety of musical instruments to increase sensory development\, coordination\, literacy\, and numeracy skills
URL:https://www.trailslibrary.org/event/music-and-movement-warrensburg-39/
LOCATION:Warrensburg Branch\, 432 N. Holden\, Warrensburg\, Missouri\, 64093\, United States
CATEGORIES:Children,Kids,Preschool
END:VEVENT
BEGIN:VEVENT
DTSTART;TZID=America/New_York:20240722T100000
DTEND;TZID=America/New_York:20240722T100000
DTSTAMP:20260423T054553
CREATED:20240520T194204Z
LAST-MODIFIED:20240520T194204Z
UID:10007585-1721642400-1721642400@www.trailslibrary.org
SUMMARY:Little Adventure Storytime - Waverly
DESCRIPTION:Ages 0-5: Bring your little ones for a morning of reading\, crafting and more!
URL:https://www.trailslibrary.org/event/little-adventure-storytime-waverly/
LOCATION:Waverly Branch\, 203 E. Kelling\, Waverly\, MO\, 64096\, United States
CATEGORIES:Children,Crafts,Kids,Pre-School,Preschool,Storytime,Toddlers
END:VEVENT
BEGIN:VEVENT
DTSTART;TZID=America/New_York:20240723T100000
DTEND;TZID=America/New_York:20240723T110000
DTSTAMP:20260423T054553
CREATED:20240520T204310Z
LAST-MODIFIED:20240520T204310Z
UID:10007703-1721728800-1721732400@www.trailslibrary.org
SUMMARY:Storytime - Warrensburg
DESCRIPTION:Ages 0-5: Meet up for Stories\, Music\, Dancing\, a craft\, and of course bubbles!
URL:https://www.trailslibrary.org/event/storytime-warrensburg-63/
LOCATION:Warrensburg Branch\, 432 N. Holden\, Warrensburg\, Missouri\, 64093\, United States
CATEGORIES:Children,Kids,Preschool,Storytime
END:VEVENT
BEGIN:VEVENT
DTSTART;TZID=America/New_York:20240724T093000
DTEND;TZID=America/New_York:20240724T103000
DTSTAMP:20260423T054553
CREATED:20240521T152354Z
LAST-MODIFIED:20240521T152354Z
UID:10007803-1721813400-1721817000@www.trailslibrary.org
SUMMARY:Storytime - Knob Noster
DESCRIPTION:Ages 0-5: Help your child develop a love for literacy with stories\, music\, & bubbles!
URL:https://www.trailslibrary.org/event/storytime-knob-noster-107/
LOCATION:Knob Noster Branch\, 202 N. Adams\, Knob Noster\, MO\, 65336\, United States
CATEGORIES:Children,Kids,Pre-School,Preschool,Storytime,Toddlers
END:VEVENT
BEGIN:VEVENT
DTSTART;TZID=America/New_York:20240724T100000
DTEND;TZID=America/New_York:20240724T100000
DTSTAMP:20260423T054553
CREATED:20240520T192213Z
LAST-MODIFIED:20240520T192213Z
UID:10007481-1721815200-1721815200@www.trailslibrary.org
SUMMARY:Storytime - Holden
DESCRIPTION:Ages 0-5: Come listen to a story at the library and do a craft.
URL:https://www.trailslibrary.org/event/storytime-holden-120/
LOCATION:Holden Branch\, 207 S. Main\, Holden\, MO\, 64040\, United States
CATEGORIES:Children,Crafts,Kids,Preschool,Storytime
END:VEVENT
BEGIN:VEVENT
DTSTART;TZID=America/New_York:20240724T100000
DTEND;TZID=America/New_York:20240724T100000
DTSTAMP:20260423T054553
CREATED:20240520T192840Z
LAST-MODIFIED:20240520T192840Z
UID:10007512-1721815200-1721815200@www.trailslibrary.org
SUMMARY:Storytime - Lexington
DESCRIPTION:Ages 0-5: Bring your little ones for storytime! Each week we read\, sing\, play and learn\, all while developing early literacy skills.
URL:https://www.trailslibrary.org/event/storytime-lexington-106/
LOCATION:Lexington Branch\, 1008 Main Street\, Lexington\, MO\, 64067\, United States
CATEGORIES:Children,Kids,Pre-School,Preschool,Storytime,Toddlers
END:VEVENT
BEGIN:VEVENT
DTSTART;TZID=America/New_York:20240724T100000
DTEND;TZID=America/New_York:20240724T100000
DTSTAMP:20260423T054553
CREATED:20240520T193554Z
LAST-MODIFIED:20240520T193554Z
UID:10007535-1721815200-1721815200@www.trailslibrary.org
SUMMARY:Storytime - Odessa
DESCRIPTION:Ages 0-5: Storytimes are for building pre-reading skills\, making friends\, and having fun!
URL:https://www.trailslibrary.org/event/storytime-odessa-73/
LOCATION:Odessa Branch\, 107 W. Mason\, Odessa\, MO\, 64076\, United States
CATEGORIES:Children,Kids,Pre-School,Preschool,Storytime,Toddlers
END:VEVENT
BEGIN:VEVENT
DTSTART;TZID=America/New_York:20240724T100000
DTEND;TZID=America/New_York:20240724T100000
DTSTAMP:20260423T054553
CREATED:20240521T141642Z
LAST-MODIFIED:20240521T141642Z
UID:10007733-1721815200-1721815200@www.trailslibrary.org
SUMMARY:Bubbly Storytimes - Concordia
DESCRIPTION:Ages 0-5: Storytimes are for building pre-reading skills\, making friends and having fun! And there will be bubbles!
URL:https://www.trailslibrary.org/event/bubbly-storytimes-concordia-8/
LOCATION:Concordia Branch\, 813 S Main\, Concordia\, MO\, 64020\, United States
CATEGORIES:Children,Kids,Pre-School,Preschool,Storytime,Toddlers
END:VEVENT
BEGIN:VEVENT
DTSTART;TZID=America/New_York:20240724T110000
DTEND;TZID=America/New_York:20240724T120000
DTSTAMP:20260423T054553
CREATED:20240521T152409Z
LAST-MODIFIED:20240521T152409Z
UID:10007805-1721818800-1721822400@www.trailslibrary.org
SUMMARY:Storytime - Knob Noster
DESCRIPTION:Ages 0-5: Help your child develop a love for literacy with stories\, music\, & bubbles!
URL:https://www.trailslibrary.org/event/storytime-knob-noster-109/
LOCATION:Knob Noster Branch\, 202 N. Adams\, Knob Noster\, MO\, 65336\, United States
CATEGORIES:Children,Kids,Pre-School,Preschool,Storytime,Toddlers
END:VEVENT
BEGIN:VEVENT
DTSTART;TZID=America/New_York:20240725T100000
DTEND;TZID=America/New_York:20240725T100000
DTSTAMP:20260423T054553
CREATED:20240520T193608Z
LAST-MODIFIED:20240520T193608Z
UID:10007539-1721901600-1721901600@www.trailslibrary.org
SUMMARY:Storytime - Odessa
DESCRIPTION:Ages 0-5: Storytimes are for building pre-reading skills\, making friends\, and having fun!
URL:https://www.trailslibrary.org/event/storytime-odessa-77/
LOCATION:Odessa Branch\, 107 W. Mason\, Odessa\, MO\, 64076\, United States
CATEGORIES:Children,Kids,Pre-School,Preschool,Storytime,Toddlers
END:VEVENT
BEGIN:VEVENT
DTSTART;TZID=America/New_York:20240725T100000
DTEND;TZID=America/New_York:20240725T110000
DTSTAMP:20260423T054553
CREATED:20240520T204324Z
LAST-MODIFIED:20240520T204324Z
UID:10007707-1721901600-1721905200@www.trailslibrary.org
SUMMARY:Come and Play - Warrensburg
DESCRIPTION:Ages 0-5: Unleash the fun at our library program! Dive into a world of educational\, sensory\, and creative toys. Bring your friends and let the laughter and learning begin!
URL:https://www.trailslibrary.org/event/come-and-play-warrensburg-3/
LOCATION:Warrensburg Branch\, 432 N. Holden\, Warrensburg\, Missouri\, 64093\, United States
CATEGORIES:Children,Kids,Pre-School,Preschool,Toddlers
END:VEVENT
BEGIN:VEVENT
DTSTART;TZID=America/New_York:20240730T100000
DTEND;TZID=America/New_York:20240730T110000
DTSTAMP:20260423T054553
CREATED:20240520T204326Z
LAST-MODIFIED:20240520T204326Z
UID:10007711-1722333600-1722337200@www.trailslibrary.org
SUMMARY:Storytime - Warrensburg
DESCRIPTION:Ages 0-5: Meet up for Stories\, Music\, Dancing\, a craft\, and of course bubbles!
URL:https://www.trailslibrary.org/event/storytime-warrensburg-64/
LOCATION:Warrensburg Branch\, 432 N. Holden\, Warrensburg\, Missouri\, 64093\, United States
CATEGORIES:Children,Kids,Preschool,Storytime
END:VEVENT
BEGIN:VEVENT
DTSTART;TZID=America/New_York:20240731T100000
DTEND;TZID=America/New_York:20240731T100000
DTSTAMP:20260423T054553
CREATED:20240520T192840Z
LAST-MODIFIED:20240520T192840Z
UID:10007513-1722420000-1722420000@www.trailslibrary.org
SUMMARY:Storytime - Lexington
DESCRIPTION:Ages 0-5: Bring your little ones for storytime! Each week we read\, sing\, play and learn\, all while developing early literacy skills.
URL:https://www.trailslibrary.org/event/storytime-lexington-107/
LOCATION:Lexington Branch\, 1008 Main Street\, Lexington\, MO\, 64067\, United States
CATEGORIES:Children,Kids,Pre-School,Preschool,Storytime,Toddlers
END:VEVENT
BEGIN:VEVENT
DTSTART;TZID=America/New_York:20240731T100000
DTEND;TZID=America/New_York:20240731T100000
DTSTAMP:20260423T054553
CREATED:20240520T193554Z
LAST-MODIFIED:20240520T193554Z
UID:10007536-1722420000-1722420000@www.trailslibrary.org
SUMMARY:Storytime - Odessa
DESCRIPTION:Ages 0-5: Storytimes are for building pre-reading skills\, making friends\, and having fun!
URL:https://www.trailslibrary.org/event/storytime-odessa-74/
LOCATION:Odessa Branch\, 107 W. Mason\, Odessa\, MO\, 64076\, United States
CATEGORIES:Children,Kids,Pre-School,Preschool,Storytime,Toddlers
END:VEVENT
BEGIN:VEVENT
DTSTART;TZID=America/New_York:20240731T100000
DTEND;TZID=America/New_York:20240731T100000
DTSTAMP:20260423T054553
CREATED:20240521T141642Z
LAST-MODIFIED:20240521T141642Z
UID:10007734-1722420000-1722420000@www.trailslibrary.org
SUMMARY:Bubbly Storytimes - Concordia
DESCRIPTION:Ages 0-5: Storytimes are for building pre-reading skills\, making friends and having fun! And there will be bubbles!
URL:https://www.trailslibrary.org/event/bubbly-storytimes-concordia-9/
LOCATION:Concordia Branch\, 813 S Main\, Concordia\, MO\, 64020\, United States
CATEGORIES:Children,Kids,Pre-School,Preschool,Storytime,Toddlers
END:VEVENT
BEGIN:VEVENT
DTSTART;TZID=America/New_York:20240731T100000
DTEND;TZID=America/New_York:20240731T110000
DTSTAMP:20260423T054553
CREATED:20240520T192214Z
LAST-MODIFIED:20240520T192214Z
UID:10007484-1722420000-1722423600@www.trailslibrary.org
SUMMARY:Rad Reptile Program with Knob Noster State Park - Holden
DESCRIPTION:Ages 0-5: Naturalist Chris Edmonson\, from Knob Noster State Park\, will do a library program entitled Rad Reptiles. Home to more than 50 species of snake and 12 species of turtles\, Missouri hosts a variety of rad adaptations that these reptiles use to live and protect themselves.
URL:https://www.trailslibrary.org/event/rad-reptile-program-with-knob-noster-state-park-holden/
LOCATION:Holden Branch\, 207 S. Main\, Holden\, MO\, 64040\, United States
CATEGORIES:Children,Guest Presenter,Kids,Pre-School,Preschool,Toddlers
END:VEVENT
END:VCALENDAR