BEGIN:VCALENDAR
VERSION:2.0
PRODID:-//Trails Regional Library - ECPv6.15.20//NONSGML v1.0//EN
CALSCALE:GREGORIAN
METHOD:PUBLISH
X-WR-CALNAME:Trails Regional Library
X-ORIGINAL-URL:https://www.trailslibrary.org
X-WR-CALDESC:Events for Trails Regional Library
REFRESH-INTERVAL;VALUE=DURATION:PT1H
X-Robots-Tag:noindex
X-PUBLISHED-TTL:PT1H
BEGIN:VTIMEZONE
TZID:America/New_York
BEGIN:DAYLIGHT
TZOFFSETFROM:-0500
TZOFFSETTO:-0400
TZNAME:EDT
DTSTART:20230312T070000
END:DAYLIGHT
BEGIN:STANDARD
TZOFFSETFROM:-0400
TZOFFSETTO:-0500
TZNAME:EST
DTSTART:20231105T060000
END:STANDARD
BEGIN:DAYLIGHT
TZOFFSETFROM:-0500
TZOFFSETTO:-0400
TZNAME:EDT
DTSTART:20240310T070000
END:DAYLIGHT
BEGIN:STANDARD
TZOFFSETFROM:-0400
TZOFFSETTO:-0500
TZNAME:EST
DTSTART:20241103T060000
END:STANDARD
BEGIN:DAYLIGHT
TZOFFSETFROM:-0500
TZOFFSETTO:-0400
TZNAME:EDT
DTSTART:20250309T070000
END:DAYLIGHT
BEGIN:STANDARD
TZOFFSETFROM:-0400
TZOFFSETTO:-0500
TZNAME:EST
DTSTART:20251102T060000
END:STANDARD
END:VTIMEZONE
BEGIN:VEVENT
DTSTART;TZID=America/New_York:20240402T140000
DTEND;TZID=America/New_York:20240402T160000
DTSTAMP:20260425T232602
CREATED:20231215T180941Z
LAST-MODIFIED:20231215T180941Z
UID:10007138-1712066400-1712073600@www.trailslibrary.org
SUMMARY:Coffee & Conversations-Holden
DESCRIPTION:Ages 19+: Come join the Trails Staff and members of the community for coffee and conversation.
URL:https://www.trailslibrary.org/event/coffee-conversations-holden-7/
LOCATION:Holden Branch\, 207 S. Main\, Holden\, MO\, 64040\, United States
CATEGORIES:Adult,Adults,senior,Seniors
END:VEVENT
BEGIN:VEVENT
DTSTART;TZID=America/New_York:20240402T150000
DTEND;TZID=America/New_York:20240402T160000
DTSTAMP:20260425T232602
CREATED:20231215T180941Z
LAST-MODIFIED:20231215T180941Z
UID:10007140-1712070000-1712073600@www.trailslibrary.org
SUMMARY:Mandala Art Program-Holden
DESCRIPTION:Ages 19+: Join us to create mandalas out of diecuts with colored tissue in between.
URL:https://www.trailslibrary.org/event/mandala-art-program-holden-2/
LOCATION:Holden Branch\, 207 S. Main\, Holden\, MO\, 64040\, United States
CATEGORIES:Adult,Adults,Crafts,senior,Seniors
END:VEVENT
BEGIN:VEVENT
DTSTART;TZID=America/New_York:20240402T150000
DTEND;TZID=America/New_York:20240402T160000
DTSTAMP:20260425T232602
CREATED:20231215T183425Z
LAST-MODIFIED:20231215T183425Z
UID:10007264-1712070000-1712073600@www.trailslibrary.org
SUMMARY:Adults: Class in Session-Lexington
DESCRIPTION:Ages 55+: Do you enjoy learning new things? Do you want to stay connected with your community? If so\, then you should consider attending  senior programming with us at the library.
URL:https://www.trailslibrary.org/event/adults-class-in-session-lexington/
LOCATION:Lexington Branch\, 1008 Main Street\, Lexington\, MO\, 64067\, United States
CATEGORIES:senior,Seniors,Technology
END:VEVENT
BEGIN:VEVENT
DTSTART;TZID=America/New_York:20240403T130000
DTEND;TZID=America/New_York:20240403T160000
DTSTAMP:20260425T232602
CREATED:20231215T190350Z
LAST-MODIFIED:20231215T190350Z
UID:10006306-1712149200-1712160000@www.trailslibrary.org
SUMMARY:A Gift of Peace of Mind-Warrensburg
DESCRIPTION:Ages 55+: Information sessions for planning for your elder years. We hope that you will gain knowledge about planning for your future elder years to give you some peace of mind that you have put everything “in order” so your loved ones will not carry this responsibility.
URL:https://www.trailslibrary.org/event/a-gift-of-peace-of-mind-warrensburg/
LOCATION:Warrensburg Branch\, 432 N. Holden\, Warrensburg\, Missouri\, 64093\, United States
CATEGORIES:senior,Seniors
END:VEVENT
BEGIN:VEVENT
DTSTART;TZID=America/New_York:20240403T163000
DTEND;TZID=America/New_York:20240403T183000
DTSTAMP:20260425T232602
CREATED:20231215T190506Z
LAST-MODIFIED:20231215T191547Z
UID:10007429-1712161800-1712169000@www.trailslibrary.org
SUMMARY:Libraries Got Game-Warrensburg
DESCRIPTION:All Ages: Get BOARD at the library with your family and friends! Fun and exciting board and XL games.
URL:https://www.trailslibrary.org/event/libraries-got-game-warrensburg-55/
LOCATION:Warrensburg Branch\, 432 N. Holden\, Warrensburg\, Missouri\, 64093\, United States
CATEGORIES:Adult,Adults,All Ages,Children,Family,Kids,preteens,senior,Seniors,Teen,Teens,Youth
END:VEVENT
BEGIN:VEVENT
DTSTART;TZID=America/New_York:20240404T140000
DTEND;TZID=America/New_York:20240404T160000
DTSTAMP:20260425T232602
CREATED:20231215T181500Z
LAST-MODIFIED:20231215T181500Z
UID:10007193-1712239200-1712246400@www.trailslibrary.org
SUMMARY:Artistic Endeavors-Knob Noster
DESCRIPTION:Ages 19+ REGISTRATION required: Calling all beginner crafters! Join us for an easy fun craft the first Thursday of every month! All supplies are provided! Register for your space quickly as spaces are limited!
URL:https://www.trailslibrary.org/event/artistic-endeavors-knob-noster-3/
LOCATION:Knob Noster Branch\, 202 N. Adams\, Knob Noster\, MO\, 65336\, United States
CATEGORIES:Adult,Adults,Crafts,senior,Seniors
END:VEVENT
BEGIN:VEVENT
DTSTART;TZID=America/New_York:20240404T160000
DTEND;TZID=America/New_York:20240404T173000
DTSTAMP:20260425T232602
CREATED:20231215T181600Z
LAST-MODIFIED:20231215T181600Z
UID:10007213-1712246400-1712251800@www.trailslibrary.org
SUMMARY:Investigaton at the Library-Knob Noster
DESCRIPTION:All Ages REGISTRATION required: There’s been a booknapping at the library! Can you help us track it down and catch the booknapper?
URL:https://www.trailslibrary.org/event/investigaton-at-the-library-knob-noster/
LOCATION:Knob Noster Branch\, 202 N. Adams\, Knob Noster\, MO\, 65336\, United States
CATEGORIES:Adult,Adults,All Ages,Children,Family,Kids,preteens,senior,Seniors,Teen,Teens,Youth
END:VEVENT
BEGIN:VEVENT
DTSTART;TZID=America/New_York:20240405T100000
DTEND;TZID=America/New_York:20240405T110000
DTSTAMP:20260425T232602
CREATED:20231215T190551Z
LAST-MODIFIED:20231215T210139Z
UID:10006338-1712311200-1712314800@www.trailslibrary.org
SUMMARY:Get Hooked-Warrensburg
DESCRIPTION:All Ages: Get Hooked! Come join us for tips and tricks\, learn how to crochet or knit.
URL:https://www.trailslibrary.org/event/get-hooked-warrensburg-27/
LOCATION:Warrensburg Branch\, 432 N. Holden\, Warrensburg\, Missouri\, 64093\, United States
CATEGORIES:Adult,Adults,All Ages,Children,Crafts,Family,Kids,preteens,senior,Seniors,Teen,Teens,Youth
END:VEVENT
BEGIN:VEVENT
DTSTART;TZID=America/New_York:20240406T100000
DTEND;TZID=America/New_York:20240406T110000
DTSTAMP:20260425T232602
CREATED:20231215T182305Z
LAST-MODIFIED:20231215T182305Z
UID:10007218-1712397600-1712401200@www.trailslibrary.org
SUMMARY:Saturday Storytime & Craft-Leeton
DESCRIPTION:All Ages: Join us on the 1st Saturday of the month at 10 AM for Storytime
URL:https://www.trailslibrary.org/event/saturday-storytime-craft-leeton-4/
LOCATION:Leeton Express Branch\, 500 N. Main\, Leeton\, MO\, 64761\, United States
CATEGORIES:Adult,Adults,All Ages,Children,Family,Kids,preteens,senior,Seniors,Storytime,Teen,Teens,Youth
END:VEVENT
BEGIN:VEVENT
DTSTART;TZID=America/New_York:20240406T110000
DTEND;TZID=America/New_York:20240406T130000
DTSTAMP:20260425T232602
CREATED:20231215T181011Z
LAST-MODIFIED:20231215T181011Z
UID:10007151-1712401200-1712408400@www.trailslibrary.org
SUMMARY:Family Movie Matinee-Holden
DESCRIPTION:All Ages: Come to the library and enjoy a family friendly movie.
URL:https://www.trailslibrary.org/event/family-movie-matinee-holden-8/
LOCATION:Holden Branch\, 207 S. Main\, Holden\, MO\, 64040\, United States
CATEGORIES:Adult,Adults,All Ages,Children,Family,Kids,Movie,preteens,senior,Seniors,Teen,Teens,Youth
END:VEVENT
BEGIN:VEVENT
DTSTART;TZID=America/New_York:20240406T110000
DTEND;TZID=America/New_York:20240406T130000
DTSTAMP:20260425T232602
CREATED:20231215T182320Z
LAST-MODIFIED:20231215T182320Z
UID:10007223-1712401200-1712408400@www.trailslibrary.org
SUMMARY:Saturday Cinema-Leeton
DESCRIPTION:All Ages: Join us on the 1st Saturday of the month at 11 AM for a family friendly movie. Bring a friend and a drink with a lid. We will provide the popcorn!
URL:https://www.trailslibrary.org/event/saturday-cinema-leeton-6/
LOCATION:Leeton Express Branch\, 500 N. Main\, Leeton\, MO\, 64761\, United States
CATEGORIES:Adult,Adults,All Ages,Children,Family,Kids,Movie,preteens,senior,Seniors,Teen,Teens,Youth
END:VEVENT
BEGIN:VEVENT
DTSTART;TZID=America/New_York:20240406T113000
DTEND;TZID=America/New_York:20240406T130000
DTSTAMP:20260425T232602
CREATED:20231215T181600Z
LAST-MODIFIED:20231215T181600Z
UID:10007215-1712403000-1712408400@www.trailslibrary.org
SUMMARY:Cinema Saturday-Knob Noster
DESCRIPTION:All Ages: Come watch “Escape from Mr. Lemoncello’s Library” with us\, based off of the book by Chris Grabenstein!
URL:https://www.trailslibrary.org/event/cinema-saturday-knob-noster-17/
LOCATION:Knob Noster Branch\, 202 N. Adams\, Knob Noster\, MO\, 65336\, United States
CATEGORIES:Adult,Adults,All Ages,Children,Family,Kids,Movie,preteens,senior,Seniors,Teen,Teens,Youth
END:VEVENT
BEGIN:VEVENT
DTSTART;TZID=America/New_York:20240408T090000
DTEND;TZID=America/New_York:20240413T170000
DTSTAMP:20260425T232602
CREATED:20231215T190421Z
LAST-MODIFIED:20231215T190421Z
UID:10007412-1712566800-1713027600@www.trailslibrary.org
SUMMARY:Pop-Up Program-Warrensburg
DESCRIPTION:All Ages: A surprise Program is scheduled
URL:https://www.trailslibrary.org/event/pop-up-program-warrensburg-2/
LOCATION:Warrensburg Branch\, 432 N. Holden\, Warrensburg\, Missouri\, 64093\, United States
CATEGORIES:Adult,Adults,All Ages,Children,Family,Kids,preteens,senior,Seniors,Teen,Teens,Youth
END:VEVENT
BEGIN:VEVENT
DTSTART;TZID=America/New_York:20240408T100000
DTEND;TZID=America/New_York:20240408T100000
DTSTAMP:20260425T232602
CREATED:20231215T181615Z
LAST-MODIFIED:20231215T181615Z
UID:10006108-1712570400-1712570400@www.trailslibrary.org
SUMMARY:Total Solar Eclipse-Knob Noster
DESCRIPTION:All Ages: This will be the last total solar eclipse visible from the contingent US until 2044!
URL:https://www.trailslibrary.org/event/total-solar-eclipse-knob-noster/
LOCATION:Knob Noster Branch\, 202 N. Adams\, Knob Noster\, MO\, 65336\, United States
CATEGORIES:Adult,Adults,All Ages,Children,Family,Kids,preteens,senior,Seniors,Teen,Teens,Youth
END:VEVENT
BEGIN:VEVENT
DTSTART;TZID=America/New_York:20240408T100000
DTEND;TZID=America/New_York:20240408T110000
DTSTAMP:20260425T232602
CREATED:20231215T175723Z
LAST-MODIFIED:20231215T175723Z
UID:10007102-1712570400-1712574000@www.trailslibrary.org
SUMMARY:Book Club-Corder
DESCRIPTION:Ages 19+: Book club meets once a month to discuss their book of choice.
URL:https://www.trailslibrary.org/event/book-club-corder-10/
LOCATION:Corder Branch\, 221 N. Lafayette\, Corder\, MO\, 64021\, United States
CATEGORIES:Adult,Adults,Book Club,senior,Seniors
END:VEVENT
BEGIN:VEVENT
DTSTART;TZID=America/New_York:20240408T173000
DTEND;TZID=America/New_York:20240408T183000
DTSTAMP:20260425T232602
CREATED:20231215T190321Z
LAST-MODIFIED:20231215T190321Z
UID:10007403-1712597400-1712601000@www.trailslibrary.org
SUMMARY:Novel Tea Book Club-Warrensburg
DESCRIPTION:Ages 19+: Join us for a warm cup of tea\, an awarding winning book and great conversations.
URL:https://www.trailslibrary.org/event/novel-tea-book-club-warrensburg-12/
LOCATION:Warrensburg Branch\, 432 N. Holden\, Warrensburg\, Missouri\, 64093\, United States
CATEGORIES:Adult,Adults,Book Club,senior,Seniors
END:VEVENT
BEGIN:VEVENT
DTSTART;TZID=America/New_York:20240410T130000
DTEND;TZID=America/New_York:20240410T160000
DTSTAMP:20260425T232602
CREATED:20231215T190350Z
LAST-MODIFIED:20231215T190350Z
UID:10006308-1712754000-1712764800@www.trailslibrary.org
SUMMARY:A Gift of Peace of Mind-Warrensburg
DESCRIPTION:Ages 55+: Information sessions for planning for your elder years. We hope that you will gain knowledge about planning for your future elder years to give you some peace of mind that you have put everything “in order” so your loved ones will not carry this responsibility.
URL:https://www.trailslibrary.org/event/a-gift-of-peace-of-mind-warrensburg-2/
LOCATION:Warrensburg Branch\, 432 N. Holden\, Warrensburg\, Missouri\, 64093\, United States
CATEGORIES:senior,Seniors
END:VEVENT
BEGIN:VEVENT
DTSTART;TZID=America/New_York:20240410T163000
DTEND;TZID=America/New_York:20240410T183000
DTSTAMP:20260425T232602
CREATED:20231215T190520Z
LAST-MODIFIED:20231215T191547Z
UID:10007430-1712766600-1712773800@www.trailslibrary.org
SUMMARY:Libraries Got Game-Warrensburg
DESCRIPTION:All Ages: Get BOARD at the library with your family and friends! Fun and exciting board and XL games.
URL:https://www.trailslibrary.org/event/libraries-got-game-warrensburg-56/
LOCATION:Warrensburg Branch\, 432 N. Holden\, Warrensburg\, Missouri\, 64093\, United States
CATEGORIES:Adult,Adults,All Ages,Children,Family,Kids,preteens,senior,Seniors,Teen,Teens,Youth
END:VEVENT
BEGIN:VEVENT
DTSTART;TZID=America/New_York:20240410T170000
DTEND;TZID=America/New_York:20240410T180000
DTSTAMP:20260425T232602
CREATED:20231215T190136Z
LAST-MODIFIED:20231215T190136Z
UID:10007378-1712768400-1712772000@www.trailslibrary.org
SUMMARY:Yoga for All-Warrensburg
DESCRIPTION:Ages 13+: Discover inner calm and build strength during this relaxing program led by a certified instructor. Please wear comfortable clothing and bring a mat or towel.
URL:https://www.trailslibrary.org/event/yoga-for-all-warrensburg-13/
LOCATION:Warrensburg Branch\, 432 N. Holden\, Warrensburg\, Missouri\, 64093\, United States
CATEGORIES:Adult,Adults,senior,Seniors,Teen,Teens
END:VEVENT
BEGIN:VEVENT
DTSTART;TZID=America/New_York:20240411T110000
DTEND;TZID=America/New_York:20240411T123000
DTSTAMP:20260425T232602
CREATED:20231215T181500Z
LAST-MODIFIED:20231215T181500Z
UID:10007196-1712833200-1712838600@www.trailslibrary.org
SUMMARY:Seed balls for Monarchs-Knob Noster
DESCRIPTION:Ages 19+ REGISTRATION required: Monarch butterflies and other pollinators are declining. Learn some simple ways that you can help pollinators in your own yard and make a few seed balls to take home.
URL:https://www.trailslibrary.org/event/seed-balls-for-monarchs-knob-noster/
LOCATION:Knob Noster Branch\, 202 N. Adams\, Knob Noster\, MO\, 65336\, United States
CATEGORIES:Adult,Adults,Crafts,senior,Seniors
END:VEVENT
BEGIN:VEVENT
DTSTART;TZID=America/New_York:20240413T100000
DTEND;TZID=America/New_York:20240413T110000
DTSTAMP:20260425T232602
CREATED:20231215T174856Z
LAST-MODIFIED:20231215T174856Z
UID:10007095-1713002400-1713006000@www.trailslibrary.org
SUMMARY:Cartoons and Pancakes-Concordia
DESCRIPTION:All Ages: Join us for an old-fashioned Saturday morning. We eat pancakes and watch cartoons with friends!
URL:https://www.trailslibrary.org/event/cartoons-and-pancakes-concordia-4/
LOCATION:Concordia Branch\, 813 S Main\, Concordia\, MO\, 64020\, United States
CATEGORIES:Adult,Adults,All Ages,Children,Family,Kids,Movie,preteens,senior,Seniors,Teen,Teens,Youth
END:VEVENT
BEGIN:VEVENT
DTSTART;TZID=America/New_York:20240413T100000
DTEND;TZID=America/New_York:20240413T110000
DTSTAMP:20260425T232602
CREATED:20231215T190606Z
LAST-MODIFIED:20231215T190606Z
UID:10007438-1713002400-1713006000@www.trailslibrary.org
SUMMARY:Flapjacks & Funnies-Warrensburg
DESCRIPTION:All Ages: Join us for classic cartoons and a bite of breakfast.
URL:https://www.trailslibrary.org/event/flapjacks-funnies-warrensburg-4/
LOCATION:Warrensburg Branch\, 432 N. Holden\, Warrensburg\, Missouri\, 64093\, United States
CATEGORIES:Adult,Adults,All Ages,Children,Family,Kids,Movie,preteens,senior,Seniors,Teen,Teens,Youth
END:VEVENT
BEGIN:VEVENT
DTSTART;TZID=America/New_York:20240415T173000
DTEND;TZID=America/New_York:20240415T183000
DTSTAMP:20260425T232602
CREATED:20231215T190150Z
LAST-MODIFIED:20231215T190150Z
UID:10007382-1713202200-1713205800@www.trailslibrary.org
SUMMARY:Craftastic-Warrensburg
DESCRIPTION:Ages 19+ REGISTRATION required: Come join us to make a faux Barn Quilt using foam board and fabric.
URL:https://www.trailslibrary.org/event/craftastic-warrensburg-11/
LOCATION:Warrensburg Branch\, 432 N. Holden\, Warrensburg\, Missouri\, 64093\, United States
CATEGORIES:Adult,Adults,Crafts,senior,Seniors
END:VEVENT
BEGIN:VEVENT
DTSTART;TZID=America/New_York:20240416T140000
DTEND;TZID=America/New_York:20240416T160000
DTSTAMP:20260425T232602
CREATED:20231215T180941Z
LAST-MODIFIED:20231215T180941Z
UID:10007139-1713276000-1713283200@www.trailslibrary.org
SUMMARY:Coffee & Conversations-Holden
DESCRIPTION:Ages 19+: Come join the Trails Staff and members of the community for coffee and conversation.
URL:https://www.trailslibrary.org/event/coffee-conversations-holden-8/
LOCATION:Holden Branch\, 207 S. Main\, Holden\, MO\, 64040\, United States
CATEGORIES:Adult,Adults,senior,Seniors
END:VEVENT
BEGIN:VEVENT
DTSTART;TZID=America/New_York:20240416T150000
DTEND;TZID=America/New_York:20240416T170000
DTSTAMP:20260425T232602
CREATED:20231215T180956Z
LAST-MODIFIED:20231215T180956Z
UID:10007147-1713279600-1713286800@www.trailslibrary.org
SUMMARY:Art and Craft Club-Holden
DESCRIPTION:All Ages: Art and Craft Club will be doing a jewelrey making program.
URL:https://www.trailslibrary.org/event/art-and-craft-club-holden-6/
LOCATION:Holden Branch\, 207 S. Main\, Holden\, MO\, 64040\, United States
CATEGORIES:Adult,Adults,All Ages,Children,Crafts,Family,Kids,preteens,senior,Seniors,Teen,Teens,Youth
END:VEVENT
BEGIN:VEVENT
DTSTART;TZID=America/New_York:20240417T140000
DTEND;TZID=America/New_York:20240417T150000
DTSTAMP:20260425T232602
CREATED:20231215T174552Z
LAST-MODIFIED:20231215T174552Z
UID:10007080-1713362400-1713366000@www.trailslibrary.org
SUMMARY:Propagation Station-Concordia
DESCRIPTION:Ages 19+: Kick-off for the Propagation Station\,  an area where patrons can donate loose cuttings from plants to swap and share.
URL:https://www.trailslibrary.org/event/propagation-station-concordia/
LOCATION:Concordia Branch\, 813 S Main\, Concordia\, MO\, 64020\, United States
CATEGORIES:Adult,Adults,senior,Seniors
END:VEVENT
BEGIN:VEVENT
DTSTART;TZID=America/New_York:20240417T163000
DTEND;TZID=America/New_York:20240417T183000
DTSTAMP:20260425T232602
CREATED:20231215T190520Z
LAST-MODIFIED:20231215T191747Z
UID:10007431-1713371400-1713378600@www.trailslibrary.org
SUMMARY:Libraries Got Game-Warrensburg
DESCRIPTION:All Ages: Get BOARD at the library with your family and friends! Fun and exciting board and XL games.
URL:https://www.trailslibrary.org/event/libraries-got-game-warrensburg-57/
LOCATION:Warrensburg Branch\, 432 N. Holden\, Warrensburg\, Missouri\, 64093\, United States
CATEGORIES:Adult,Adults,All Ages,Children,Family,Kids,preteens,senior,Seniors,Teen,Teens,Youth
END:VEVENT
BEGIN:VEVENT
DTSTART;TZID=America/New_York:20240417T170000
DTEND;TZID=America/New_York:20240417T183000
DTSTAMP:20260425T232602
CREATED:20231215T190106Z
LAST-MODIFIED:20231215T190106Z
UID:10007368-1713373200-1713378600@www.trailslibrary.org
SUMMARY:Night Owl REC (Recreational Activities for Differing Abilities)-Warrensburg
DESCRIPTION:Ages 13+ REGISTRATION required: Activities for people of all abilities
URL:https://www.trailslibrary.org/event/night-owl-rec-recreational-activities-for-differing-abilities-warrensburg-2/
LOCATION:Warrensburg Branch\, 432 N. Holden\, Warrensburg\, Missouri\, 64093\, United States
CATEGORIES:Adult,Adults,senior,Seniors,Teen,Teens
END:VEVENT
BEGIN:VEVENT
DTSTART;TZID=America/New_York:20240418T170000
DTEND;TZID=America/New_York:20240418T170000
DTSTAMP:20260425T232602
CREATED:20231215T184543Z
LAST-MODIFIED:20231215T184543Z
UID:10007296-1713459600-1713459600@www.trailslibrary.org
SUMMARY:Book Lovers' Book Club-Odessa
DESCRIPTION:Ages 19+: Adult book club that meets once a month to discuss their book of choice. This month’s book of choice open for discussion is\,
URL:https://www.trailslibrary.org/event/book-lovers-book-club-odessa-35/
LOCATION:Odessa Branch\, 107 W. Mason\, Odessa\, MO\, 64076\, United States
CATEGORIES:Adult,Adults,Book Club,senior,Seniors
END:VEVENT
BEGIN:VEVENT
DTSTART;TZID=America/New_York:20240419T100000
DTEND;TZID=America/New_York:20240419T110000
DTSTAMP:20260425T232602
CREATED:20231215T190551Z
LAST-MODIFIED:20231215T210040Z
UID:10006340-1713520800-1713524400@www.trailslibrary.org
SUMMARY:Get Hooked-Warrensburg
DESCRIPTION:All Ages: Get Hooked! Come join us for tips and tricks\, learn how to crochet or knit.
URL:https://www.trailslibrary.org/event/get-hooked-warrensburg-28/
LOCATION:Warrensburg Branch\, 432 N. Holden\, Warrensburg\, Missouri\, 64093\, United States
CATEGORIES:Adult,Adults,All Ages,Children,Crafts,Family,Kids,preteens,senior,Seniors,Teen,Teens,Youth
END:VEVENT
END:VCALENDAR