BEGIN:VCALENDAR
VERSION:2.0
PRODID:-//Trails Regional Library - ECPv6.15.20//NONSGML v1.0//EN
CALSCALE:GREGORIAN
METHOD:PUBLISH
X-ORIGINAL-URL:https://www.trailslibrary.org
X-WR-CALDESC:Events for Trails Regional Library
REFRESH-INTERVAL;VALUE=DURATION:PT1H
X-Robots-Tag:noindex
X-PUBLISHED-TTL:PT1H
BEGIN:VTIMEZONE
TZID:America/New_York
BEGIN:DAYLIGHT
TZOFFSETFROM:-0500
TZOFFSETTO:-0400
TZNAME:EDT
DTSTART:20230312T070000
END:DAYLIGHT
BEGIN:STANDARD
TZOFFSETFROM:-0400
TZOFFSETTO:-0500
TZNAME:EST
DTSTART:20231105T060000
END:STANDARD
BEGIN:DAYLIGHT
TZOFFSETFROM:-0500
TZOFFSETTO:-0400
TZNAME:EDT
DTSTART:20240310T070000
END:DAYLIGHT
BEGIN:STANDARD
TZOFFSETFROM:-0400
TZOFFSETTO:-0500
TZNAME:EST
DTSTART:20241103T060000
END:STANDARD
BEGIN:DAYLIGHT
TZOFFSETFROM:-0500
TZOFFSETTO:-0400
TZNAME:EDT
DTSTART:20250309T070000
END:DAYLIGHT
BEGIN:STANDARD
TZOFFSETFROM:-0400
TZOFFSETTO:-0500
TZNAME:EST
DTSTART:20251102T060000
END:STANDARD
END:VTIMEZONE
BEGIN:VEVENT
DTSTART;TZID=America/New_York:20240802T130000
DTEND;TZID=America/New_York:20240802T130000
DTSTAMP:20260423T065746
CREATED:20240520T194027Z
LAST-MODIFIED:20240520T194027Z
UID:10007580-1722603600-1722603600@www.trailslibrary.org
SUMMARY:Puddle Jumpers Spelling Bee - Odessa
DESCRIPTION:All Ages: Calling all S-P-E-L-L-E-R-S join the Odessa branch for our traditional Puddle Jumper Spelling Bee. Prizes are given to our top spellers. If you are between the ages of 6 to 115 come see if you meet the challenge while cooling off in the library or cheer on the spellers.
URL:https://www.trailslibrary.org/event/puddle-jumpers-spelling-bee-odessa-3/
LOCATION:Odessa Branch\, 107 W. Mason\, Odessa\, MO\, 64076\, United States
CATEGORIES:Adult,Adults,All Ages,Children,Family,Kids,preteens,senior,Seniors,Teen,Teens,Youth
END:VEVENT
BEGIN:VEVENT
DTSTART;TZID=America/New_York:20240806T130000
DTEND;TZID=America/New_York:20240806T150000
DTSTAMP:20260423T065746
CREATED:20240521T153012Z
LAST-MODIFIED:20240718T132030Z
UID:10007830-1722949200-1722956400@www.trailslibrary.org
SUMMARY:Midday Matinee - Knob Noster
DESCRIPTION:All Ages: Come to the library and watch a classic movie with us. Enjoy some popcorn and a water\, coffee\, or tea on us. Feel free to bring some movie snacks of your own too! 
URL:https://www.trailslibrary.org/event/midday-matinee-movie-classics-knob-noster/
LOCATION:Knob Noster Branch\, 202 N. Adams\, Knob Noster\, MO\, 65336\, United States
CATEGORIES:Adult,Adults,All Ages,Children,Family,Kids,Movie,preteens,senior,Seniors,Teen,Teens,Youth
END:VEVENT
BEGIN:VEVENT
DTSTART;TZID=America/New_York:20240807T090000
DTEND;TZID=America/New_York:20240807T110000
DTSTAMP:20260423T065746
CREATED:20240520T204340Z
LAST-MODIFIED:20240520T204340Z
UID:10007716-1723021200-1723028400@www.trailslibrary.org
SUMMARY:Coffee and Connections - Warrensburg
DESCRIPTION:Ages 19+: Do you need help but don’t know where to go? Stop here\, have a cup of coffee\, and chat with representatives of several different local agencies.
URL:https://www.trailslibrary.org/event/coffee-and-connections-warrensburg-10/
LOCATION:Warrensburg Branch\, 432 N. Holden\, Warrensburg\, Missouri\, 64093\, United States
CATEGORIES:Adult,Adults,senior,Seniors
END:VEVENT
BEGIN:VEVENT
DTSTART;TZID=America/New_York:20240807T100000
DTEND;TZID=America/New_York:20240807T100000
DTSTAMP:20260423T065746
CREATED:20240520T194207Z
LAST-MODIFIED:20240520T194207Z
UID:10007594-1723024800-1723024800@www.trailslibrary.org
SUMMARY:Sassy Seniors - Waverly
DESCRIPTION:Ages 55+: Come and enjoy games\, trivia\, snacks and more!
URL:https://www.trailslibrary.org/event/sassy-seniors-waverly-3/
LOCATION:Waverly Branch\, 203 E. Kelling\, Waverly\, MO\, 64096\, United States
CATEGORIES:senior,Seniors
END:VEVENT
BEGIN:VEVENT
DTSTART;TZID=America/New_York:20240807T150000
DTEND;TZID=America/New_York:20240807T180000
DTSTAMP:20260423T065746
CREATED:20240520T204354Z
LAST-MODIFIED:20240520T204354Z
UID:10007717-1723042800-1723053600@www.trailslibrary.org
SUMMARY:Libraries Got Game - Warrensburg
DESCRIPTION:All Ages: Get BOARD at the library with your family and friends! Fun and exciting board and XL games.
URL:https://www.trailslibrary.org/event/libraries-got-game-warrensburg-71/
LOCATION:Warrensburg Branch\, 432 N. Holden\, Warrensburg\, Missouri\, 64093\, United States
CATEGORIES:Adult,Adults,All Ages,Children,Family,Kids,preteens,senior,Seniors,Teen,Teens,Youth
END:VEVENT
BEGIN:VEVENT
DTSTART;TZID=America/New_York:20240807T170000
DTEND;TZID=America/New_York:20240807T180000
DTSTAMP:20260423T065746
CREATED:20240520T191852Z
LAST-MODIFIED:20240520T191852Z
UID:10007466-1723050000-1723053600@www.trailslibrary.org
SUMMARY:Ready for Back to School! - Corder
DESCRIPTION:All Ages: Learn about our resources\, sign up for a library card\, spin the prize wheel and enjoy some light refreshments.
URL:https://www.trailslibrary.org/event/ready-for-back-to-school-corder/
LOCATION:Corder Branch\, 221 N. Lafayette\, Corder\, MO\, 64021\, United States
CATEGORIES:Adult,Adults,All Ages,Children,Family,Kids,preteens,senior,Seniors,Teen,Teens,Youth
END:VEVENT
BEGIN:VEVENT
DTSTART;TZID=America/New_York:20240810T100000
DTEND;TZID=America/New_York:20240810T100000
DTSTAMP:20260423T065746
CREATED:20240521T142503Z
LAST-MODIFIED:20240521T142503Z
UID:10007760-1723284000-1723284000@www.trailslibrary.org
SUMMARY:Cartoons & Pancakes - Concordia
DESCRIPTION:All Ages: Join us for an old-fashioned Saturday morning. We eat pancakes and watch cartoons with friends!
URL:https://www.trailslibrary.org/event/cartoons-pancakes-concordia-4/
LOCATION:Concordia Branch\, 813 S Main\, Concordia\, MO\, 64020\, United States
CATEGORIES:Adult,Adults,All Ages,Children,Family,Kids,Movie,preteens,senior,Seniors,Teen,Teens,Youth
END:VEVENT
BEGIN:VEVENT
DTSTART;TZID=America/New_York:20240812T100000
DTEND;TZID=America/New_York:20240812T110000
DTSTAMP:20260423T065746
CREATED:20240520T191836Z
LAST-MODIFIED:20240520T191836Z
UID:10007458-1723456800-1723460400@www.trailslibrary.org
SUMMARY:Book Club - Corder
DESCRIPTION:Ages 19+: Book club meets once a month to discuss their book of choice.
URL:https://www.trailslibrary.org/event/book-club-corder-14/
LOCATION:Corder Branch\, 221 N. Lafayette\, Corder\, MO\, 64021\, United States
CATEGORIES:Adult,Adults,Book Club,senior,Seniors
END:VEVENT
BEGIN:VEVENT
DTSTART;TZID=America/New_York:20240812T173000
DTEND;TZID=America/New_York:20240812T183000
DTSTAMP:20260423T065746
CREATED:20240520T204355Z
LAST-MODIFIED:20240520T204355Z
UID:10007718-1723483800-1723487400@www.trailslibrary.org
SUMMARY:Novel Tea - Warrensburg
DESCRIPTION:Ages 19+: Join us for a warm cup of tea\, an award winning book\, and great conversations.
URL:https://www.trailslibrary.org/event/novel-tea-warrensburg-3/
LOCATION:Warrensburg Branch\, 432 N. Holden\, Warrensburg\, Missouri\, 64093\, United States
CATEGORIES:Adult,Adults,Book Club,senior,Seniors
END:VEVENT
BEGIN:VEVENT
DTSTART;TZID=America/New_York:20240814T090000
DTEND;TZID=America/New_York:20240814T110000
DTSTAMP:20260423T065746
CREATED:20240520T204355Z
LAST-MODIFIED:20240520T204355Z
UID:10007719-1723626000-1723633200@www.trailslibrary.org
SUMMARY:Coffee and Connections - Warrensburg
DESCRIPTION:Ages 19+: Do you need help but don’t know where to go? Stop here\, have a cup of coffee\, and chat with representatives of several different local agencies.
URL:https://www.trailslibrary.org/event/coffee-and-connections-warrensburg-11/
LOCATION:Warrensburg Branch\, 432 N. Holden\, Warrensburg\, Missouri\, 64093\, United States
CATEGORIES:Adult,Adults,senior,Seniors
END:VEVENT
BEGIN:VEVENT
DTSTART;TZID=America/New_York:20240814T150000
DTEND;TZID=America/New_York:20240814T180000
DTSTAMP:20260423T065746
CREATED:20240520T204355Z
LAST-MODIFIED:20240520T204355Z
UID:10007720-1723647600-1723658400@www.trailslibrary.org
SUMMARY:Libraries Got Game - Warrensburg
DESCRIPTION:All Ages: Get BOARD at the library with your family and friends! Fun and exciting board and XL games.
URL:https://www.trailslibrary.org/event/libraries-got-game-warrensburg-72/
LOCATION:Warrensburg Branch\, 432 N. Holden\, Warrensburg\, Missouri\, 64093\, United States
CATEGORIES:Adult,Adults,All Ages,Children,Family,Kids,preteens,senior,Seniors,Teen,Teens,Youth
END:VEVENT
BEGIN:VEVENT
DTSTART;TZID=America/New_York:20240815T170000
DTEND;TZID=America/New_York:20240815T170000
DTSTAMP:20260423T065746
CREATED:20240520T193638Z
LAST-MODIFIED:20240520T193638Z
UID:10007549-1723741200-1723741200@www.trailslibrary.org
SUMMARY:Book Lover's Bookclub - Odessa
DESCRIPTION:Ages 19+: Adult book club that meets once a month to discuss their book of choice. This month’s book of choice open for discussion is\, “Dear Mrs. Bird” by A J Pearce.
URL:https://www.trailslibrary.org/event/book-lovers-bookclub-odessa/
LOCATION:Odessa Branch\, 107 W. Mason\, Odessa\, MO\, 64076\, United States
CATEGORIES:Adult,Adults,Book Club,senior,Seniors
END:VEVENT
BEGIN:VEVENT
DTSTART;TZID=America/New_York:20240816T123000
DTEND;TZID=America/New_York:20240816T140000
DTSTAMP:20260423T065746
CREATED:20240520T204356Z
LAST-MODIFIED:20240520T204356Z
UID:10007721-1723811400-1723816800@www.trailslibrary.org
SUMMARY:3R Book Club - Warrensburg
DESCRIPTION:Ages 19+: Choose a book from the chosen theme or genre to read and discuss with the group. This is held on the fourth Monday of each month.
URL:https://www.trailslibrary.org/event/3r-book-club-warrensburg-31/
LOCATION:Warrensburg Branch\, 432 N. Holden\, Warrensburg\, Missouri\, 64093\, United States
CATEGORIES:Adult,Adults,Book Club,senior,Seniors
END:VEVENT
BEGIN:VEVENT
DTSTART;TZID=America/New_York:20240821T090000
DTEND;TZID=America/New_York:20240821T110000
DTSTAMP:20260423T065746
CREATED:20240520T204409Z
LAST-MODIFIED:20240520T204409Z
UID:10007722-1724230800-1724238000@www.trailslibrary.org
SUMMARY:Coffee and Connections - Warrensburg
DESCRIPTION:Ages 19+: Do you need help but don’t know where to go? Stop here\, have a cup of coffee\, and chat with representatives of several different local agencies.
URL:https://www.trailslibrary.org/event/coffee-and-connections-warrensburg-12/
LOCATION:Warrensburg Branch\, 432 N. Holden\, Warrensburg\, Missouri\, 64093\, United States
CATEGORIES:Adult,Adults,senior,Seniors
END:VEVENT
BEGIN:VEVENT
DTSTART;TZID=America/New_York:20240821T150000
DTEND;TZID=America/New_York:20240821T180000
DTSTAMP:20260423T065746
CREATED:20240520T204410Z
LAST-MODIFIED:20240520T204410Z
UID:10007723-1724252400-1724263200@www.trailslibrary.org
SUMMARY:Libraries Got Game - Warrensburg
DESCRIPTION:All Ages: Get BOARD at the library with your family and friends! Fun and exciting board and XL games.
URL:https://www.trailslibrary.org/event/libraries-got-game-warrensburg-73/
LOCATION:Warrensburg Branch\, 432 N. Holden\, Warrensburg\, Missouri\, 64093\, United States
CATEGORIES:Adult,Adults,All Ages,Children,Family,Kids,preteens,senior,Seniors,Teen,Teens,Youth
END:VEVENT
BEGIN:VEVENT
DTSTART;TZID=America/New_York:20240826T163000
DTEND;TZID=America/New_York:20240826T163000
DTSTAMP:20260423T065746
CREATED:20240521T141658Z
LAST-MODIFIED:20240521T141658Z
UID:10007738-1724689800-1724689800@www.trailslibrary.org
SUMMARY:Book Club - Concordia
DESCRIPTION:Ages 19+: Bookish People by Susan Coll
URL:https://www.trailslibrary.org/event/book-club-concordia-7/
LOCATION:Concordia Branch\, 813 S Main\, Concordia\, MO\, 64020\, United States
CATEGORIES:Adult,Adults,Book Club,senior,Seniors
END:VEVENT
BEGIN:VEVENT
DTSTART;TZID=America/New_York:20240827T170000
DTEND;TZID=America/New_York:20240827T180000
DTSTAMP:20260423T065746
CREATED:20240521T152823Z
LAST-MODIFIED:20240521T152823Z
UID:10007819-1724778000-1724781600@www.trailslibrary.org
SUMMARY:Knoshin' Knobbies Book Club - Knob Noster
DESCRIPTION:Ages 19+: Join us on the 4th Tuesday evening for a lively discussion of our monthly book and to pick next month’s book. Snacks are welcome. We devour books and food!
URL:https://www.trailslibrary.org/event/knoshin-knobbies-book-club-knob-noster-3/
LOCATION:Knob Noster Branch\, 202 N. Adams\, Knob Noster\, MO\, 65336\, United States
CATEGORIES:Adult,Adults,Book Club,senior,Seniors
END:VEVENT
BEGIN:VEVENT
DTSTART;TZID=America/New_York:20240828T090000
DTEND;TZID=America/New_York:20240828T110000
DTSTAMP:20260423T065746
CREATED:20240520T204410Z
LAST-MODIFIED:20240520T204410Z
UID:10007724-1724835600-1724842800@www.trailslibrary.org
SUMMARY:Coffee and Connections - Warrensburg
DESCRIPTION:Ages 19+: Do you need help but don’t know where to go? Stop here\, have a cup of coffee\, and chat with representatives of several different local agencies.
URL:https://www.trailslibrary.org/event/coffee-and-connections-warrensburg-13/
LOCATION:Warrensburg Branch\, 432 N. Holden\, Warrensburg\, Missouri\, 64093\, United States
CATEGORIES:Adult,Adults,senior,Seniors
END:VEVENT
BEGIN:VEVENT
DTSTART;TZID=America/New_York:20240828T150000
DTEND;TZID=America/New_York:20240828T180000
DTSTAMP:20260423T065746
CREATED:20240520T204410Z
LAST-MODIFIED:20240520T204410Z
UID:10007725-1724857200-1724868000@www.trailslibrary.org
SUMMARY:Libraries Got Game - Warrensburg
DESCRIPTION:All Ages: Get BOARD at the library with your family and friends! Fun and exciting board and XL games.
URL:https://www.trailslibrary.org/event/libraries-got-game-warrensburg-74/
LOCATION:Warrensburg Branch\, 432 N. Holden\, Warrensburg\, Missouri\, 64093\, United States
CATEGORIES:Adult,Adults,All Ages,Children,Family,Kids,preteens,senior,Seniors,Teen,Teens,Youth
END:VEVENT
END:VCALENDAR