BEGIN:VCALENDAR
VERSION:2.0
PRODID:-//Trails Regional Library - ECPv6.15.20//NONSGML v1.0//EN
CALSCALE:GREGORIAN
METHOD:PUBLISH
X-ORIGINAL-URL:https://www.trailslibrary.org
X-WR-CALDESC:Events for Trails Regional Library
REFRESH-INTERVAL;VALUE=DURATION:PT1H
X-Robots-Tag:noindex
X-PUBLISHED-TTL:PT1H
BEGIN:VTIMEZONE
TZID:America/New_York
BEGIN:DAYLIGHT
TZOFFSETFROM:-0500
TZOFFSETTO:-0400
TZNAME:EDT
DTSTART:20230312T070000
END:DAYLIGHT
BEGIN:STANDARD
TZOFFSETFROM:-0400
TZOFFSETTO:-0500
TZNAME:EST
DTSTART:20231105T060000
END:STANDARD
BEGIN:DAYLIGHT
TZOFFSETFROM:-0500
TZOFFSETTO:-0400
TZNAME:EDT
DTSTART:20240310T070000
END:DAYLIGHT
BEGIN:STANDARD
TZOFFSETFROM:-0400
TZOFFSETTO:-0500
TZNAME:EST
DTSTART:20241103T060000
END:STANDARD
BEGIN:DAYLIGHT
TZOFFSETFROM:-0500
TZOFFSETTO:-0400
TZNAME:EDT
DTSTART:20250309T070000
END:DAYLIGHT
BEGIN:STANDARD
TZOFFSETFROM:-0400
TZOFFSETTO:-0500
TZNAME:EST
DTSTART:20251102T060000
END:STANDARD
END:VTIMEZONE
BEGIN:VEVENT
DTSTART;TZID=America/New_York:20241001T110000
DTEND;TZID=America/New_York:20241001T120000
DTSTAMP:20260423T035710
CREATED:20240822T210404Z
LAST-MODIFIED:20240822T210404Z
UID:10008335-1727780400-1727784000@www.trailslibrary.org
SUMMARY:Eat Smart\, Live Strong - Knob Noster
DESCRIPTION:Ages 19+ REGISTRATION REQUIRED: Eat Smart\, Live Strong: Nutrition Education for Older Adults is a program that focuses on changing behaviors by guiding participants in learning and practicing new ones! This is provided by the University of Missouri Extension.
URL:https://www.trailslibrary.org/event/eat-smart-live-strong-knob-noster/
LOCATION:Knob Noster Branch\, 202 N. Adams\, Knob Noster\, MO\, 65336\, United States
CATEGORIES:Adult,Adults,senior,Seniors
END:VEVENT
BEGIN:VEVENT
DTSTART;TZID=America/New_York:20241001T160000
DTEND;TZID=America/New_York:20241001T160000
DTSTAMP:20260423T035710
CREATED:20240822T211303Z
LAST-MODIFIED:20240822T211303Z
UID:10008433-1727798400-1727798400@www.trailslibrary.org
SUMMARY:Well-Read Poet's Society - Odessa
DESCRIPTION:Ages 13+: Join us for a cup of tea as we discuss\, read\, and compose poetry.
URL:https://www.trailslibrary.org/event/well-read-poets-society-odessa-13/
LOCATION:Odessa Branch\, 107 W. Mason\, Odessa\, MO\, 64076\, United States
CATEGORIES:Adult,Adults,preteens,senior,Seniors,Teen,Teens,Youth
END:VEVENT
BEGIN:VEVENT
DTSTART;TZID=America/New_York:20241001T180000
DTEND;TZID=America/New_York:20241001T193000
DTSTAMP:20260423T035710
CREATED:20240822T185354Z
LAST-MODIFIED:20240822T185354Z
UID:10008080-1727805600-1727811000@www.trailslibrary.org
SUMMARY:Let's Unwind - Lexington
DESCRIPTION:Ages 19+ REGISTRATION REQUIRED: You can destress with a homemade salt scrub made with natural ingredients. A great addition to your self-care practices!
URL:https://www.trailslibrary.org/event/lets-unwind-lexington/
LOCATION:Lexington Branch\, 1008 Main Street\, Lexington\, MO\, 64067\, United States
CATEGORIES:Adult,Adults,Crafts,senior,Seniors
END:VEVENT
BEGIN:VEVENT
DTSTART;TZID=America/New_York:20241002T090000
DTEND;TZID=America/New_York:20241002T110000
DTSTAMP:20260423T035710
CREATED:20240822T193915Z
LAST-MODIFIED:20240822T193915Z
UID:10008201-1727859600-1727866800@www.trailslibrary.org
SUMMARY:Coffee & Connections - Warrensburg
DESCRIPTION:Ages 19+: Do you need help but don’t know where to go? Stop here\, have a cup of coffee and chat with representitives from MVCAA \, Compass Health and other local agencies.
URL:https://www.trailslibrary.org/event/coffee-connections-warrensburg-91/
LOCATION:Warrensburg Branch\, 432 N. Holden\, Warrensburg\, Missouri\, 64093\, United States
CATEGORIES:Adult,Adults,senior,Seniors
END:VEVENT
BEGIN:VEVENT
DTSTART;TZID=America/New_York:20241002T100000
DTEND;TZID=America/New_York:20241002T100000
DTSTAMP:20260423T035710
CREATED:20240822T192618Z
LAST-MODIFIED:20240822T192618Z
UID:10008168-1727863200-1727863200@www.trailslibrary.org
SUMMARY:Sassy Seniors - Waverly
DESCRIPTION:Ages 55+: Come and enjoy games\, trivia and more!
URL:https://www.trailslibrary.org/event/sassy-seniors-waverly-5/
LOCATION:Waverly Branch\, 203 E. Kelling\, Waverly\, MO\, 64096\, United States
CATEGORIES:senior,Seniors
END:VEVENT
BEGIN:VEVENT
DTSTART;TZID=America/New_York:20241002T150000
DTEND;TZID=America/New_York:20241002T180000
DTSTAMP:20260423T035710
CREATED:20240822T194850Z
LAST-MODIFIED:20240822T194850Z
UID:10008241-1727881200-1727892000@www.trailslibrary.org
SUMMARY:Libraries Got Game - Warrensburg
DESCRIPTION:All Ages: Get BOARD at the library with your family and friends! Fun and exciting board and XL games.
URL:https://www.trailslibrary.org/event/libraries-got-game-warrensburg-79/
LOCATION:Warrensburg Branch\, 432 N. Holden\, Warrensburg\, Missouri\, 64093\, United States
CATEGORIES:Adult,Adults,All Ages,Children,Family,Kids,preteens,senior,Seniors,Teen,Teens,Youth
END:VEVENT
BEGIN:VEVENT
DTSTART;TZID=America/New_York:20241002T173000
DTEND;TZID=America/New_York:20241002T183000
DTSTAMP:20260423T035710
CREATED:20240822T194106Z
LAST-MODIFIED:20240822T194106Z
UID:10008224-1727890200-1727893800@www.trailslibrary.org
SUMMARY:Halloween Jars - Warrensburg
DESCRIPTION:Ages 19+ REGISTRATION REQUIRED: Create spooky decorations while upcycling used plastic bottles.
URL:https://www.trailslibrary.org/event/halloween-jars-warrensburg/
LOCATION:Warrensburg Branch\, 432 N. Holden\, Warrensburg\, Missouri\, 64093\, United States
CATEGORIES:Adult,Adults,Crafts,senior,Seniors
END:VEVENT
BEGIN:VEVENT
DTSTART;TZID=America/New_York:20241003T140000
DTEND;TZID=America/New_York:20241003T160000
DTSTAMP:20260423T035710
CREATED:20240822T210435Z
LAST-MODIFIED:20240822T210435Z
UID:10008345-1727964000-1727971200@www.trailslibrary.org
SUMMARY:Halloween Spell Book Part 2 - Knob Noster
DESCRIPTION:Ages 19+ REGISTRATION REQUIRED: Part 2: Make it spooky\, make it creepy\, make it fun! Make a Halloween spellbook however you like!
URL:https://www.trailslibrary.org/event/halloween-spell-book-part-2-knob-noster/
LOCATION:Knob Noster Branch\, 202 N. Adams\, Knob Noster\, MO\, 65336\, United States
CATEGORIES:Adult,Adults,Crafts,senior,Seniors
END:VEVENT
BEGIN:VEVENT
DTSTART;TZID=America/New_York:20241004T093000
DTEND;TZID=America/New_York:20241004T100000
DTSTAMP:20260423T035710
CREATED:20240822T164237Z
LAST-MODIFIED:20240822T164237Z
UID:10007960-1728034200-1728036000@www.trailslibrary.org
SUMMARY:Yoga Fridays - Corder
DESCRIPTION:Ages 19+: Attention Beginner Yogis… if you are interested in learning yoga\, want to get back into it\, or just plain curious if it is right for you\, this is the class you need! Bring a yoga mat (we may have an extra one if you don’t have one) and a water bottle. Classes will be performed barefoot\, wear loose clothing or active wear yoga pants/leggings.
URL:https://www.trailslibrary.org/event/yoga-fridays-corder-5/
LOCATION:Corder Branch\, 221 N. Lafayette\, Corder\, MO\, 64021\, United States
CATEGORIES:Adult,Adults,senior,Seniors
END:VEVENT
BEGIN:VEVENT
DTSTART;TZID=America/New_York:20241004T140000
DTEND;TZID=America/New_York:20241004T160000
DTSTAMP:20260423T035710
CREATED:20240822T210420Z
LAST-MODIFIED:20240822T210420Z
UID:10008339-1728050400-1728057600@www.trailslibrary.org
SUMMARY:Friday Fright Fest - Knob Noster
DESCRIPTION:Ages 19+: Join us for weekly classic horror movies.
URL:https://www.trailslibrary.org/event/friday-fright-fest-knob-noster/
LOCATION:Knob Noster Branch\, 202 N. Adams\, Knob Noster\, MO\, 65336\, United States
CATEGORIES:Adult,Adults,Movie,senior,Seniors
END:VEVENT
BEGIN:VEVENT
DTSTART;TZID=America/New_York:20241004T150000
DTEND;TZID=America/New_York:20241004T163000
DTSTAMP:20260423T035710
CREATED:20240822T201441Z
LAST-MODIFIED:20240822T201441Z
UID:10008318-1728054000-1728059400@www.trailslibrary.org
SUMMARY:Tea Blending - Warrensburg
DESCRIPTION:Ages 19+: Would you like a spot of tea? Come in and create your own unique blend!
URL:https://www.trailslibrary.org/event/tea-blending-warrensburg/
LOCATION:Warrensburg Branch\, 432 N. Holden\, Warrensburg\, Missouri\, 64093\, United States
CATEGORIES:Adult,Adults,Crafts,senior,Seniors
END:VEVENT
BEGIN:VEVENT
DTSTART;TZID=America/New_York:20241005T110000
DTEND;TZID=America/New_York:20241005T110000
DTSTAMP:20260423T035710
CREATED:20240822T170809Z
LAST-MODIFIED:20240822T170809Z
UID:10007991-1728126000-1728126000@www.trailslibrary.org
SUMMARY:Family Movie Matinee - Holden
DESCRIPTION:All Ages: Come to the library and enjoy a family friendly movie.
URL:https://www.trailslibrary.org/event/family-movie-matinee-holden-11/
LOCATION:Holden Branch\, 207 S. Main\, Holden\, MO\, 64040\, United States
CATEGORIES:Adult,Adults,All Ages,Children,Family,Kids,Movie,preteens,senior,Seniors,Teen,Teens,Youth
END:VEVENT
BEGIN:VEVENT
DTSTART;TZID=America/New_York:20241005T110000
DTEND;TZID=America/New_York:20241005T130000
DTSTAMP:20260423T035710
CREATED:20240822T184026Z
LAST-MODIFIED:20240822T184026Z
UID:10008062-1728126000-1728133200@www.trailslibrary.org
SUMMARY:Saturday Cinema - Leeton
DESCRIPTION:All Ages: Join us on the first Saturday of the month at 11:00 AM for a family friendly movie. Bring a friend and a drink with a lid. We will provide the popcorn!
URL:https://www.trailslibrary.org/event/saturday-cinema-leeton-11/
LOCATION:Leeton Express Branch\, 500 N. Main\, Leeton\, MO\, 64761\, United States
CATEGORIES:Adult,Adults,All Ages,Children,Family,Kids,Movie,preteens,senior,Seniors,Teen,Teens,Youth
END:VEVENT
BEGIN:VEVENT
DTSTART;TZID=America/New_York:20241005T130000
DTEND;TZID=America/New_York:20241005T130000
DTSTAMP:20260423T035710
CREATED:20240822T211203Z
LAST-MODIFIED:20240822T211203Z
UID:10008412-1728133200-1728133200@www.trailslibrary.org
SUMMARY:Silent Book Club - Odessa
DESCRIPTION:Ages 19+: Share a space with people who love books that come together to chat about books and then silently read for an hour. Adults join fellow community readers for an informal and relaxed reading session!
URL:https://www.trailslibrary.org/event/silent-book-club-odessa-5/
LOCATION:Odessa Branch\, 107 W. Mason\, Odessa\, MO\, 64076\, United States
CATEGORIES:Adult,Adults,Book Club,senior,Seniors
END:VEVENT
BEGIN:VEVENT
DTSTART;TZID=America/New_York:20241005T140000
DTEND;TZID=America/New_York:20241005T160000
DTSTAMP:20260423T035710
CREATED:20240822T200228Z
LAST-MODIFIED:20240822T200228Z
UID:10008285-1728136800-1728144000@www.trailslibrary.org
SUMMARY:Salem Witch Trials - Warrensburg
DESCRIPTION:All Ages: Hear true tales of the Salem Witch Trials from someone with relatives that were involved in them.
URL:https://www.trailslibrary.org/event/salem-witch-trials-warrensburg/
LOCATION:Warrensburg Branch\, 432 N. Holden\, Warrensburg\, Missouri\, 64093\, United States
CATEGORIES:Adult,Adults,All Ages,Children,Family,Guest Speakers,Kids,preteens,senior,Seniors,Teen,Teens,Youth
END:VEVENT
BEGIN:VEVENT
DTSTART;TZID=America/New_York:20241007T103000
DTEND;TZID=America/New_York:20241007T113000
DTSTAMP:20260423T035710
CREATED:20240822T162222Z
LAST-MODIFIED:20240822T162222Z
UID:10007880-1728297000-1728300600@www.trailslibrary.org
SUMMARY:Book Club - Corder
DESCRIPTION:Ages 19+: Join us at the library for a lively discussion about this month’s book. It’s a great opportunity to share your thoughts and insights with fellow readers.
URL:https://www.trailslibrary.org/event/book-club-corder-16/
LOCATION:Corder Branch\, 221 N. Lafayette\, Corder\, MO\, 64021\, United States
CATEGORIES:Adult,Adults,Book Club,senior,Seniors
END:VEVENT
BEGIN:VEVENT
DTSTART;TZID=America/New_York:20241007T173000
DTEND;TZID=America/New_York:20241007T183000
DTSTAMP:20260423T035710
CREATED:20240822T200024Z
LAST-MODIFIED:20240822T200024Z
UID:10008277-1728322200-1728325800@www.trailslibrary.org
SUMMARY:NovelTea - Warrensburg
DESCRIPTION:Ages 19+: Join us for a warm cup of tea\, an award winning book\, and great conversations.
URL:https://www.trailslibrary.org/event/noveltea-warrensburg-3/
LOCATION:Warrensburg Branch\, 432 N. Holden\, Warrensburg\, Missouri\, 64093\, United States
CATEGORIES:Adult,Adults,Book Club,senior,Seniors
END:VEVENT
BEGIN:VEVENT
DTSTART;TZID=America/New_York:20241008T100000
DTEND;TZID=America/New_York:20241008T100000
DTSTAMP:20260423T035710
CREATED:20240822T170435Z
LAST-MODIFIED:20240822T170435Z
UID:10007981-1728381600-1728381600@www.trailslibrary.org
SUMMARY:Coffee & Conversations - Holden
DESCRIPTION:Ages 19+: Come join the Trails Staff and members of the community for coffee and conversation.
URL:https://www.trailslibrary.org/event/coffee-conversations-holden-14/
LOCATION:Holden Branch\, 207 S. Main\, Holden\, MO\, 64040\, United States
CATEGORIES:Adult,Adults,senior,Seniors
END:VEVENT
BEGIN:VEVENT
DTSTART;TZID=America/New_York:20241008T110000
DTEND;TZID=America/New_York:20241008T120000
DTSTAMP:20260423T035710
CREATED:20240822T210405Z
LAST-MODIFIED:20240822T210405Z
UID:10008336-1728385200-1728388800@www.trailslibrary.org
SUMMARY:Eat Smart\, Live Strong - Knob Noster
DESCRIPTION:Ages 19+ REGISTRATION REQUIRED: Eat Smart\, Live Strong: Nutrition Education for Older Adults is a program that focuses on changing behaviors by guiding participants in learning and practicing new ones! This is provided by the University of Missouri Extension.
URL:https://www.trailslibrary.org/event/eat-smart-live-strong-knob-noster-2/
LOCATION:Knob Noster Branch\, 202 N. Adams\, Knob Noster\, MO\, 65336\, United States
CATEGORIES:Adult,Adults,senior,Seniors
END:VEVENT
BEGIN:VEVENT
DTSTART;TZID=America/New_York:20241008T150000
DTEND;TZID=America/New_York:20241008T150000
DTSTAMP:20260423T035710
CREATED:20240822T171311Z
LAST-MODIFIED:20240822T171311Z
UID:10008014-1728399600-1728399600@www.trailslibrary.org
SUMMARY:Victorian Halloween Vignettes - Holden
DESCRIPTION:Ages 19+ REGISTRATION REQUIRED: Join us to make three dimensional Victorian Halloween Vignettes and Scenes to decorate for the holidays!
URL:https://www.trailslibrary.org/event/victorian-halloween-vignettes-holden/
LOCATION:Holden Branch\, 207 S. Main\, Holden\, MO\, 64040\, United States
CATEGORIES:Adult,Adults,Crafts,senior,Seniors
END:VEVENT
BEGIN:VEVENT
DTSTART;TZID=America/New_York:20241008T170000
DTEND;TZID=America/New_York:20241008T170000
DTSTAMP:20260423T035710
CREATED:20240822T211103Z
LAST-MODIFIED:20240822T211103Z
UID:10008393-1728406800-1728406800@www.trailslibrary.org
SUMMARY:Love is an Open Book Club - Odessa
DESCRIPTION:Ages 19+: join us for a genre specific book club and dive into the world of romance
URL:https://www.trailslibrary.org/event/love-is-an-open-book-club-odessa-2/
LOCATION:Odessa Branch\, 107 W. Mason\, Odessa\, MO\, 64076\, United States
CATEGORIES:Adult,Adults,Book Club,senior,Seniors
END:VEVENT
BEGIN:VEVENT
DTSTART;TZID=America/New_York:20241009T090000
DTEND;TZID=America/New_York:20241009T110000
DTSTAMP:20260423T035710
CREATED:20240822T193915Z
LAST-MODIFIED:20240822T193915Z
UID:10008202-1728464400-1728471600@www.trailslibrary.org
SUMMARY:Coffee & Connections - Warrensburg
DESCRIPTION:Ages 19+: Do you need help but don’t know where to go? Stop here\, have a cup of coffee and chat with representitives from MVCAA \, Compass Health and other local agencies.
URL:https://www.trailslibrary.org/event/coffee-connections-warrensburg-92/
LOCATION:Warrensburg Branch\, 432 N. Holden\, Warrensburg\, Missouri\, 64093\, United States
CATEGORIES:Adult,Adults,senior,Seniors
END:VEVENT
BEGIN:VEVENT
DTSTART;TZID=America/New_York:20241009T150000
DTEND;TZID=America/New_York:20241009T180000
DTSTAMP:20260423T035710
CREATED:20240822T194850Z
LAST-MODIFIED:20240822T194850Z
UID:10008242-1728486000-1728496800@www.trailslibrary.org
SUMMARY:Libraries Got Game - Warrensburg
DESCRIPTION:All Ages: Get BOARD at the library with your family and friends! Fun and exciting board and XL games.
URL:https://www.trailslibrary.org/event/libraries-got-game-warrensburg-80/
LOCATION:Warrensburg Branch\, 432 N. Holden\, Warrensburg\, Missouri\, 64093\, United States
CATEGORIES:Adult,Adults,All Ages,Children,Family,Kids,preteens,senior,Seniors,Teen,Teens,Youth
END:VEVENT
BEGIN:VEVENT
DTSTART;TZID=America/New_York:20241009T170000
DTEND;TZID=America/New_York:20241009T180000
DTSTAMP:20260423T035710
CREATED:20240822T201442Z
LAST-MODIFIED:20240822T201442Z
UID:10008320-1728493200-1728496800@www.trailslibrary.org
SUMMARY:Zumba - Warrensburg
DESCRIPTION:Ages 19+: Join us for ZUMBA! Classes have upbeat music\, are designed to be fun\, with participants encouraged to move to the beat. Our Zumba classes are designed for suitable for ages 13+ and all fitness levels.  We will target areas such as the core\, legs\, and glutes.
URL:https://www.trailslibrary.org/event/zumba-warrensburg/
LOCATION:Warrensburg Branch\, 432 N. Holden\, Warrensburg\, Missouri\, 64093\, United States
CATEGORIES:Adult,Adults,preteens,senior,Seniors,Teen,Teens,Youth
END:VEVENT
BEGIN:VEVENT
DTSTART;TZID=America/New_York:20241011T093000
DTEND;TZID=America/New_York:20241011T100000
DTSTAMP:20260423T035710
CREATED:20240822T164237Z
LAST-MODIFIED:20240822T164237Z
UID:10007961-1728639000-1728640800@www.trailslibrary.org
SUMMARY:Yoga Fridays - Corder
DESCRIPTION:Ages 19+: Attention Beginner Yogis… if you are interested in learning yoga\, want to get back into it\, or just plain curious if it is right for you\, this is the class you need! Bring a yoga mat (we may have an extra one if you don’t have one) and a water bottle. Classes will be performed barefoot\, wear loose clothing or active wear yoga pants/leggings.
URL:https://www.trailslibrary.org/event/yoga-fridays-corder-6/
LOCATION:Corder Branch\, 221 N. Lafayette\, Corder\, MO\, 64021\, United States
CATEGORIES:Adult,Adults,senior,Seniors
END:VEVENT
BEGIN:VEVENT
DTSTART;TZID=America/New_York:20241011T100000
DTEND;TZID=America/New_York:20241011T110000
DTSTAMP:20260423T035710
CREATED:20240822T163556Z
LAST-MODIFIED:20240822T163556Z
UID:10007935-1728640800-1728644400@www.trailslibrary.org
SUMMARY:Needle Stories - Corder
DESCRIPTION:Ages 13+: Bring your project (crocheting\, knitting\, sewing\, etc.) and spend time with fellow hobbyists. Someone will be on hand to teach crochet if you would like to learn.
URL:https://www.trailslibrary.org/event/needle-stories-corder-15/
LOCATION:Corder Branch\, 221 N. Lafayette\, Corder\, MO\, 64021\, United States
CATEGORIES:Adult,Adults,Crafts,preteens,senior,Seniors,Teen,Teens,Youth
END:VEVENT
BEGIN:VEVENT
DTSTART;TZID=America/New_York:20241011T140000
DTEND;TZID=America/New_York:20241011T160000
DTSTAMP:20260423T035710
CREATED:20240822T210420Z
LAST-MODIFIED:20240822T210420Z
UID:10008340-1728655200-1728662400@www.trailslibrary.org
SUMMARY:Friday Fright Fest - Knob Noster
DESCRIPTION:Ages 19+: Join us for weekly classic horror movies.
URL:https://www.trailslibrary.org/event/friday-fright-fest-knob-noster-2/
LOCATION:Knob Noster Branch\, 202 N. Adams\, Knob Noster\, MO\, 65336\, United States
CATEGORIES:Adult,Adults,Movie,senior,Seniors
END:VEVENT
BEGIN:VEVENT
DTSTART;TZID=America/New_York:20241012T093000
DTEND;TZID=America/New_York:20241012T120000
DTSTAMP:20260423T035710
CREATED:20240822T200025Z
LAST-MODIFIED:20240822T200025Z
UID:10008280-1728725400-1728734400@www.trailslibrary.org
SUMMARY:Outdoor Dutch Oven Cooking - Warrensburg
DESCRIPTION:Ages 19+ REGISTRATION REQUIRED: Learn to season\, clean & care for cast iron. Prepare various entrees\, learn how to make a box oven\, and receive an outdoor cooking cookbook. Enjoy your work!
URL:https://www.trailslibrary.org/event/outdoor-dutch-oven-cooking-warrensburg/
LOCATION:Warrensburg Branch\, 432 N. Holden\, Warrensburg\, Missouri\, 64093\, United States
CATEGORIES:Adult,Adults,senior,Seniors
END:VEVENT
BEGIN:VEVENT
DTSTART;TZID=America/New_York:20241012T100000
DTEND;TZID=America/New_York:20241012T110000
DTSTAMP:20260423T035710
CREATED:20240822T161430Z
LAST-MODIFIED:20240822T161430Z
UID:10007860-1728727200-1728730800@www.trailslibrary.org
SUMMARY:Cartoons & Pancakes - Concordia
DESCRIPTION:All Ages: It’s Second Saturday! Let’s enjoy pancakes and cartoons!
URL:https://www.trailslibrary.org/event/cartoons-pancakes-concordia-6/
LOCATION:Concordia Branch\, 813 S Main\, Concordia\, MO\, 64020\, United States
CATEGORIES:Adult,Adults,All Ages,Children,Family,Kids,Movie,preteens,senior,Seniors,Teen,Teens,Youth
END:VEVENT
BEGIN:VEVENT
DTSTART;TZID=America/New_York:20241012T140000
DTEND;TZID=America/New_York:20241012T163000
DTSTAMP:20260423T035710
CREATED:20240822T194506Z
LAST-MODIFIED:20240822T194506Z
UID:10008231-1728741600-1728750600@www.trailslibrary.org
SUMMARY:Legends & Librarians - Warrensburg
DESCRIPTION:Ages 19+: Welcome Adventurers! Join us for Dungeons & Dragons Onshots where we explore different realms\, fight monsters\, and gain new friends.
URL:https://www.trailslibrary.org/event/legends-librarians-warrensburg-3/
LOCATION:Warrensburg Branch\, 432 N. Holden\, Warrensburg\, Missouri\, 64093\, United States
CATEGORIES:Adult,Adults,senior,Seniors
END:VEVENT
END:VCALENDAR