BEGIN:VCALENDAR
VERSION:2.0
PRODID:-//Trails Regional Library - ECPv6.15.20//NONSGML v1.0//EN
CALSCALE:GREGORIAN
METHOD:PUBLISH
X-WR-CALNAME:Trails Regional Library
X-ORIGINAL-URL:https://www.trailslibrary.org
X-WR-CALDESC:Events for Trails Regional Library
REFRESH-INTERVAL;VALUE=DURATION:PT1H
X-Robots-Tag:noindex
X-PUBLISHED-TTL:PT1H
BEGIN:VTIMEZONE
TZID:America/New_York
BEGIN:DAYLIGHT
TZOFFSETFROM:-0500
TZOFFSETTO:-0400
TZNAME:EDT
DTSTART:20240310T070000
END:DAYLIGHT
BEGIN:STANDARD
TZOFFSETFROM:-0400
TZOFFSETTO:-0500
TZNAME:EST
DTSTART:20241103T060000
END:STANDARD
BEGIN:DAYLIGHT
TZOFFSETFROM:-0500
TZOFFSETTO:-0400
TZNAME:EDT
DTSTART:20250309T070000
END:DAYLIGHT
BEGIN:STANDARD
TZOFFSETFROM:-0400
TZOFFSETTO:-0500
TZNAME:EST
DTSTART:20251102T060000
END:STANDARD
BEGIN:DAYLIGHT
TZOFFSETFROM:-0500
TZOFFSETTO:-0400
TZNAME:EDT
DTSTART:20260308T070000
END:DAYLIGHT
BEGIN:STANDARD
TZOFFSETFROM:-0400
TZOFFSETTO:-0500
TZNAME:EST
DTSTART:20261101T060000
END:STANDARD
END:VTIMEZONE
BEGIN:VEVENT
DTSTART;TZID=America/New_York:20250201T100000
DTEND;TZID=America/New_York:20250201T100000
DTSTAMP:20260422T173732
CREATED:20241217T183721Z
LAST-MODIFIED:20241217T183721Z
UID:10008734-1738404000-1738404000@www.trailslibrary.org
SUMMARY:Brewed to Perfection: A Journey into Herbal Tea Blending - Warrensburg Branch
DESCRIPTION:Ages 19+ REGISTRATION REQUIRED: Discover the art of crafting your own custom herbal blends in this hands-on workshop! Whether you’re a tea enthusiast or a complete beginner\, this program will guide you through the process of blending your own aromatic teas to suit your taste and needs. Come for the tea\, stay for the knowledge—and take home a blend made just for you!
URL:https://www.trailslibrary.org/event/brewed-to-perfection-a-journey-into-herbal-tea-blending-warrensburg-branch/
LOCATION:Warrensburg Branch\, 432 N. Holden\, Warrensburg\, Missouri\, 64093\, United States
CATEGORIES:Adult,Adults,Crafts,senior,Seniors
END:VEVENT
BEGIN:VEVENT
DTSTART;TZID=America/New_York:20250201T110000
DTEND;TZID=America/New_York:20250201T110000
DTSTAMP:20260422T173732
CREATED:20241217T173058Z
LAST-MODIFIED:20241217T173058Z
UID:10008573-1738407600-1738407600@www.trailslibrary.org
SUMMARY:Family Movie Matinee - Holden Branch
DESCRIPTION:All Ages: Come to the library and enjoy a family friendly movie.
URL:https://www.trailslibrary.org/event/family-movie-matinee-holden-branch-2/
LOCATION:Holden Branch\, 207 S. Main\, Holden\, MO\, 64040\, United States
CATEGORIES:Adult,Adults,All Ages,Children,Family,Kids,Movie,preteens,senior,Seniors,Teen,Teens,Youth
END:VEVENT
BEGIN:VEVENT
DTSTART;TZID=America/New_York:20250204T160000
DTEND;TZID=America/New_York:20250204T160000
DTSTAMP:20260422T173732
CREATED:20241217T183501Z
LAST-MODIFIED:20241217T183501Z
UID:10008723-1738684800-1738684800@www.trailslibrary.org
SUMMARY:Well-Read Poet's Society - Odessa Branch
DESCRIPTION:Ages 13+: Join us for a cup of tea as we discuss\, read\, and compose poetry.
URL:https://www.trailslibrary.org/event/well-read-poets-society-odessa-branch-2/
LOCATION:Odessa Branch\, 107 W. Mason\, Odessa\, MO\, 64076\, United States
CATEGORIES:Adult,Adults,Pre-Teen,Pre-Teens,senior,Seniors,Teen,Teens
END:VEVENT
BEGIN:VEVENT
DTSTART;TZID=America/New_York:20250205T100000
DTEND;TZID=America/New_York:20250205T100000
DTSTAMP:20260422T173732
CREATED:20241218T174041Z
LAST-MODIFIED:20241218T174041Z
UID:10008839-1738749600-1738749600@www.trailslibrary.org
SUMMARY:Sassy Seniors - Waverly Branch
DESCRIPTION:Ages 55+: Come and join us each month for games \, activities or just hang out.
URL:https://www.trailslibrary.org/event/sassy-seniors-waverly-branch-2/
LOCATION:Waverly Branch\, 203 E. Kelling\, Waverly\, MO\, 64096\, United States
CATEGORIES:senior,Seniors
END:VEVENT
BEGIN:VEVENT
DTSTART;TZID=America/New_York:20250206T163000
DTEND;TZID=America/New_York:20250206T163000
DTSTAMP:20260422T173732
CREATED:20241217T174732Z
LAST-MODIFIED:20241217T174732Z
UID:10008630-1738859400-1738859400@www.trailslibrary.org
SUMMARY:Daughters of the American Revolution  Lafayette-Lexington Chapter - Lexington Branch
DESCRIPTION:Ages 19+: Learn how this wonderful organization continues to honor our nation’s past by serving our communities today.
URL:https://www.trailslibrary.org/event/daughters-of-the-american-revolution-lafayette-lexington-chapter-lexington-branch/
LOCATION:Lexington Branch\, 1008 Main Street\, Lexington\, MO\, 64067\, United States
CATEGORIES:Adult,Adults,senior,Seniors
END:VEVENT
BEGIN:VEVENT
DTSTART;TZID=America/New_York:20250207T093000
DTEND;TZID=America/New_York:20250207T093000
DTSTAMP:20260422T173732
CREATED:20241217T171606Z
LAST-MODIFIED:20241217T171606Z
UID:10008535-1738920600-1738920600@www.trailslibrary.org
SUMMARY:Yoga Fridays - Corder Branch
DESCRIPTION:Ages 19+: Join our gentle chair yoga class designed for all levels\, from beginners to those returning to practice. This supportive environment allows you to experience the benefits of yoga at your own pace\, enhancing your flexibility\, strength\, and relaxation.
URL:https://www.trailslibrary.org/event/yoga-fridays-corder-branch-6/
LOCATION:Corder Branch\, 221 N. Lafayette\, Corder\, MO\, 64021\, United States
CATEGORIES:Adult,Adults,senior,Seniors
END:VEVENT
BEGIN:VEVENT
DTSTART;TZID=America/New_York:20250207T100000
DTEND;TZID=America/New_York:20250207T100000
DTSTAMP:20260422T173732
CREATED:20241217T193003Z
LAST-MODIFIED:20241217T193003Z
UID:10008833-1738922400-1738922400@www.trailslibrary.org
SUMMARY:Valentine Crafting - Warrensburg Branch
DESCRIPTION:All Ages: Get creative and make a fun Valentine’s Day craft to share or display!
URL:https://www.trailslibrary.org/event/valentine-crafting-warrensburg-branch/
LOCATION:Warrensburg Branch\, 432 N. Holden\, Warrensburg\, Missouri\, 64093\, United States
CATEGORIES:Adult,Adults,All Ages,Children,Crafts,Family,Kids,preteens,senior,Seniors,Teen,Teens,Youth
END:VEVENT
BEGIN:VEVENT
DTSTART;TZID=America/New_York:20250208T100000
DTEND;TZID=America/New_York:20250208T100000
DTSTAMP:20260422T173732
CREATED:20241217T164749Z
LAST-MODIFIED:20241217T164749Z
UID:10008460-1739008800-1739008800@www.trailslibrary.org
SUMMARY:Cartoons & Pancakes - Concordia Branch
DESCRIPTION:All Ages: It’s Second Saturday! Let’s enjoy pancakes and cartoons!
URL:https://www.trailslibrary.org/event/cartoons-pancakes-concordia-branch-2/
LOCATION:Concordia Branch\, 813 S Main\, Concordia\, MO\, 64020\, United States
CATEGORIES:Adult,Adults,All Ages,Children,Family,Kids,Movie,preteens,senior,Seniors,Teen,Teens,Youth
END:VEVENT
BEGIN:VEVENT
DTSTART;TZID=America/New_York:20250208T103000
DTEND;TZID=America/New_York:20250208T103000
DTSTAMP:20260422T173732
CREATED:20241217T165803Z
LAST-MODIFIED:20241217T165803Z
UID:10008485-1739010600-1739010600@www.trailslibrary.org
SUMMARY:Book Club - Corder Branch
DESCRIPTION:Ages 19+: Join us at the library for a lively discussion about this month’s book. It’s a great opportunity to share your thoughts and insights with fellow readers.
URL:https://www.trailslibrary.org/event/book-club-corder-branch-3/
LOCATION:Corder Branch\, 221 N. Lafayette\, Corder\, MO\, 64021\, United States
CATEGORIES:Adult,Adults,Book Club,senior,Seniors
END:VEVENT
BEGIN:VEVENT
DTSTART;TZID=America/New_York:20250210T103000
DTEND;TZID=America/New_York:20250210T103000
DTSTAMP:20260422T173732
CREATED:20241217T165803Z
LAST-MODIFIED:20241217T165803Z
UID:10008486-1739183400-1739183400@www.trailslibrary.org
SUMMARY:Book Club - Corder Branch
DESCRIPTION:Ages 19+: Join us at the library for a lively discussion about this month’s book. It’s a great opportunity to share your thoughts and insights with fellow readers.
URL:https://www.trailslibrary.org/event/book-club-corder-branch-4/
LOCATION:Corder Branch\, 221 N. Lafayette\, Corder\, MO\, 64021\, United States
CATEGORIES:Adult,Adults,Book Club,senior,Seniors
END:VEVENT
BEGIN:VEVENT
DTSTART;TZID=America/New_York:20250210T140000
DTEND;TZID=America/New_York:20250210T140000
DTSTAMP:20260422T173732
CREATED:20241218T174038Z
LAST-MODIFIED:20241218T174038Z
UID:10008834-1739196000-1739196000@www.trailslibrary.org
SUMMARY:Crafts Galore - Waverly Branch
DESCRIPTION:All Ages: School is out! Join us and get creative with a fun craft!
URL:https://www.trailslibrary.org/event/crafts-galore-waverly-branch/
LOCATION:Waverly Branch\, 203 E. Kelling\, Waverly\, MO\, 64096\, United States
CATEGORIES:Adult,Adults,All Ages,Children,Crafts,Family,Kids,preteens,senior,Seniors,Teen,Teens,Youth
END:VEVENT
BEGIN:VEVENT
DTSTART;TZID=America/New_York:20250210T163000
DTEND;TZID=America/New_York:20250210T163000
DTSTAMP:20260422T173732
CREATED:20241217T164330Z
LAST-MODIFIED:20241217T164330Z
UID:10008436-1739205000-1739205000@www.trailslibrary.org
SUMMARY:Bake Club - Concordia Branch
DESCRIPTION:Ages 19+: Bring in one of your favorite recipes. Tell us why you love it\, then let’s frame it!
URL:https://www.trailslibrary.org/event/bake-club-concordia-branch/
LOCATION:Concordia Branch\, 813 S Main\, Concordia\, MO\, 64020\, United States
CATEGORIES:Adult,Adults,senior,Seniors
END:VEVENT
BEGIN:VEVENT
DTSTART;TZID=America/New_York:20250210T173000
DTEND;TZID=America/New_York:20250210T173000
DTSTAMP:20260422T173732
CREATED:20241217T185204Z
LAST-MODIFIED:20241217T185204Z
UID:10008795-1739208600-1739208600@www.trailslibrary.org
SUMMARY:NovelTea - Warrensburg Branch
DESCRIPTION:Ages 19+: Join us for a warm cup of tea\, an award winning book\, and great conversations. This month’s pick is The House of the Cerulean Sea by TJ Klune.
URL:https://www.trailslibrary.org/event/noveltea-warrensburg-branch-5/
LOCATION:Warrensburg Branch\, 432 N. Holden\, Warrensburg\, Missouri\, 64093\, United States
CATEGORIES:Adult,Adults,Book Club,senior,Seniors
END:VEVENT
BEGIN:VEVENT
DTSTART;TZID=America/New_York:20250211T100000
DTEND;TZID=America/New_York:20250211T100000
DTSTAMP:20260422T173732
CREATED:20241217T172641Z
LAST-MODIFIED:20241217T172641Z
UID:10008558-1739268000-1739268000@www.trailslibrary.org
SUMMARY:Coffee & Conversations - Holden Branch
DESCRIPTION:Ages 19+: Come join the Trails Staff and members of the community for coffee and conversation.
URL:https://www.trailslibrary.org/event/coffee-conversations-holden-branch-2/
LOCATION:Holden Branch\, 207 S. Main\, Holden\, MO\, 64040\, United States
CATEGORIES:Adult,Adults,senior,Seniors
END:VEVENT
BEGIN:VEVENT
DTSTART;TZID=America/New_York:20250211T150000
DTEND;TZID=America/New_York:20250211T150000
DTSTAMP:20260422T173732
CREATED:20241217T174256Z
LAST-MODIFIED:20241217T174256Z
UID:10008602-1739286000-1739286000@www.trailslibrary.org
SUMMARY:Winter Watercolors - Holden Branch
DESCRIPTION:Ages 19+ REGISTRATION REQUIRED: Come enjoy painting winter watercolor landscapes and abstract snowflake scenes.
URL:https://www.trailslibrary.org/event/winter-watercolors-holden-branch/
LOCATION:Holden Branch\, 207 S. Main\, Holden\, MO\, 64040\, United States
CATEGORIES:Adult,Adults,Crafts,senior,Seniors
END:VEVENT
BEGIN:VEVENT
DTSTART;TZID=America/New_York:20250211T150000
DTEND;TZID=America/New_York:20250211T150000
DTSTAMP:20260422T173732
CREATED:20241217T175348Z
LAST-MODIFIED:20241217T175348Z
UID:10008651-1739286000-1739286000@www.trailslibrary.org
SUMMARY:Tech Tuesday - Lexington Branch
DESCRIPTION:Ages 19+: Beginner’s Class for adults looking to troubleshoot through everyday devices\, such as smart phones\, laptops\, iPads\, and more! Bring your own device!
URL:https://www.trailslibrary.org/event/tech-tuesday-lexington-branch/
LOCATION:Lexington Branch\, 1008 Main Street\, Lexington\, MO\, 64067\, United States
CATEGORIES:Adult,Adults,senior,Seniors,Technology
END:VEVENT
BEGIN:VEVENT
DTSTART;TZID=America/New_York:20250211T170000
DTEND;TZID=America/New_York:20250211T170000
DTSTAMP:20260422T173732
CREATED:20241217T180125Z
LAST-MODIFIED:20241217T180125Z
UID:10008687-1739293200-1739293200@www.trailslibrary.org
SUMMARY:Love is an Open Book Club - Odessa Branch
DESCRIPTION:Ages 19+: Join us for a genre specific book club and dive into the world of romance.
URL:https://www.trailslibrary.org/event/love-is-an-open-book-club-odessa-branch-2/
LOCATION:Odessa Branch\, 107 W. Mason\, Odessa\, MO\, 64076\, United States
CATEGORIES:Adult,Adults,Book Club,senior,Seniors
END:VEVENT
BEGIN:VEVENT
DTSTART;TZID=America/New_York:20250212T180000
DTEND;TZID=America/New_York:20250212T200000
DTSTAMP:20260422T173732
CREATED:20241217T184049Z
LAST-MODIFIED:20250206T153457Z
UID:10008760-1739383200-1739390400@www.trailslibrary.org
SUMMARY:Galentine's Day - Warrensburg Branch
DESCRIPTION:Ages 19+ REGISTRATION REQUIRED: Gather your favorite gals and join us for a fun-filled Galentine’s Day event at the library! Celebrate friendship\, laughter\, and all things girl power with a variety of activities designed to spread the love. Whether you’re crafting friendship bracelets\, decorating heart-shaped cookies\, or testing your knowledge with some girl-centric trivia\, there’s something for everyone to enjoy. Grab your besties (or come make some new ones!) and spend the evening celebrating the amazing women in your life. Don’t miss out on this fun\, creative\, and relaxing event that’s all about the love we share with our closest friends!
URL:https://www.trailslibrary.org/event/galentines-day-warrensburg-branch/
LOCATION:Warrensburg Branch\, 432 N. Holden\, Warrensburg\, Missouri\, 64093\, United States
CATEGORIES:Adult,Adults,senior,Seniors
END:VEVENT
BEGIN:VEVENT
DTSTART;TZID=America/New_York:20250213T140000
DTEND;TZID=America/New_York:20250213T140000
DTSTAMP:20260422T173732
CREATED:20241217T183842Z
LAST-MODIFIED:20241217T183842Z
UID:10008749-1739455200-1739455200@www.trailslibrary.org
SUMMARY:Crafternoon - Warrensburg Branch
DESCRIPTION:Ages 19+: Join us for Crafternoon—a perfect blend of crafting and conversation! Bring a project you’re working on or enjoy our adult coloring supplies while you chat\, relax\, and connect with fellow crafters. Whether you’re here to craft or just socialize\, everyone is welcome!
URL:https://www.trailslibrary.org/event/crafternoon-warrensburg-branch-2/
LOCATION:Warrensburg Branch\, 432 N. Holden\, Warrensburg\, Missouri\, 64093\, United States
CATEGORIES:Adult,Adults,Crafts,senior,Seniors
END:VEVENT
BEGIN:VEVENT
DTSTART;TZID=America/New_York:20250213T150000
DTEND;TZID=America/New_York:20250213T150000
DTSTAMP:20260422T173732
CREATED:20241217T172657Z
LAST-MODIFIED:20241217T172657Z
UID:10008566-1739458800-1739458800@www.trailslibrary.org
SUMMARY:Dungeons & Dragons Club - Holden Branch
DESCRIPTION:Ages 13+ REGISTRATION REQUIRED: Come play Dungeons and Dragons with us.
URL:https://www.trailslibrary.org/event/dungeons-dragons-club-holden-branch-3/
LOCATION:Holden Branch\, 207 S. Main\, Holden\, MO\, 64040\, United States
CATEGORIES:Adult,Adults,Pre-Teen,Pre-Teens,senior,Seniors,Teen,Teens
END:VEVENT
BEGIN:VEVENT
DTSTART;TZID=America/New_York:20250213T180000
DTEND;TZID=America/New_York:20250213T180000
DTSTAMP:20260422T173733
CREATED:20241217T171418Z
LAST-MODIFIED:20241217T171418Z
UID:10008529-1739469600-1739469600@www.trailslibrary.org
SUMMARY:Valentine's Bingo - Corder Branch
DESCRIPTION:All Ages: Join us for a fun-filled Valentine themed bingo night at the library! Enjoy a lively evening of games\, prizes\, and community spirit. Whether you’re a seasoned player or new to bingo\, everyone is welcome. Don’t miss out on the chance to connect with friends and neighbors while trying your luck!
URL:https://www.trailslibrary.org/event/valentines-bingo-corder-branch/
LOCATION:Corder Branch\, 221 N. Lafayette\, Corder\, MO\, 64021\, United States
CATEGORIES:Adult,Adults,All Ages,Children,Family,Kids,preteens,senior,Seniors,Teen,Teens,Youth
END:VEVENT
BEGIN:VEVENT
DTSTART;TZID=America/New_York:20250214T093000
DTEND;TZID=America/New_York:20250214T093000
DTSTAMP:20260422T173733
CREATED:20241217T171606Z
LAST-MODIFIED:20241217T171606Z
UID:10008536-1739525400-1739525400@www.trailslibrary.org
SUMMARY:Yoga Fridays - Corder Branch
DESCRIPTION:Ages 19+: Join our gentle chair yoga class designed for all levels\, from beginners to those returning to practice. This supportive environment allows you to experience the benefits of yoga at your own pace\, enhancing your flexibility\, strength\, and relaxation.
URL:https://www.trailslibrary.org/event/yoga-fridays-corder-branch-7/
LOCATION:Corder Branch\, 221 N. Lafayette\, Corder\, MO\, 64021\, United States
CATEGORIES:Adult,Adults,senior,Seniors
END:VEVENT
BEGIN:VEVENT
DTSTART;TZID=America/New_York:20250218T180000
DTEND;TZID=America/New_York:20250218T180000
DTSTAMP:20260422T173733
CREATED:20241217T175831Z
LAST-MODIFIED:20250128T154150Z
UID:10008670-1739901600-1739901600@www.trailslibrary.org
SUMMARY:Bunco - Odessa Branch
DESCRIPTION:Ages 19+: Bunco\, library edition! All the fun without the having to pay. Whether you are new to the game or an avid player\, join us for the revelry and prizes.
URL:https://www.trailslibrary.org/event/bunco-odessa-branch/
LOCATION:Odessa Branch\, 107 W. Mason\, Odessa\, MO\, 64076\, United States
CATEGORIES:Adult,Adults,senior,Seniors
END:VEVENT
BEGIN:VEVENT
DTSTART;TZID=America/New_York:20250219T160000
DTEND;TZID=America/New_York:20250219T160000
DTSTAMP:20260422T173733
CREATED:20241218T174538Z
LAST-MODIFIED:20241218T174538Z
UID:10008862-1739980800-1739980800@www.trailslibrary.org
SUMMARY:Book Club - Waverly Branch
DESCRIPTION:Ages 19+: Share your favorite read with the group and discover your next favorite.
URL:https://www.trailslibrary.org/event/book-club-waverly-branch-2/
LOCATION:Waverly Branch\, 203 E. Kelling\, Waverly\, MO\, 64096\, United States
CATEGORIES:Adult,Adults,Book Club,senior,Seniors
END:VEVENT
BEGIN:VEVENT
DTSTART;TZID=America/New_York:20250219T170000
DTEND;TZID=America/New_York:20250219T170000
DTSTAMP:20260422T173733
CREATED:20241217T183736Z
LAST-MODIFIED:20241217T183736Z
UID:10008737-1739984400-1739984400@www.trailslibrary.org
SUMMARY:BUNCO - Warrensburg Branch
DESCRIPTION:Ages 19+: Join the fun and excitement of Bunco at the Library—everyone’s welcome\, no experience needed!
URL:https://www.trailslibrary.org/event/bunco-warrensburg-branch-2/
LOCATION:Warrensburg Branch\, 432 N. Holden\, Warrensburg\, Missouri\, 64093\, United States
CATEGORIES:Adult,Adults,senior,Seniors
END:VEVENT
BEGIN:VEVENT
DTSTART;TZID=America/New_York:20250220T150000
DTEND;TZID=America/New_York:20250220T150000
DTSTAMP:20260422T173733
CREATED:20241217T172639Z
LAST-MODIFIED:20241217T172639Z
UID:10008554-1740063600-1740063600@www.trailslibrary.org
SUMMARY:Chess Club - Holden Branch
DESCRIPTION:Ages 13+ REGISTRATION REQUIRED: Come play Chess with us at the library. All skill levels welcome.
URL:https://www.trailslibrary.org/event/chess-club-holden-branch-2/
LOCATION:Holden Branch\, 207 S. Main\, Holden\, MO\, 64040\, United States
CATEGORIES:Adult,Adults,Pre-Teen,Pre-Teens,senior,Seniors,Teen,Teens
END:VEVENT
BEGIN:VEVENT
DTSTART;TZID=America/New_York:20250220T170000
DTEND;TZID=America/New_York:20250220T170000
DTSTAMP:20260422T173733
CREATED:20241217T175816Z
LAST-MODIFIED:20241217T175816Z
UID:10008666-1740070800-1740070800@www.trailslibrary.org
SUMMARY:Book Lovers' Book Club - Odessa Branch
DESCRIPTION:Ages 19+: Adult book club that meets once a month to discuss their book of choice. This month’s book of choice open for discussion is\, ” Molly Brown from Hannibal\, Missouri” by Ken Marks.
URL:https://www.trailslibrary.org/event/book-lovers-book-club-odessa-branch-3/
LOCATION:Odessa Branch\, 107 W. Mason\, Odessa\, MO\, 64076\, United States
CATEGORIES:Adult,Adults,Book Club,senior,Seniors
END:VEVENT
BEGIN:VEVENT
DTSTART;TZID=America/New_York:20250221T093000
DTEND;TZID=America/New_York:20250221T093000
DTSTAMP:20260422T173733
CREATED:20241217T171607Z
LAST-MODIFIED:20241217T171607Z
UID:10008537-1740130200-1740130200@www.trailslibrary.org
SUMMARY:Yoga Fridays - Corder Branch
DESCRIPTION:Ages 19+: Join our gentle chair yoga class designed for all levels\, from beginners to those returning to practice. This supportive environment allows you to experience the benefits of yoga at your own pace\, enhancing your flexibility\, strength\, and relaxation.
URL:https://www.trailslibrary.org/event/yoga-fridays-corder-branch-8/
LOCATION:Corder Branch\, 221 N. Lafayette\, Corder\, MO\, 64021\, United States
CATEGORIES:Adult,Adults,senior,Seniors
END:VEVENT
BEGIN:VEVENT
DTSTART;TZID=America/New_York:20250221T140000
DTEND;TZID=America/New_York:20250221T140000
DTSTAMP:20260422T173733
CREATED:20241218T174039Z
LAST-MODIFIED:20241218T174039Z
UID:10008837-1740146400-1740146400@www.trailslibrary.org
SUMMARY:Games Galore - Waverly Branch
DESCRIPTION:All Ages: Come and choose a game to play with your friends!
URL:https://www.trailslibrary.org/event/games-galore-waverly-branch/
LOCATION:Waverly Branch\, 203 E. Kelling\, Waverly\, MO\, 64096\, United States
CATEGORIES:Adult,Adults,All Ages,Children,Family,Kids,preteens,senior,Seniors,Teen,Teens,Youth
END:VEVENT
BEGIN:VEVENT
DTSTART;TZID=America/New_York:20250222T100000
DTEND;TZID=America/New_York:20250222T100000
DTSTAMP:20260422T173733
CREATED:20241217T184034Z
LAST-MODIFIED:20241217T184034Z
UID:10008754-1740218400-1740218400@www.trailslibrary.org
SUMMARY:Crafty Family Fun - Warrensburg Branch
DESCRIPTION:All Ages: Bring the family and create a fun\, festive craft to celebrate the season!
URL:https://www.trailslibrary.org/event/crafty-family-fun-warrensburg-branch-2/
LOCATION:Warrensburg Branch\, 432 N. Holden\, Warrensburg\, Missouri\, 64093\, United States
CATEGORIES:Adult,Adults,All Ages,Children,Crafts,Family,Kids,preteens,senior,Seniors,Teen,Teens,Youth
END:VEVENT
END:VCALENDAR