BEGIN:VCALENDAR
VERSION:2.0
PRODID:-//Trails Regional Library - ECPv6.15.20//NONSGML v1.0//EN
CALSCALE:GREGORIAN
METHOD:PUBLISH
X-WR-CALNAME:Trails Regional Library
X-ORIGINAL-URL:https://www.trailslibrary.org
X-WR-CALDESC:Events for Trails Regional Library
REFRESH-INTERVAL;VALUE=DURATION:PT1H
X-Robots-Tag:noindex
X-PUBLISHED-TTL:PT1H
BEGIN:VTIMEZONE
TZID:America/New_York
BEGIN:DAYLIGHT
TZOFFSETFROM:-0500
TZOFFSETTO:-0400
TZNAME:EDT
DTSTART:20240310T070000
END:DAYLIGHT
BEGIN:STANDARD
TZOFFSETFROM:-0400
TZOFFSETTO:-0500
TZNAME:EST
DTSTART:20241103T060000
END:STANDARD
BEGIN:DAYLIGHT
TZOFFSETFROM:-0500
TZOFFSETTO:-0400
TZNAME:EDT
DTSTART:20250309T070000
END:DAYLIGHT
BEGIN:STANDARD
TZOFFSETFROM:-0400
TZOFFSETTO:-0500
TZNAME:EST
DTSTART:20251102T060000
END:STANDARD
BEGIN:DAYLIGHT
TZOFFSETFROM:-0500
TZOFFSETTO:-0400
TZNAME:EDT
DTSTART:20260308T070000
END:DAYLIGHT
BEGIN:STANDARD
TZOFFSETFROM:-0400
TZOFFSETTO:-0500
TZNAME:EST
DTSTART:20261101T060000
END:STANDARD
END:VTIMEZONE
BEGIN:VEVENT
DTSTART;TZID=America/New_York:20250301T110000
DTEND;TZID=America/New_York:20250301T110000
DTSTAMP:20260422T155156
CREATED:20241217T173058Z
LAST-MODIFIED:20241217T173058Z
UID:10008574-1740826800-1740826800@www.trailslibrary.org
SUMMARY:Family Movie Matinee - Holden Branch
DESCRIPTION:All Ages: Come to the library and enjoy a family friendly movie.
URL:https://www.trailslibrary.org/event/family-movie-matinee-holden-branch-3/
LOCATION:Holden Branch\, 207 S. Main\, Holden\, MO\, 64040\, United States
CATEGORIES:Adult,Adults,All Ages,Children,Family,Kids,Movie,preteens,senior,Seniors,Teen,Teens,Youth
END:VEVENT
BEGIN:VEVENT
DTSTART;TZID=America/New_York:20250303T100000
DTEND;TZID=America/New_York:20250303T100000
DTSTAMP:20260422T155157
CREATED:20241217T183721Z
LAST-MODIFIED:20241217T183721Z
UID:10008735-1740996000-1740996000@www.trailslibrary.org
SUMMARY:Broken Canvas Craft - Warrensburg Branch
DESCRIPTION:Ages 19+ REGISTRATION REQUIRED: Join us to transform a torn canvas into a unique piece of art using creative techniques and bold designs. Let your imagination run wild as you repurpose old canvases into one-of-a-kind masterpieces!
URL:https://www.trailslibrary.org/event/broken-canvas-craft-warrensburg-branch/
LOCATION:Warrensburg Branch\, 432 N. Holden\, Warrensburg\, Missouri\, 64093\, United States
CATEGORIES:Adult,Adults,Crafts,senior,Seniors
END:VEVENT
BEGIN:VEVENT
DTSTART;TZID=America/New_York:20250304T100000
DTEND;TZID=America/New_York:20250304T100000
DTSTAMP:20260422T155157
CREATED:20250214T152234Z
LAST-MODIFIED:20250214T152234Z
UID:10008867-1741082400-1741082400@www.trailslibrary.org
SUMMARY:Computer Basics Support Hour - Knob Noster Branch
DESCRIPTION:Ages 55+: Join us for a supportive\, drop-in session where seniors can get help with any technology-related questions or challenges they’re facing. Whether you need assistance with a computer\, smartphone\, or navigating the internet\, our friendly library staff are here to help!
URL:https://www.trailslibrary.org/event/computer-basics-support-hour-knob-noster-branch/
LOCATION:Knob Noster Branch\, 202 N. Adams\, Knob Noster\, MO\, 65336\, United States
CATEGORIES:Adult,Adults,senior,Seniors,Technology
END:VEVENT
BEGIN:VEVENT
DTSTART;TZID=America/New_York:20250304T160000
DTEND;TZID=America/New_York:20250304T160000
DTSTAMP:20260422T155157
CREATED:20241217T183515Z
LAST-MODIFIED:20241217T183515Z
UID:10008724-1741104000-1741104000@www.trailslibrary.org
SUMMARY:Well-Read Poet's Society - Odessa Branch
DESCRIPTION:Ages 13+: Join us for a cup of tea as we discuss\, read\, and compose poetry.
URL:https://www.trailslibrary.org/event/well-read-poets-society-odessa-branch-3/
LOCATION:Odessa Branch\, 107 W. Mason\, Odessa\, MO\, 64076\, United States
CATEGORIES:Adult,Adults,Pre-Teen,Pre-Teens,senior,Seniors,Teen,Teens
END:VEVENT
BEGIN:VEVENT
DTSTART;TZID=America/New_York:20250305T100000
DTEND;TZID=America/New_York:20250305T100000
DTSTAMP:20260422T155157
CREATED:20241218T174041Z
LAST-MODIFIED:20241218T174041Z
UID:10008840-1741168800-1741168800@www.trailslibrary.org
SUMMARY:Sassy Seniors - Waverly Branch
DESCRIPTION:Ages 55+: Come and join us each month for games \, activities or just hang out.
URL:https://www.trailslibrary.org/event/sassy-seniors-waverly-branch-3/
LOCATION:Waverly Branch\, 203 E. Kelling\, Waverly\, MO\, 64096\, United States
CATEGORIES:senior,Seniors
END:VEVENT
BEGIN:VEVENT
DTSTART;TZID=America/New_York:20250307T093000
DTEND;TZID=America/New_York:20250307T093000
DTSTAMP:20260422T155157
CREATED:20241217T171650Z
LAST-MODIFIED:20241217T171650Z
UID:10008539-1741339800-1741339800@www.trailslibrary.org
SUMMARY:Yoga Fridays - Corder Branch
DESCRIPTION:Ages 19+: Join our gentle chair yoga class designed for all levels\, from beginners to those returning to practice. This supportive environment allows you to experience the benefits of yoga at your own pace\, enhancing your flexibility\, strength\, and relaxation.
URL:https://www.trailslibrary.org/event/yoga-fridays-corder-branch-10/
LOCATION:Corder Branch\, 221 N. Lafayette\, Corder\, MO\, 64021\, United States
CATEGORIES:Adult,Adults,senior,Seniors
END:VEVENT
BEGIN:VEVENT
DTSTART;TZID=America/New_York:20250307T160000
DTEND;TZID=America/New_York:20250307T160000
DTSTAMP:20260422T155157
CREATED:20241217T185404Z
LAST-MODIFIED:20241217T185404Z
UID:10008799-1741363200-1741363200@www.trailslibrary.org
SUMMARY:Snap\, Crackle\, & Pop - Warrensburg Branch
DESCRIPTION:All Ages: Join us for a delicious celebration of National Cereal Day! We will be making crispy rice treats and then the fun begins. Add sprinkles or mini chocolate chips to create your own personalized treat. We’ve got all the fixings for a tasty snack and a great time!
URL:https://www.trailslibrary.org/event/snap-crackle-pop-warrensburg-branch/
LOCATION:Warrensburg Branch\, 432 N. Holden\, Warrensburg\, Missouri\, 64093\, United States
CATEGORIES:Adult,Adults,All Ages,Children,Crafts,Family,Kids,preteens,senior,Seniors,Teen,Teens,Youth
END:VEVENT
BEGIN:VEVENT
DTSTART;TZID=America/New_York:20250308T100000
DTEND;TZID=America/New_York:20250308T100000
DTSTAMP:20260422T155157
CREATED:20241217T164948Z
LAST-MODIFIED:20241217T164948Z
UID:10008461-1741428000-1741428000@www.trailslibrary.org
SUMMARY:Cartoons & Pancakes - Concordia Branch
DESCRIPTION:All Ages: It’s Second Saturday! Let’s enjoy pancakes and cartoons!
URL:https://www.trailslibrary.org/event/cartoons-pancakes-concordia-branch-3/
LOCATION:Concordia Branch\, 813 S Main\, Concordia\, MO\, 64020\, United States
CATEGORIES:Adult,Adults,All Ages,Children,Family,Kids,Movie,preteens,senior,Seniors,Teen,Teens,Youth
END:VEVENT
BEGIN:VEVENT
DTSTART;TZID=America/New_York:20250308T103000
DTEND;TZID=America/New_York:20250308T103000
DTSTAMP:20260422T155157
CREATED:20241217T165803Z
LAST-MODIFIED:20241217T165803Z
UID:10008487-1741429800-1741429800@www.trailslibrary.org
SUMMARY:Book Club - Corder Branch
DESCRIPTION:Ages 19+: Join us at the library for a lively discussion about this month’s book. It’s a great opportunity to share your thoughts and insights with fellow readers.
URL:https://www.trailslibrary.org/event/book-club-corder-branch-5/
LOCATION:Corder Branch\, 221 N. Lafayette\, Corder\, MO\, 64021\, United States
CATEGORIES:Adult,Adults,Book Club,senior,Seniors
END:VEVENT
BEGIN:VEVENT
DTSTART;TZID=America/New_York:20250308T110000
DTEND;TZID=America/New_York:20250308T110000
DTSTAMP:20260422T155157
CREATED:20241217T180725Z
LAST-MODIFIED:20241217T180725Z
UID:10008703-1741431600-1741431600@www.trailslibrary.org
SUMMARY:Spring into Crafts - Odessa Branch
DESCRIPTION:Adults 19+ REGISTRATION REQUIRED: Get ready for the new season with fun spring crafts.
URL:https://www.trailslibrary.org/event/spring-into-crafts-odessa-branch/
LOCATION:Odessa Branch\, 107 W. Mason\, Odessa\, MO\, 64076\, United States
CATEGORIES:Adult,Adults,Crafts,senior,Seniors
END:VEVENT
BEGIN:VEVENT
DTSTART;TZID=America/New_York:20250310T100000
DTEND;TZID=America/New_York:20250310T100000
DTSTAMP:20260422T155157
CREATED:20241217T185404Z
LAST-MODIFIED:20241217T185404Z
UID:10008800-1741600800-1741600800@www.trailslibrary.org
SUMMARY:Spa Day at the Library - Warrensburg Branch
DESCRIPTION:All Ages: Relax and unwind by mixing up your very own handmade spa creations.
URL:https://www.trailslibrary.org/event/spa-day-at-the-library-warrensburg-branch/
LOCATION:Warrensburg Branch\, 432 N. Holden\, Warrensburg\, Missouri\, 64093\, United States
CATEGORIES:Adult,Adults,All Ages,Children,Crafts,Family,Kids,preteens,senior,Seniors,Teen,Teens,Youth
END:VEVENT
BEGIN:VEVENT
DTSTART;TZID=America/New_York:20250310T103000
DTEND;TZID=America/New_York:20250310T103000
DTSTAMP:20260422T155157
CREATED:20241217T165803Z
LAST-MODIFIED:20241217T165803Z
UID:10008488-1741602600-1741602600@www.trailslibrary.org
SUMMARY:Book Club - Corder Branch
DESCRIPTION:Ages 19+: Join us at the library for a lively discussion about this month’s book. It’s a great opportunity to share your thoughts and insights with fellow readers.
URL:https://www.trailslibrary.org/event/book-club-corder-branch-6/
LOCATION:Corder Branch\, 221 N. Lafayette\, Corder\, MO\, 64021\, United States
CATEGORIES:Adult,Adults,Book Club,senior,Seniors
END:VEVENT
BEGIN:VEVENT
DTSTART;TZID=America/New_York:20250310T163000
DTEND;TZID=America/New_York:20250310T163000
DTSTAMP:20260422T155157
CREATED:20241217T164330Z
LAST-MODIFIED:20241217T164330Z
UID:10008437-1741624200-1741624200@www.trailslibrary.org
SUMMARY:Bake Club - Concordia Branch
DESCRIPTION:Ages 19+: Bring in one of your oldest cookbooks. We can compare how tastes have changed through the years.
URL:https://www.trailslibrary.org/event/bake-club-concordia-branch-2/
LOCATION:Concordia Branch\, 813 S Main\, Concordia\, MO\, 64020\, United States
CATEGORIES:Adult,Adults,senior,Seniors
END:VEVENT
BEGIN:VEVENT
DTSTART;TZID=America/New_York:20250310T173000
DTEND;TZID=America/New_York:20250310T173000
DTSTAMP:20260422T155157
CREATED:20241217T185203Z
LAST-MODIFIED:20241217T185203Z
UID:10008792-1741627800-1741627800@www.trailslibrary.org
SUMMARY:NovelTea - Warrensburg Branch
DESCRIPTION:Ages 19+: Join us for a warm cup of tea\, an award winning book\, and great conversations This month’s pick is Happiness Falls by Angie Kim.
URL:https://www.trailslibrary.org/event/noveltea-warrensburg-branch-2/
LOCATION:Warrensburg Branch\, 432 N. Holden\, Warrensburg\, Missouri\, 64093\, United States
CATEGORIES:Adult,Adults,Book Club,senior,Seniors
END:VEVENT
BEGIN:VEVENT
DTSTART;TZID=America/New_York:20250311T100000
DTEND;TZID=America/New_York:20250311T100000
DTSTAMP:20260422T155157
CREATED:20241217T172641Z
LAST-MODIFIED:20241217T172641Z
UID:10008560-1741687200-1741687200@www.trailslibrary.org
SUMMARY:Coffee & Conversations - Holden Branch
DESCRIPTION:Ages 19+: Come join the Trails Staff and members of the community for coffee and conversation.
URL:https://www.trailslibrary.org/event/coffee-conversations-holden-branch-4/
LOCATION:Holden Branch\, 207 S. Main\, Holden\, MO\, 64040\, United States
CATEGORIES:Adult,Adults,senior,Seniors
END:VEVENT
BEGIN:VEVENT
DTSTART;TZID=America/New_York:20250311T150000
DTEND;TZID=America/New_York:20250311T150000
DTSTAMP:20260422T155157
CREATED:20241217T173258Z
LAST-MODIFIED:20241217T173258Z
UID:10008581-1741705200-1741705200@www.trailslibrary.org
SUMMARY:St. Patrick's Day Ceramic Gnomes Painting - Holden Branch
DESCRIPTION:Ages 19+ REGISTRATION REQUIRED: Come paint adorable ceramic gnomes for St. Patrick’s Day.
URL:https://www.trailslibrary.org/event/st-patricks-day-ceramic-gnomes-painting-holden-branch/
LOCATION:Holden Branch\, 207 S. Main\, Holden\, MO\, 64040\, United States
CATEGORIES:Adult,Adults,Crafts,senior,Seniors
END:VEVENT
BEGIN:VEVENT
DTSTART;TZID=America/New_York:20250311T150000
DTEND;TZID=America/New_York:20250311T150000
DTSTAMP:20260422T155157
CREATED:20241217T175349Z
LAST-MODIFIED:20241217T175349Z
UID:10008652-1741705200-1741705200@www.trailslibrary.org
SUMMARY:Tech Tuesday - Lexington Branch
DESCRIPTION:Ages 19+: Beginner’s Class for adults looking to troubleshoot through everyday devices\, such as smart phones\, laptops\, iPads\, and more! Bring your own device!
URL:https://www.trailslibrary.org/event/tech-tuesday-lexington-branch-2/
LOCATION:Lexington Branch\, 1008 Main Street\, Lexington\, MO\, 64067\, United States
CATEGORIES:Adult,Adults,senior,Seniors,Technology
END:VEVENT
BEGIN:VEVENT
DTSTART;TZID=America/New_York:20250311T153000
DTEND;TZID=America/New_York:20250311T153000
DTSTAMP:20260422T155157
CREATED:20241217T184651Z
LAST-MODIFIED:20241217T184651Z
UID:10008772-1741707000-1741707000@www.trailslibrary.org
SUMMARY:Lego Block Party - Warrensburg Branch
DESCRIPTION:All Ages: Calling all builders! Join us for a LEGO building extravaganza. Create your dream world out of colorful bricks in this imaginative\, drop-in block party.
URL:https://www.trailslibrary.org/event/lego-block-party-warrensburg-branch-2/
LOCATION:Warrensburg Branch\, 432 N. Holden\, Warrensburg\, Missouri\, 64093\, United States
CATEGORIES:Adult,Adults,All Ages,Children,Family,Kids,preteens,senior,Seniors,Teen,Teens,Youth
END:VEVENT
BEGIN:VEVENT
DTSTART;TZID=America/New_York:20250311T170000
DTEND;TZID=America/New_York:20250311T170000
DTSTAMP:20260422T155157
CREATED:20241217T180125Z
LAST-MODIFIED:20241217T180125Z
UID:10008688-1741712400-1741712400@www.trailslibrary.org
SUMMARY:Love is an Open Book Club - Odessa Branch
DESCRIPTION:Ages 19+: join us for a genre specific book club and dive into the world of romance.
URL:https://www.trailslibrary.org/event/love-is-an-open-book-club-odessa-branch-3/
LOCATION:Odessa Branch\, 107 W. Mason\, Odessa\, MO\, 64076\, United States
CATEGORIES:Adult,Adults,Book Club,senior,Seniors
END:VEVENT
BEGIN:VEVENT
DTSTART;TZID=America/New_York:20250312T120000
DTEND;TZID=America/New_York:20250312T120000
DTSTAMP:20260422T155157
CREATED:20241217T184727Z
LAST-MODIFIED:20241217T184727Z
UID:10008776-1741780800-1741780800@www.trailslibrary.org
SUMMARY:Morse Code Scavenger Hunt - Warrensburg Branch
DESCRIPTION:All Ages: Decode secret messages and embark on a scavenger hunt around the library! Can you crack the code and uncover the hidden treasures?
URL:https://www.trailslibrary.org/event/morse-code-scavenger-hunt-warrensburg-branch/
LOCATION:Warrensburg Branch\, 432 N. Holden\, Warrensburg\, Missouri\, 64093\, United States
CATEGORIES:Adult,Adults,All Ages,Children,Family,Kids,preteens,senior,Seniors,Teen,Teens,Youth
END:VEVENT
BEGIN:VEVENT
DTSTART;TZID=America/New_York:20250312T140000
DTEND;TZID=America/New_York:20250312T140000
DTSTAMP:20260422T155157
CREATED:20241218T174041Z
LAST-MODIFIED:20241218T174041Z
UID:10008843-1741788000-1741788000@www.trailslibrary.org
SUMMARY:St. Patrick's Day Craft - Waverly Branch
DESCRIPTION:All Ages: Come and make a Leprechaun for St. Patrick’s Day.
URL:https://www.trailslibrary.org/event/st-patricks-day-craft-waverly-branch/
LOCATION:Waverly Branch\, 203 E. Kelling\, Waverly\, MO\, 64096\, United States
CATEGORIES:Adult,Adults,All Ages,Children,Crafts,Family,Kids,preteens,senior,Seniors,Teen,Teens,Youth
END:VEVENT
BEGIN:VEVENT
DTSTART;TZID=America/New_York:20250313T130000
DTEND;TZID=America/New_York:20250313T130000
DTSTAMP:20260422T155157
CREATED:20241217T184250Z
LAST-MODIFIED:20241217T184250Z
UID:10008761-1741870800-1741870800@www.trailslibrary.org
SUMMARY:Game Day Extravaganza - Warrensburg Branch
DESCRIPTION:All Ages: Ready to roll the dice? Join us for a day of games galore! From oversized backyard classics like giant Jenga and cornhole to tabletop favorites and board games\, there’s something for every age and skill level. Challenge your friends\, make new ones\, and let the games begin!
URL:https://www.trailslibrary.org/event/game-day-extravaganza-warrensburg-branch/
LOCATION:Warrensburg Branch\, 432 N. Holden\, Warrensburg\, Missouri\, 64093\, United States
CATEGORIES:Adult,Adults,All Ages,Children,Family,Kids,preteens,senior,Seniors,Teen,Teens,Youth
END:VEVENT
BEGIN:VEVENT
DTSTART;TZID=America/New_York:20250313T140000
DTEND;TZID=America/New_York:20250313T140000
DTSTAMP:20260422T155157
CREATED:20241217T183842Z
LAST-MODIFIED:20241217T183842Z
UID:10008750-1741874400-1741874400@www.trailslibrary.org
SUMMARY:Crafternoon - Warrensburg Branch
DESCRIPTION:Ages 19+: Join us for Crafternoon—a perfect blend of crafting and conversation! Bring a project you’re working on or enjoy our adult coloring supplies while you chat\, relax\, and connect with fellow crafters. Whether you’re here to craft or just socialize\, everyone is welcome!
URL:https://www.trailslibrary.org/event/crafternoon-warrensburg-branch-3/
LOCATION:Warrensburg Branch\, 432 N. Holden\, Warrensburg\, Missouri\, 64093\, United States
CATEGORIES:Adult,Adults,Crafts,senior,Seniors
END:VEVENT
BEGIN:VEVENT
DTSTART;TZID=America/New_York:20250313T150000
DTEND;TZID=America/New_York:20250313T150000
DTSTAMP:20260422T155157
CREATED:20241217T172856Z
LAST-MODIFIED:20241217T172856Z
UID:10008568-1741878000-1741878000@www.trailslibrary.org
SUMMARY:Dungeons & Dragons Club - Holden Branch
DESCRIPTION:Ages 13+ REGISTRATION REQUIRED: Come play Dungeons and Dragons with us.
URL:https://www.trailslibrary.org/event/dungeons-dragons-club-holden-branch-5/
LOCATION:Holden Branch\, 207 S. Main\, Holden\, MO\, 64040\, United States
CATEGORIES:Adult,Adults,Pre-Teen,Pre-Teens,senior,Seniors,Teen,Teens
END:VEVENT
BEGIN:VEVENT
DTSTART;TZID=America/New_York:20250314T093000
DTEND;TZID=America/New_York:20250314T093000
DTSTAMP:20260422T155157
CREATED:20241217T171651Z
LAST-MODIFIED:20241217T171651Z
UID:10008540-1741944600-1741944600@www.trailslibrary.org
SUMMARY:Yoga Fridays - Corder Branch
DESCRIPTION:Ages 19+: Join our gentle chair yoga class designed for all levels\, from beginners to those returning to practice. This supportive environment allows you to experience the benefits of yoga at your own pace\, enhancing your flexibility\, strength\, and relaxation.
URL:https://www.trailslibrary.org/event/yoga-fridays-corder-branch-11/
LOCATION:Corder Branch\, 221 N. Lafayette\, Corder\, MO\, 64021\, United States
CATEGORIES:Adult,Adults,senior,Seniors
END:VEVENT
BEGIN:VEVENT
DTSTART;TZID=America/New_York:20250314T100000
DTEND;TZID=America/New_York:20250314T100000
DTSTAMP:20260422T155157
CREATED:20241217T183718Z
LAST-MODIFIED:20241217T183718Z
UID:10008726-1741946400-1741946400@www.trailslibrary.org
SUMMARY:"Udder"-ly Fantastic - Warrensburg Branch
DESCRIPTION:All Ages: Get your hands to work in this fun and interactive workshop! Learn how to turn simple ingredients into delicious homemade butter and cream cheese.
URL:https://www.trailslibrary.org/event/udder-ly-fantastic-warrensburg-branch/
LOCATION:Warrensburg Branch\, 432 N. Holden\, Warrensburg\, Missouri\, 64093\, United States
CATEGORIES:Adult,Adults,All Ages,Children,Crafts,Family,Kids,preteens,senior,Seniors,Teen,Teens,Youth
END:VEVENT
BEGIN:VEVENT
DTSTART;TZID=America/New_York:20250317T173000
DTEND;TZID=America/New_York:20250317T173000
DTSTAMP:20260422T155157
CREATED:20241217T183841Z
LAST-MODIFIED:20241217T183841Z
UID:10008746-1742232600-1742232600@www.trailslibrary.org
SUMMARY:Craftastic - Warrensburg Branch
DESCRIPTION:Ages 19+ REGISTRATION REQUIRED: Join fellow crafters at Trails to create an adorable spring watercolor bunny! All materials will be provided\, so bring your creativity and enjoy crafting with others.
URL:https://www.trailslibrary.org/event/craftastic-warrensburg-branch-3/
LOCATION:Warrensburg Branch\, 432 N. Holden\, Warrensburg\, Missouri\, 64093\, United States
CATEGORIES:Adult,Adults,Crafts,senior,Seniors
END:VEVENT
BEGIN:VEVENT
DTSTART;TZID=America/New_York:20250318T180000
DTEND;TZID=America/New_York:20250318T180000
DTSTAMP:20260422T155157
CREATED:20241217T184049Z
LAST-MODIFIED:20241217T184049Z
UID:10008758-1742320800-1742320800@www.trailslibrary.org
SUMMARY:First Ladies - Warrensburg Branch
DESCRIPTION:Ages 19+: This program focuses on all of the First Ladies of the United States and will teach you some interesting tidbits about each woman that will encourage you to want to find out even more about them.\nFor reference: We always learn about the US presidents in school\, but what about the First Ladies? This program focuses on all of the First Ladies of the United States from Martha Washington to Melania Trump. You will learn some interesting tidbits about each woman that will\, hopefully\, encourage you to want to find out more about them.
URL:https://www.trailslibrary.org/event/first-ladies-warrensburg-branch/
LOCATION:Warrensburg Branch\, 432 N. Holden\, Warrensburg\, Missouri\, 64093\, United States
CATEGORIES:Adult,Adults,senior,Seniors
END:VEVENT
BEGIN:VEVENT
DTSTART;TZID=America/New_York:20250319T130000
DTEND;TZID=America/New_York:20250319T130000
DTSTAMP:20260422T155157
CREATED:20241217T165818Z
LAST-MODIFIED:20241217T165818Z
UID:10008493-1742389200-1742389200@www.trailslibrary.org
SUMMARY:Edible Bugs with Paul Landkamer - Corder Branch
DESCRIPTION:All Ages: Landkamer is an entomophagist\, an expert in the world of cooking and eating insects. He serves his bug goodies at events hosted by libraries and nature reserves\, sharing his unique dishes and love for the natural world.
URL:https://www.trailslibrary.org/event/edible-bugs-with-paul-landkamer-corder-branch/
LOCATION:Corder Branch\, 221 N. Lafayette\, Corder\, MO\, 64021\, United States
CATEGORIES:Adult,Adults,All Ages,Children,Family,Guest Presenter,Kids,preteens,senior,Seniors,Teen,Teens,Youth
END:VEVENT
BEGIN:VEVENT
DTSTART;TZID=America/New_York:20250319T140000
DTEND;TZID=America/New_York:20250319T140000
DTSTAMP:20260422T155157
CREATED:20241217T184453Z
LAST-MODIFIED:20241217T184453Z
UID:10008767-1742392800-1742392800@www.trailslibrary.org
SUMMARY:Game On! - Warrensburg Branch
DESCRIPTION:All Ages: Bring a friend or a parent and join us for a fun-filled game day at the library! Enjoy oversized yard games\, plus a variety of board and card games for all ages.
URL:https://www.trailslibrary.org/event/game-on-warrensburg-branch-6/
LOCATION:Warrensburg Branch\, 432 N. Holden\, Warrensburg\, Missouri\, 64093\, United States
CATEGORIES:Adult,Adults,All Ages,Children,Family,Kids,preteens,senior,Seniors,Teen,Teens,Youth
END:VEVENT
END:VCALENDAR