BEGIN:VCALENDAR
VERSION:2.0
PRODID:-//Trails Regional Library - ECPv6.15.20//NONSGML v1.0//EN
CALSCALE:GREGORIAN
METHOD:PUBLISH
X-ORIGINAL-URL:https://www.trailslibrary.org
X-WR-CALDESC:Events for Trails Regional Library
REFRESH-INTERVAL;VALUE=DURATION:PT1H
X-Robots-Tag:noindex
X-PUBLISHED-TTL:PT1H
BEGIN:VTIMEZONE
TZID:America/New_York
BEGIN:DAYLIGHT
TZOFFSETFROM:-0500
TZOFFSETTO:-0400
TZNAME:EDT
DTSTART:20240310T070000
END:DAYLIGHT
BEGIN:STANDARD
TZOFFSETFROM:-0400
TZOFFSETTO:-0500
TZNAME:EST
DTSTART:20241103T060000
END:STANDARD
BEGIN:DAYLIGHT
TZOFFSETFROM:-0500
TZOFFSETTO:-0400
TZNAME:EDT
DTSTART:20250309T070000
END:DAYLIGHT
BEGIN:STANDARD
TZOFFSETFROM:-0400
TZOFFSETTO:-0500
TZNAME:EST
DTSTART:20251102T060000
END:STANDARD
BEGIN:DAYLIGHT
TZOFFSETFROM:-0500
TZOFFSETTO:-0400
TZNAME:EDT
DTSTART:20260308T070000
END:DAYLIGHT
BEGIN:STANDARD
TZOFFSETFROM:-0400
TZOFFSETTO:-0500
TZNAME:EST
DTSTART:20261101T060000
END:STANDARD
END:VTIMEZONE
BEGIN:VEVENT
DTSTART;TZID=America/New_York:20250502T093000
DTEND;TZID=America/New_York:20250502T093000
DTSTAMP:20260422T125123
CREATED:20241217T171710Z
LAST-MODIFIED:20241217T171710Z
UID:10008547-1746178200-1746178200@www.trailslibrary.org
SUMMARY:Yoga Fridays - Corder Branch
DESCRIPTION:Ages 19+: Join our gentle chair yoga class designed for all levels\, from beginners to those returning to practice. This supportive environment allows you to experience the benefits of yoga at your own pace\, enhancing your flexibility\, strength\, and relaxation.
URL:https://www.trailslibrary.org/event/yoga-fridays-corder-branch-18/
LOCATION:Corder Branch\, 221 N. Lafayette\, Corder\, MO\, 64021\, United States
CATEGORIES:Adult,Adults,senior,Seniors
END:VEVENT
BEGIN:VEVENT
DTSTART;TZID=America/New_York:20250506T100000
DTEND;TZID=America/New_York:20250506T100000
DTSTAMP:20260422T125123
CREATED:20250214T152234Z
LAST-MODIFIED:20250214T152234Z
UID:10008869-1746525600-1746525600@www.trailslibrary.org
SUMMARY:Computer Basics Support Hour - Knob Noster Branch
DESCRIPTION:Ages 55+: Join us for a supportive\, drop-in session where seniors can get help with any technology-related questions or challenges they’re facing. Whether you need assistance with a computer\, smartphone\, or navigating the internet\, our friendly library staff are here to help!
URL:https://www.trailslibrary.org/event/computer-basics-support-hour-knob-noster-branch-3/
LOCATION:Knob Noster Branch\, 202 N. Adams\, Knob Noster\, MO\, 65336\, United States
CATEGORIES:Adult,Adults,senior,Seniors,Technology
END:VEVENT
BEGIN:VEVENT
DTSTART;TZID=America/New_York:20250507T100000
DTEND;TZID=America/New_York:20250507T100000
DTSTAMP:20260422T125123
CREATED:20241218T174041Z
LAST-MODIFIED:20241218T174041Z
UID:10008842-1746612000-1746612000@www.trailslibrary.org
SUMMARY:Sassy Seniors - Waverly Branch
DESCRIPTION:Ages 55+: Come and join us each month for games \, activities or just hang out.
URL:https://www.trailslibrary.org/event/sassy-seniors-waverly-branch-5/
LOCATION:Waverly Branch\, 203 E. Kelling\, Waverly\, MO\, 64096\, United States
CATEGORIES:senior,Seniors
END:VEVENT
BEGIN:VEVENT
DTSTART;TZID=America/New_York:20250508T140000
DTEND;TZID=America/New_York:20250508T140000
DTSTAMP:20260422T125123
CREATED:20241217T184033Z
LAST-MODIFIED:20241217T184033Z
UID:10008752-1746712800-1746712800@www.trailslibrary.org
SUMMARY:Crafternoon - Warrensburg Branch
DESCRIPTION:Ages 19+: Join us for Crafternoon—a perfect blend of crafting and conversation! Bring a project you’re working on or enjoy our adult coloring supplies while you chat\, relax\, and connect with fellow crafters. Whether you’re here to craft or just socialize\, everyone is welcome!
URL:https://www.trailslibrary.org/event/crafternoon-warrensburg-branch-5/
LOCATION:Warrensburg Branch\, 432 N. Holden\, Warrensburg\, Missouri\, 64093\, United States
CATEGORIES:Adult,Adults,Crafts,senior,Seniors
END:VEVENT
BEGIN:VEVENT
DTSTART;TZID=America/New_York:20250509T093000
DTEND;TZID=America/New_York:20250509T093000
DTSTAMP:20260422T125123
CREATED:20241217T171710Z
LAST-MODIFIED:20241217T171710Z
UID:10008548-1746783000-1746783000@www.trailslibrary.org
SUMMARY:Yoga Fridays - Corder Branch
DESCRIPTION:Ages 19+: Join our gentle chair yoga class designed for all levels\, from beginners to those returning to practice. This supportive environment allows you to experience the benefits of yoga at your own pace\, enhancing your flexibility\, strength\, and relaxation.
URL:https://www.trailslibrary.org/event/yoga-fridays-corder-branch-19/
LOCATION:Corder Branch\, 221 N. Lafayette\, Corder\, MO\, 64021\, United States
CATEGORIES:Adult,Adults,senior,Seniors
END:VEVENT
BEGIN:VEVENT
DTSTART;TZID=America/New_York:20250510T100000
DTEND;TZID=America/New_York:20250510T100000
DTSTAMP:20260422T125123
CREATED:20241217T164948Z
LAST-MODIFIED:20241217T164948Z
UID:10008463-1746871200-1746871200@www.trailslibrary.org
SUMMARY:Cartoons & Pancakes - Concordia Branch
DESCRIPTION:All Ages: It’s Second Saturday! Let’s enjoy pancakes and cartoons!
URL:https://www.trailslibrary.org/event/cartoons-pancakes-concordia-branch-5/
LOCATION:Concordia Branch\, 813 S Main\, Concordia\, MO\, 64020\, United States
CATEGORIES:Adult,Adults,All Ages,Children,Family,Kids,Movie,preteens,senior,Seniors,Teen,Teens,Youth
END:VEVENT
BEGIN:VEVENT
DTSTART;TZID=America/New_York:20250510T103000
DTEND;TZID=America/New_York:20250510T103000
DTSTAMP:20260422T125123
CREATED:20241217T165818Z
LAST-MODIFIED:20241217T165818Z
UID:10008491-1746873000-1746873000@www.trailslibrary.org
SUMMARY:Book Club - Corder Branch
DESCRIPTION:Ages 19+: Join us at the library for a lively discussion about this month’s book. It’s a great opportunity to share your thoughts and insights with fellow readers.
URL:https://www.trailslibrary.org/event/book-club-corder-branch-9/
LOCATION:Corder Branch\, 221 N. Lafayette\, Corder\, MO\, 64021\, United States
CATEGORIES:Adult,Adults,Book Club,senior,Seniors
END:VEVENT
BEGIN:VEVENT
DTSTART;TZID=America/New_York:20250512T103000
DTEND;TZID=America/New_York:20250512T103000
DTSTAMP:20260422T125123
CREATED:20241217T165818Z
LAST-MODIFIED:20241217T165818Z
UID:10008492-1747045800-1747045800@www.trailslibrary.org
SUMMARY:Book Club - Corder Branch
DESCRIPTION:Ages 19+: Join us at the library for a lively discussion about this month’s book. It’s a great opportunity to share your thoughts and insights with fellow readers.
URL:https://www.trailslibrary.org/event/book-club-corder-branch-10/
LOCATION:Corder Branch\, 221 N. Lafayette\, Corder\, MO\, 64021\, United States
CATEGORIES:Adult,Adults,Book Club,senior,Seniors
END:VEVENT
BEGIN:VEVENT
DTSTART;TZID=America/New_York:20250512T173000
DTEND;TZID=America/New_York:20250512T173000
DTSTAMP:20260422T125123
CREATED:20241217T185203Z
LAST-MODIFIED:20241217T185203Z
UID:10008794-1747071000-1747071000@www.trailslibrary.org
SUMMARY:NovelTea - Warrensburg Branch
DESCRIPTION:Ages 19+: Join us for a warm cup of tea\, an award winning book\, and great conversations. This month’s pick is Here One Moment by Liane Moriarty.
URL:https://www.trailslibrary.org/event/noveltea-warrensburg-branch-4/
LOCATION:Warrensburg Branch\, 432 N. Holden\, Warrensburg\, Missouri\, 64093\, United States
CATEGORIES:Adult,Adults,Book Club,senior,Seniors
END:VEVENT
BEGIN:VEVENT
DTSTART;TZID=America/New_York:20250513T170000
DTEND;TZID=America/New_York:20250513T170000
DTSTAMP:20260422T125123
CREATED:20241217T180325Z
LAST-MODIFIED:20241217T180325Z
UID:10008690-1747155600-1747155600@www.trailslibrary.org
SUMMARY:Love is an Open Book Club - Odessa Branch
DESCRIPTION:Ages 19+: Join us for a genre specific book club and dive into the world of romance.
URL:https://www.trailslibrary.org/event/love-is-an-open-book-club-odessa-branch-5/
LOCATION:Odessa Branch\, 107 W. Mason\, Odessa\, MO\, 64076\, United States
CATEGORIES:Adult,Adults,Book Club,senior,Seniors
END:VEVENT
BEGIN:VEVENT
DTSTART;TZID=America/New_York:20250515T170000
DTEND;TZID=America/New_York:20250515T170000
DTSTAMP:20260422T125123
CREATED:20241217T175830Z
LAST-MODIFIED:20241217T175830Z
UID:10008669-1747328400-1747328400@www.trailslibrary.org
SUMMARY:Book Lovers' Book Club - Odessa Branch
DESCRIPTION:Ages 19+: Adult book club that meets once a month to discuss their book of choice. This month’s book of choice open for discussion is\, ” Deep\, Down\, Dark” by Haector Tobar.
URL:https://www.trailslibrary.org/event/book-lovers-book-club-odessa-branch-6/
LOCATION:Odessa Branch\, 107 W. Mason\, Odessa\, MO\, 64076\, United States
CATEGORIES:Adult,Adults,Book Club,senior,Seniors
END:VEVENT
BEGIN:VEVENT
DTSTART;TZID=America/New_York:20250516T093000
DTEND;TZID=America/New_York:20250516T093000
DTSTAMP:20260422T125123
CREATED:20241217T171721Z
LAST-MODIFIED:20241217T171721Z
UID:10008549-1747387800-1747387800@www.trailslibrary.org
SUMMARY:Yoga Fridays - Corder Branch
DESCRIPTION:Ages 19+: Join our gentle chair yoga class designed for all levels\, from beginners to those returning to practice. This supportive environment allows you to experience the benefits of yoga at your own pace\, enhancing your flexibility\, strength\, and relaxation.
URL:https://www.trailslibrary.org/event/yoga-fridays-corder-branch-20/
LOCATION:Corder Branch\, 221 N. Lafayette\, Corder\, MO\, 64021\, United States
CATEGORIES:Adult,Adults,senior,Seniors
END:VEVENT
BEGIN:VEVENT
DTSTART;TZID=America/New_York:20250519T163000
DTEND;TZID=America/New_York:20250519T163000
DTSTAMP:20260422T125123
CREATED:20241217T164333Z
LAST-MODIFIED:20241217T164333Z
UID:10008443-1747672200-1747672200@www.trailslibrary.org
SUMMARY:Book Club - Concordia Branch
DESCRIPTION:Ages 19+: Four Winds by Kristin Hannah
URL:https://www.trailslibrary.org/event/book-club-concordia-branch-5/
LOCATION:Concordia Branch\, 813 S Main\, Concordia\, MO\, 64020\, United States
CATEGORIES:Adult,Adults,Book Club,senior,Seniors
END:VEVENT
BEGIN:VEVENT
DTSTART;TZID=America/New_York:20250521T160000
DTEND;TZID=America/New_York:20250521T160000
DTSTAMP:20260422T125123
CREATED:20241218T174706Z
LAST-MODIFIED:20241218T174706Z
UID:10008865-1747843200-1747843200@www.trailslibrary.org
SUMMARY:Book Club - Waverly Branch
DESCRIPTION:Ages 19+: Share your favorite read with the group and discover your next favorite.
URL:https://www.trailslibrary.org/event/book-club-waverly-branch-5/
LOCATION:Waverly Branch\, 203 E. Kelling\, Waverly\, MO\, 64096\, United States
CATEGORIES:Adult,Adults,Book Club,senior,Seniors
END:VEVENT
BEGIN:VEVENT
DTSTART;TZID=America/New_York:20250523T093000
DTEND;TZID=America/New_York:20250523T093000
DTSTAMP:20260422T125123
CREATED:20241217T171721Z
LAST-MODIFIED:20241217T171721Z
UID:10008550-1747992600-1747992600@www.trailslibrary.org
SUMMARY:Yoga Fridays - Corder Branch
DESCRIPTION:Ages 19+: Join our gentle chair yoga class designed for all levels\, from beginners to those returning to practice. This supportive environment allows you to experience the benefits of yoga at your own pace\, enhancing your flexibility\, strength\, and relaxation.
URL:https://www.trailslibrary.org/event/yoga-fridays-corder-branch-21/
LOCATION:Corder Branch\, 221 N. Lafayette\, Corder\, MO\, 64021\, United States
CATEGORIES:Adult,Adults,senior,Seniors
END:VEVENT
BEGIN:VEVENT
DTSTART;TZID=America/New_York:20250523T103000
DTEND;TZID=America/New_York:20250523T103000
DTSTAMP:20260422T125123
CREATED:20241217T170019Z
LAST-MODIFIED:20241217T170019Z
UID:10008498-1747996200-1747996200@www.trailslibrary.org
SUMMARY:Knots and Needles - Corder Branch
DESCRIPTION:Ages 13+: Bring your favorite project—be it crocheting\, knitting\, sewing\, or any other craft—and connect with fellow enthusiasts.  Whether you’re a seasoned crafter or just starting out\, come relax\, learn\, and make new friends!
URL:https://www.trailslibrary.org/event/knots-and-needles-corder-branch-5/
LOCATION:Corder Branch\, 221 N. Lafayette\, Corder\, MO\, 64021\, United States
CATEGORIES:Adult,Adults,Crafts,Pre-Teen,Pre-Teens,senior,Seniors,Teen,Teens
END:VEVENT
BEGIN:VEVENT
DTSTART;TZID=America/New_York:20250526T090000
DTEND;TZID=America/New_York:20250526T090000
DTSTAMP:20260422T125123
CREATED:20241217T183752Z
LAST-MODIFIED:20241217T183752Z
UID:10008743-1748250000-1748250000@www.trailslibrary.org
SUMMARY:Coffee & Connections - Warrensburg Branch
DESCRIPTION:Ages 19+: Need help but not sure where to start? Enjoy a cup of coffee and chat with representatives from local agencies.
URL:https://www.trailslibrary.org/event/coffee-connections-warrensburg-branch-8/
LOCATION:Warrensburg Branch\, 432 N. Holden\, Warrensburg\, Missouri\, 64093\, United States
CATEGORIES:Adult,Adults,senior,Seniors
END:VEVENT
BEGIN:VEVENT
DTSTART;TZID=America/New_York:20250527T170000
DTEND;TZID=America/New_York:20250527T170000
DTSTAMP:20260422T125123
CREATED:20250501T195240Z
LAST-MODIFIED:20250501T195241Z
UID:10008876-1748365200-1748365200@www.trailslibrary.org
SUMMARY:Book Club - Knob Noster Branch
DESCRIPTION:Ages 19+: Join us for the monthly book discussion.
URL:https://www.trailslibrary.org/event/book-club-knob-noster-branch-5/
LOCATION:Knob Noster Branch\, 202 N. Adams\, Knob Noster\, MO\, 65336\, United States
CATEGORIES:Adult,Adults,Book Club,senior,Seniors
END:VEVENT
BEGIN:VEVENT
DTSTART;TZID=America/New_York:20250528T100000
DTEND;TZID=America/New_York:20250528T100000
DTSTAMP:20260422T125123
CREATED:20241217T175348Z
LAST-MODIFIED:20241217T175348Z
UID:10008650-1748426400-1748426400@www.trailslibrary.org
SUMMARY:Summer Reading Preview! - Lexington Branch
DESCRIPTION:All Ages: Welcome back Summer Reading! Hear all about what’s in store for the summer. We’ll have arts & crafts tables plus games galore!
URL:https://www.trailslibrary.org/event/summer-reading-preview-lexington-branch/
LOCATION:Lexington Branch\, 1008 Main Street\, Lexington\, MO\, 64067\, United States
CATEGORIES:Adult,Adults,All Ages,Children,Crafts,Family,Kids,preteens,senior,Seniors,Teen,Teens,Youth
END:VEVENT
BEGIN:VEVENT
DTSTART;TZID=America/New_York:20250528T133000
DTEND;TZID=America/New_York:20250528T133000
DTSTAMP:20260422T125123
CREATED:20241217T174730Z
LAST-MODIFIED:20241217T174730Z
UID:10008627-1748439000-1748439000@www.trailslibrary.org
SUMMARY:Any Book Book Club - Lexington Branch
DESCRIPTION:Ages 19+: Not your ordinary book club!  Join us and as everyone shares information with the group about a book they really enjoyed. Needing a suggestion for your next read? Find it here\, we all love recommendations!
URL:https://www.trailslibrary.org/event/any-book-book-club-lexington-branch-4/
LOCATION:Lexington Branch\, 1008 Main Street\, Lexington\, MO\, 64067\, United States
CATEGORIES:Adult,Adults,Book Club,senior,Seniors
END:VEVENT
BEGIN:VEVENT
DTSTART;TZID=America/New_York:20250530T093000
DTEND;TZID=America/New_York:20250530T093000
DTSTAMP:20260422T125123
CREATED:20241217T171721Z
LAST-MODIFIED:20241217T171721Z
UID:10008551-1748597400-1748597400@www.trailslibrary.org
SUMMARY:Yoga Fridays - Corder Branch
DESCRIPTION:Ages 19+: Join our gentle chair yoga class designed for all levels\, from beginners to those returning to practice. This supportive environment allows you to experience the benefits of yoga at your own pace\, enhancing your flexibility\, strength\, and relaxation.
URL:https://www.trailslibrary.org/event/yoga-fridays-corder-branch-22/
LOCATION:Corder Branch\, 221 N. Lafayette\, Corder\, MO\, 64021\, United States
CATEGORIES:Adult,Adults,senior,Seniors
END:VEVENT
END:VCALENDAR