BEGIN:VCALENDAR
VERSION:2.0
PRODID:-//Trails Regional Library - ECPv6.15.20//NONSGML v1.0//EN
CALSCALE:GREGORIAN
METHOD:PUBLISH
X-WR-CALNAME:Trails Regional Library
X-ORIGINAL-URL:https://www.trailslibrary.org
X-WR-CALDESC:Events for Trails Regional Library
REFRESH-INTERVAL;VALUE=DURATION:PT1H
X-Robots-Tag:noindex
X-PUBLISHED-TTL:PT1H
BEGIN:VTIMEZONE
TZID:America/New_York
BEGIN:DAYLIGHT
TZOFFSETFROM:-0500
TZOFFSETTO:-0400
TZNAME:EDT
DTSTART:20240310T070000
END:DAYLIGHT
BEGIN:STANDARD
TZOFFSETFROM:-0400
TZOFFSETTO:-0500
TZNAME:EST
DTSTART:20241103T060000
END:STANDARD
BEGIN:DAYLIGHT
TZOFFSETFROM:-0500
TZOFFSETTO:-0400
TZNAME:EDT
DTSTART:20250309T070000
END:DAYLIGHT
BEGIN:STANDARD
TZOFFSETFROM:-0400
TZOFFSETTO:-0500
TZNAME:EST
DTSTART:20251102T060000
END:STANDARD
BEGIN:DAYLIGHT
TZOFFSETFROM:-0500
TZOFFSETTO:-0400
TZNAME:EDT
DTSTART:20260308T070000
END:DAYLIGHT
BEGIN:STANDARD
TZOFFSETFROM:-0400
TZOFFSETTO:-0500
TZNAME:EST
DTSTART:20261101T060000
END:STANDARD
END:VTIMEZONE
BEGIN:VEVENT
DTSTART;TZID=America/New_York:20250903T100000
DTEND;TZID=America/New_York:20250903T100000
DTSTAMP:20260422T015016
CREATED:20250811T150338Z
LAST-MODIFIED:20250811T150338Z
UID:10009381-1756893600-1756893600@www.trailslibrary.org
SUMMARY:Sassy Seniors - Waverly Branch
DESCRIPTION:Ages 55+: Join us each month for games and activites\, or just hang out.
URL:https://www.trailslibrary.org/event/sassy-seniors-waverly-branch-9/
LOCATION:Waverly Branch\, 203 E. Kelling\, Waverly\, MO\, 64096\, United States
CATEGORIES:senior,Seniors
END:VEVENT
BEGIN:VEVENT
DTSTART;TZID=America/New_York:20250903T173000
DTEND;TZID=America/New_York:20250903T173000
DTSTAMP:20260422T015016
CREATED:20250811T150159Z
LAST-MODIFIED:20250811T150159Z
UID:10009375-1756920600-1756920600@www.trailslibrary.org
SUMMARY:Watermelon Soiree - Warrensburg Branch
DESCRIPTION:Ages 19+: Celebrate summer’s juiciest fruit by creating a watermelon spritzer\, watermelon salad\, and a watermelon sorbet-perfect for chilling out and enjoying good company.
URL:https://www.trailslibrary.org/event/watermelon-soiree-warrensburg-branch/
LOCATION:Warrensburg Branch\, 432 N. Holden\, Warrensburg\, Missouri\, 64093\, United States
CATEGORIES:Adult,Adults,senior,Seniors
END:VEVENT
BEGIN:VEVENT
DTSTART;TZID=America/New_York:20250904T140000
DTEND;TZID=America/New_York:20250904T140000
DTSTAMP:20260422T015016
CREATED:20250811T150058Z
LAST-MODIFIED:20250811T150058Z
UID:10009353-1756994400-1756994400@www.trailslibrary.org
SUMMARY:Crafternoon - Warrensburg Branch
DESCRIPTION:Ages 19+: Join us for Crafternoon—a perfect blend of crafting and conversation! Bring a project you’re working on or enjoy our adult coloring supplies while you chat\, relax\, and connect with fellow crafters. Whether you’re here to craft or just socialize\, everyone is welcome!
URL:https://www.trailslibrary.org/event/crafternoon-warrensburg-branch-9/
LOCATION:Warrensburg Branch\, 432 N. Holden\, Warrensburg\, Missouri\, 64093\, United States
CATEGORIES:Adult,Adults,Crafts,senior,Seniors
END:VEVENT
BEGIN:VEVENT
DTSTART;TZID=America/New_York:20250905T093000
DTEND;TZID=America/New_York:20250905T093000
DTSTAMP:20260422T015016
CREATED:20250811T145358Z
LAST-MODIFIED:20250811T145358Z
UID:10009281-1757064600-1757064600@www.trailslibrary.org
SUMMARY:Yoga Fridays - Corder Branch
DESCRIPTION:Ages 19+: Join our gentle chair yoga class designed for all levels\, from beginners to those returning to practice.
URL:https://www.trailslibrary.org/event/yoga-fridays-corder-branch-35/
LOCATION:Corder Branch\, 221 N. Lafayette\, Corder\, MO\, 64021\, United States
CATEGORIES:Adult,Adults,senior,Seniors
END:VEVENT
BEGIN:VEVENT
DTSTART;TZID=America/New_York:20250905T180000
DTEND;TZID=America/New_York:20250905T180000
DTSTAMP:20260422T015016
CREATED:20250811T150006Z
LAST-MODIFIED:20250811T150006Z
UID:10009339-1757095200-1757095200@www.trailslibrary.org
SUMMARY:Labyrinths and Lizards - Odessa Branch
DESCRIPTION:Ages 19+: Join us for an evening of Table-Top Role Playing Games!
URL:https://www.trailslibrary.org/event/labyrinths-and-lizards-odessa-branch-4/
LOCATION:Odessa Branch\, 107 W. Mason\, Odessa\, MO\, 64076\, United States
CATEGORIES:Adult,Adults,senior,Seniors
END:VEVENT
BEGIN:VEVENT
DTSTART;TZID=America/New_York:20250908T130000
DTEND;TZID=America/New_York:20250908T130000
DTSTAMP:20260422T015016
CREATED:20250811T145413Z
LAST-MODIFIED:20250811T145413Z
UID:10009285-1757336400-1757336400@www.trailslibrary.org
SUMMARY:Move to the Beat - Corder Branch
DESCRIPTION:Ages 19+: Join us for cardio drumming with yoga balls!
URL:https://www.trailslibrary.org/event/move-to-the-beat-corder-branch-5/
LOCATION:Corder Branch\, 221 N. Lafayette\, Corder\, MO\, 64021\, United States
CATEGORIES:Adult,Adults,senior,Seniors
END:VEVENT
BEGIN:VEVENT
DTSTART;TZID=America/New_York:20250908T173000
DTEND;TZID=America/New_York:20250908T173000
DTSTAMP:20260422T015016
CREATED:20250811T150113Z
LAST-MODIFIED:20250811T150113Z
UID:10009358-1757352600-1757352600@www.trailslibrary.org
SUMMARY:Noveltea - Warrensburg Branch
DESCRIPTION:Ages 19+: Join us for a cup of tea\, an award winning book\, and great conversations. This month’s pick is Junie by Erin Crosby Eckstine.
URL:https://www.trailslibrary.org/event/noveltea-warrensburg-branch-9/
LOCATION:Warrensburg Branch\, 432 N. Holden\, Warrensburg\, Missouri\, 64093\, United States
CATEGORIES:Adult,Adults,Book Club,senior,Seniors
END:VEVENT
BEGIN:VEVENT
DTSTART;TZID=America/New_York:20250909T100000
DTEND;TZID=America/New_York:20250909T100000
DTSTAMP:20260422T015016
CREATED:20250811T145724Z
LAST-MODIFIED:20250811T145724Z
UID:10009295-1757412000-1757412000@www.trailslibrary.org
SUMMARY:Coffee & Conversations - Holden Branch
DESCRIPTION:Ages 19+: Come join the Trails Staff and members of the community for coffee and conversation.
URL:https://www.trailslibrary.org/event/coffee-conversations-holden-branch-12/
LOCATION:Holden Branch\, 207 S. Main\, Holden\, MO\, 64040\, United States
CATEGORIES:Adult,Adults,senior,Seniors
END:VEVENT
BEGIN:VEVENT
DTSTART;TZID=America/New_York:20250909T100000
DTEND;TZID=America/New_York:20250909T100000
DTSTAMP:20260422T015016
CREATED:20250811T150114Z
LAST-MODIFIED:20250811T150114Z
UID:10009359-1757412000-1757412000@www.trailslibrary.org
SUMMARY:One-on-One TECHtorials - Warrensburg Branch
DESCRIPTION:Ages 19+ REGISTRATION REQUIRED: Get personalized tech help with your smartphone\, tablet\, or laptop—perfect for learning the basics or building your confidence. Appointments are required and must be scheduled at least 24 hours in advance.
URL:https://www.trailslibrary.org/event/one-on-one-techtorials-warrensburg-branch-14/
LOCATION:Warrensburg Branch\, 432 N. Holden\, Warrensburg\, Missouri\, 64093\, United States
CATEGORIES:Adult,Adults,senior,Seniors,Technology
END:VEVENT
BEGIN:VEVENT
DTSTART;TZID=America/New_York:20250909T150000
DTEND;TZID=America/New_York:20250909T150000
DTSTAMP:20260422T015016
CREATED:20250811T145726Z
LAST-MODIFIED:20250811T145726Z
UID:10009297-1757430000-1757430000@www.trailslibrary.org
SUMMARY:Craft and Chill - Holden Branch
DESCRIPTION:Ages 19+ REGISTRATION REQUIRED: Unleash your creativity at our twice monthly crafting program. Each session will feature a new art project. All supplies provided\, no experience necessary.
URL:https://www.trailslibrary.org/event/craft-and-chill-holden-branch/
LOCATION:Holden Branch\, 207 S. Main\, Holden\, MO\, 64040\, United States
CATEGORIES:Adult,Adults,Crafts,senior,Seniors
END:VEVENT
BEGIN:VEVENT
DTSTART;TZID=America/New_York:20250909T150000
DTEND;TZID=America/New_York:20250909T150000
DTSTAMP:20260422T015016
CREATED:20250811T145817Z
LAST-MODIFIED:20250811T145817Z
UID:10009310-1757430000-1757430000@www.trailslibrary.org
SUMMARY:Art That Sticks - Knob Noster Branch
DESCRIPTION:Ages 19+: Try a variety of techniques to turn flat marbles into unique magnets!
URL:https://www.trailslibrary.org/event/art-that-sticks-knob-noster-branch/
LOCATION:Knob Noster Branch\, 202 N. Adams\, Knob Noster\, MO\, 65336\, United States
CATEGORIES:Adult,Adults,Crafts,senior,Seniors
END:VEVENT
BEGIN:VEVENT
DTSTART;TZID=America/New_York:20250909T150000
DTEND;TZID=America/New_York:20250909T150000
DTSTAMP:20260422T015016
CREATED:20250811T145912Z
LAST-MODIFIED:20250811T145912Z
UID:10009324-1757430000-1757430000@www.trailslibrary.org
SUMMARY:Tech Tuesday - Lexington Branch
DESCRIPTION:Ages 19+: Beginner’s class for adults looking to troubleshoot through everyday devices\, such as smartphones\, laptops\, iPads\, and more! Bring your own device!
URL:https://www.trailslibrary.org/event/tech-tuesday-lexington-branch-6/
LOCATION:Lexington Branch\, 1008 Main Street\, Lexington\, MO\, 64067\, United States
CATEGORIES:Adult,Adults,senior,Seniors,Technology
END:VEVENT
BEGIN:VEVENT
DTSTART;TZID=America/New_York:20250909T170000
DTEND;TZID=America/New_York:20250909T170000
DTSTAMP:20260422T015016
CREATED:20250811T145951Z
LAST-MODIFIED:20250811T145951Z
UID:10009336-1757437200-1757437200@www.trailslibrary.org
SUMMARY:Love is an Open Book Club - Odessa Branch
DESCRIPTION:Ages 19+: Join us for a genre specific book club and dive into the world of romance.
URL:https://www.trailslibrary.org/event/love-is-an-open-book-club-odessa-branch-9/
LOCATION:Odessa Branch\, 107 W. Mason\, Odessa\, MO\, 64076\, United States
CATEGORIES:Adult,Adults,Book Club,senior,Seniors
END:VEVENT
BEGIN:VEVENT
DTSTART;TZID=America/New_York:20250910T170000
DTEND;TZID=America/New_York:20250910T170000
DTSTAMP:20260422T015016
CREATED:20250811T150057Z
LAST-MODIFIED:20250811T150057Z
UID:10009350-1757523600-1757523600@www.trailslibrary.org
SUMMARY:BINGO - Warrensburg Branch
DESCRIPTION:All Ages: Get ready for a thrilling Bingo Night at the library! Join us for games\, fabulous library prizes\, and fun as we bring the excitement of bingo to our community.
URL:https://www.trailslibrary.org/event/bingo-warrensburg-branch-4/
LOCATION:Warrensburg Branch\, 432 N. Holden\, Warrensburg\, Missouri\, 64093\, United States
CATEGORIES:Adult,Adults,All Ages,Children,Family,Kids,preteens,senior,Seniors,Teen,Teens,Youth
END:VEVENT
BEGIN:VEVENT
DTSTART;TZID=America/New_York:20250911T130000
DTEND;TZID=America/New_York:20250911T130000
DTSTAMP:20260422T015016
CREATED:20250811T145912Z
LAST-MODIFIED:20250811T145912Z
UID:10009325-1757595600-1757595600@www.trailslibrary.org
SUMMARY:Any Book Book Club - Lexington Branch
DESCRIPTION:Ages 19+: That’s right\, any book! Share a favorite read with others. You might discover your next favorite!
URL:https://www.trailslibrary.org/event/any-book-book-club-lexington-branch-6/
LOCATION:Lexington Branch\, 1008 Main Street\, Lexington\, MO\, 64067\, United States
CATEGORIES:Adult,Adults,Book Club,senior,Seniors
END:VEVENT
BEGIN:VEVENT
DTSTART;TZID=America/New_York:20250912T090000
DTEND;TZID=America/New_York:20250912T090000
DTSTAMP:20260422T015016
CREATED:20250811T150159Z
LAST-MODIFIED:20250811T150159Z
UID:10009374-1757667600-1757667600@www.trailslibrary.org
SUMMARY:Tech Made Simple - Warrensburg Branch
DESCRIPTION:Ages 19+: Get comfortable using a computer with this hands-on introduction to essential skills. Laptops will be available\, or feel free to bring your own.
URL:https://www.trailslibrary.org/event/tech-made-simple-warrensburg-branch/
LOCATION:Warrensburg Branch\, 432 N. Holden\, Warrensburg\, Missouri\, 64093\, United States
CATEGORIES:Adult,Adults,senior,Seniors,Technology
END:VEVENT
BEGIN:VEVENT
DTSTART;TZID=America/New_York:20250912T093000
DTEND;TZID=America/New_York:20250912T093000
DTSTAMP:20260422T015016
CREATED:20250811T145412Z
LAST-MODIFIED:20250811T145412Z
UID:10009282-1757669400-1757669400@www.trailslibrary.org
SUMMARY:Yoga Fridays - Corder Branch
DESCRIPTION:Ages 19+: Join our gentle chair yoga class designed for all levels\, from beginners to those returning to practice.
URL:https://www.trailslibrary.org/event/yoga-fridays-corder-branch-36/
LOCATION:Corder Branch\, 221 N. Lafayette\, Corder\, MO\, 64021\, United States
CATEGORIES:Adult,Adults,senior,Seniors
END:VEVENT
BEGIN:VEVENT
DTSTART;TZID=America/New_York:20250913T100000
DTEND;TZID=America/New_York:20250913T100000
DTSTAMP:20260422T015016
CREATED:20250811T145318Z
LAST-MODIFIED:20250811T145318Z
UID:10009270-1757757600-1757757600@www.trailslibrary.org
SUMMARY:Cartoons & Pancakes - Concordia Branch
DESCRIPTION:All Ages: It’s Second Saturday! Let’s enjoy pancakes and cartoons!
URL:https://www.trailslibrary.org/event/cartoons-pancakes-concordia-branch-9/
LOCATION:Concordia Branch\, 813 S Main\, Concordia\, MO\, 64020\, United States
CATEGORIES:Adult,Adults,All Ages,Children,Family,Kids,Movie,preteens,senior,Seniors,Teen,Teens,Youth
END:VEVENT
BEGIN:VEVENT
DTSTART;TZID=America/New_York:20250915T101500
DTEND;TZID=America/New_York:20250915T101500
DTSTAMP:20260422T015016
CREATED:20250811T145358Z
LAST-MODIFIED:20250811T145358Z
UID:10009280-1757931300-1757931300@www.trailslibrary.org
SUMMARY:Book Club - Corder Branch
DESCRIPTION:Ages 19+: Join us at the library for a lively discussion about this month’s book.
URL:https://www.trailslibrary.org/event/book-club-corder-branch-14/
LOCATION:Corder Branch\, 221 N. Lafayette\, Corder\, MO\, 64021\, United States
CATEGORIES:Adult,Adults,Book Club,senior,Seniors
END:VEVENT
BEGIN:VEVENT
DTSTART;TZID=America/New_York:20250915T130000
DTEND;TZID=America/New_York:20250915T130000
DTSTAMP:20260422T015016
CREATED:20250811T145413Z
LAST-MODIFIED:20250811T145413Z
UID:10009286-1757941200-1757941200@www.trailslibrary.org
SUMMARY:Move to the Beat - Corder Branch
DESCRIPTION:Ages 19+: Join us for cardio drumming with yoga balls!
URL:https://www.trailslibrary.org/event/move-to-the-beat-corder-branch-6/
LOCATION:Corder Branch\, 221 N. Lafayette\, Corder\, MO\, 64021\, United States
CATEGORIES:Adult,Adults,senior,Seniors
END:VEVENT
BEGIN:VEVENT
DTSTART;TZID=America/New_York:20250915T170000
DTEND;TZID=America/New_York:20250915T170000
DTSTAMP:20260422T015016
CREATED:20250811T150058Z
LAST-MODIFIED:20250811T150058Z
UID:10009352-1757955600-1757955600@www.trailslibrary.org
SUMMARY:Craftastic - Warrensburg Branch
DESCRIPTION:Ages 19+ REGISTRATION REQUIRED: Join fellow crafters at Trails for a fun and creative DIY project! All materials will be provided\, so bring your creativity and enjoy crafting with others.
URL:https://www.trailslibrary.org/event/craftastic-warrensburg-branch-7/
LOCATION:Warrensburg Branch\, 432 N. Holden\, Warrensburg\, Missouri\, 64093\, United States
CATEGORIES:Adult,Adults,Crafts,senior,Seniors
END:VEVENT
BEGIN:VEVENT
DTSTART;TZID=America/New_York:20250916T100000
DTEND;TZID=America/New_York:20250916T100000
DTSTAMP:20260422T015016
CREATED:20250811T150114Z
LAST-MODIFIED:20250811T150114Z
UID:10009360-1758016800-1758016800@www.trailslibrary.org
SUMMARY:One-on-One TECHtorials - Warrensburg Branch
DESCRIPTION:Ages 19+ REGISTRATION REQUIRED: Get personalized tech help with your smartphone\, tablet\, or laptop—perfect for learning the basics or building your confidence. Appointments are required and must be scheduled at least 24 hours in advance.
URL:https://www.trailslibrary.org/event/one-on-one-techtorials-warrensburg-branch-15/
LOCATION:Warrensburg Branch\, 432 N. Holden\, Warrensburg\, Missouri\, 64093\, United States
CATEGORIES:Adult,Adults,senior,Seniors,Technology
END:VEVENT
BEGIN:VEVENT
DTSTART;TZID=America/New_York:20250917T140000
DTEND;TZID=America/New_York:20250917T140000
DTSTAMP:20260422T015016
CREATED:20250811T145802Z
LAST-MODIFIED:20250811T145802Z
UID:10009305-1758117600-1758117600@www.trailslibrary.org
SUMMARY:Brick Builders - Knob Noster Branch
DESCRIPTION:All Ages: Drop by and build using our large collection of classic LEGO bricks or our DUPLO blocks\, plus a variety of baseplates to create on. Use your imagination and bring your ideas to life!
URL:https://www.trailslibrary.org/event/brick-builders-knob-noster-branch/
LOCATION:Knob Noster Branch\, 202 N. Adams\, Knob Noster\, MO\, 65336\, United States
CATEGORIES:Adult,Adults,All Ages,Children,Family,Kids,preteens,senior,Seniors,Teen,Teens,Youth
END:VEVENT
BEGIN:VEVENT
DTSTART;TZID=America/New_York:20250917T140000
DTEND;TZID=America/New_York:20250917T140000
DTSTAMP:20260422T015016
CREATED:20250811T150058Z
LAST-MODIFIED:20250811T150058Z
UID:10009351-1758117600-1758117600@www.trailslibrary.org
SUMMARY:Cardmaking - Warrensburg Branch
DESCRIPTION:Ages 19+ REGISTRATION REQUIRED: Cover a journal/notebook with cardmaking supplies. Perfect for doodles\, dreams and daily thoughts!
URL:https://www.trailslibrary.org/event/cardmaking-warrensburg-branch-2/
LOCATION:Warrensburg Branch\, 432 N. Holden\, Warrensburg\, Missouri\, 64093\, United States
CATEGORIES:Adult,Adults,Crafts,senior,Seniors
END:VEVENT
BEGIN:VEVENT
DTSTART;TZID=America/New_York:20250917T150000
DTEND;TZID=America/New_York:20250917T150000
DTSTAMP:20260422T015016
CREATED:20250811T145726Z
LAST-MODIFIED:20250811T145726Z
UID:10009299-1758121200-1758121200@www.trailslibrary.org
SUMMARY:Halloween Diorama Shadow Box - Holden Branch
DESCRIPTION:Ages 19+ REGISTRATION REQUIRED: Learn about the art of making miniatures with Susan Goodwin. Each participant will make and take a small Halloween diorama. Space is limited due to supplies\, please register in advance.
URL:https://www.trailslibrary.org/event/halloween-diorama-shadow-box-holden-branch/
LOCATION:Holden Branch\, 207 S. Main\, Holden\, MO\, 64040\, United States
CATEGORIES:Adult,Adults,Crafts,Guest Presenter,senior,Seniors
END:VEVENT
BEGIN:VEVENT
DTSTART;TZID=America/New_York:20250918T160000
DTEND;TZID=America/New_York:20250918T160000
DTSTAMP:20260422T015016
CREATED:20250811T145817Z
LAST-MODIFIED:20250811T145817Z
UID:10009314-1758211200-1758211200@www.trailslibrary.org
SUMMARY:Bubble Blowing Competition - Knob Noster Branch
DESCRIPTION:All Ages: Bring your best bubble blowing skills and compete for goofy awards and bragging rights.
URL:https://www.trailslibrary.org/event/bubble-blowing-competition-knob-noster-branch/
LOCATION:Knob Noster Branch\, 202 N. Adams\, Knob Noster\, MO\, 65336\, United States
CATEGORIES:Adult,Adults,All Ages,Children,Family,Kids,preteens,senior,Seniors,Teen,Teens,Youth
END:VEVENT
BEGIN:VEVENT
DTSTART;TZID=America/New_York:20250918T170000
DTEND;TZID=America/New_York:20250918T170000
DTSTAMP:20260422T015016
CREATED:20250811T150005Z
LAST-MODIFIED:20250811T150005Z
UID:10009337-1758214800-1758214800@www.trailslibrary.org
SUMMARY:Book Lovers' Book Club - Odessa Branch
DESCRIPTION:Ages 19+: Adult book club that meets once a month to discuss their book of choice. This month’s book of choice open for discussion is “Good Dirt” by Charmaine Walkerson.
URL:https://www.trailslibrary.org/event/book-lovers-book-club-odessa-branch-10/
LOCATION:Odessa Branch\, 107 W. Mason\, Odessa\, MO\, 64076\, United States
CATEGORIES:Adult,Adults,Book Club,senior,Seniors
END:VEVENT
BEGIN:VEVENT
DTSTART;TZID=America/New_York:20250919T093000
DTEND;TZID=America/New_York:20250919T093000
DTSTAMP:20260422T015016
CREATED:20250811T145413Z
LAST-MODIFIED:20250811T145413Z
UID:10009283-1758274200-1758274200@www.trailslibrary.org
SUMMARY:Yoga Fridays - Corder Branch
DESCRIPTION:Ages 19+: Join our gentle chair yoga class designed for all levels\, from beginners to those returning to practice.
URL:https://www.trailslibrary.org/event/yoga-fridays-corder-branch-37/
LOCATION:Corder Branch\, 221 N. Lafayette\, Corder\, MO\, 64021\, United States
CATEGORIES:Adult,Adults,senior,Seniors
END:VEVENT
BEGIN:VEVENT
DTSTART;TZID=America/New_York:20250919T110000
DTEND;TZID=America/New_York:20250919T110000
DTSTAMP:20260422T015016
CREATED:20250811T145832Z
LAST-MODIFIED:20250811T145832Z
UID:10009315-1758279600-1758279600@www.trailslibrary.org
SUMMARY:Dotted Bottle Art - Knob Noster Branch
DESCRIPTION:Ages 19+: Hand-painted\, upcycled bottles turned into vibrant décor.
URL:https://www.trailslibrary.org/event/dotted-bottle-art-knob-noster-branch/
LOCATION:Knob Noster Branch\, 202 N. Adams\, Knob Noster\, MO\, 65336\, United States
CATEGORIES:Adult,Adults,Crafts,senior,Seniors
END:VEVENT
BEGIN:VEVENT
DTSTART;TZID=America/New_York:20250920T140000
DTEND;TZID=America/New_York:20250920T140000
DTSTAMP:20260422T015016
CREATED:20250811T150006Z
LAST-MODIFIED:20250811T150006Z
UID:10009340-1758376800-1758376800@www.trailslibrary.org
SUMMARY:Bunco - Odessa Branch
DESCRIPTION:Ages 19+: Bunco\, library edition! All the fun without the having to pay. Whether you are new to the game or an avid player\, join us for the revelry and prizes.
URL:https://www.trailslibrary.org/event/bunco-odessa-branch-4/
LOCATION:Odessa Branch\, 107 W. Mason\, Odessa\, MO\, 64076\, United States
CATEGORIES:Adult,Adults,senior,Seniors
END:VEVENT
END:VCALENDAR