BEGIN:VCALENDAR
VERSION:2.0
PRODID:-//Trails Regional Library - ECPv6.15.20//NONSGML v1.0//EN
CALSCALE:GREGORIAN
METHOD:PUBLISH
X-ORIGINAL-URL:https://www.trailslibrary.org
X-WR-CALDESC:Events for Trails Regional Library
REFRESH-INTERVAL;VALUE=DURATION:PT1H
X-Robots-Tag:noindex
X-PUBLISHED-TTL:PT1H
BEGIN:VTIMEZONE
TZID:America/New_York
BEGIN:DAYLIGHT
TZOFFSETFROM:-0500
TZOFFSETTO:-0400
TZNAME:EDT
DTSTART:20250309T070000
END:DAYLIGHT
BEGIN:STANDARD
TZOFFSETFROM:-0400
TZOFFSETTO:-0500
TZNAME:EST
DTSTART:20251102T060000
END:STANDARD
BEGIN:DAYLIGHT
TZOFFSETFROM:-0500
TZOFFSETTO:-0400
TZNAME:EDT
DTSTART:20260308T070000
END:DAYLIGHT
BEGIN:STANDARD
TZOFFSETFROM:-0400
TZOFFSETTO:-0500
TZNAME:EST
DTSTART:20261101T060000
END:STANDARD
BEGIN:DAYLIGHT
TZOFFSETFROM:-0500
TZOFFSETTO:-0400
TZNAME:EDT
DTSTART:20270314T070000
END:DAYLIGHT
BEGIN:STANDARD
TZOFFSETFROM:-0400
TZOFFSETTO:-0500
TZNAME:EST
DTSTART:20271107T060000
END:STANDARD
END:VTIMEZONE
BEGIN:VEVENT
DTSTART;TZID=America/New_York:20260302T130000
DTEND;TZID=America/New_York:20260302T130000
DTSTAMP:20260421T155243
CREATED:20251215T200958Z
LAST-MODIFIED:20251215T200958Z
UID:10009778-1772456400-1772456400@www.trailslibrary.org
SUMMARY:Move to the Beat - Corder Branch
DESCRIPTION:Ages 19+: Join us for cardio drumming with yoga balls!
URL:https://www.trailslibrary.org/event/move-to-the-beat-corder-branch-26/
LOCATION:Corder Branch\, 221 N. Lafayette\, Corder\, MO\, 64021\, United States
CATEGORIES:Adult,Adults,senior,Seniors
END:VEVENT
BEGIN:VEVENT
DTSTART;TZID=America/New_York:20260303T100000
DTEND;TZID=America/New_York:20260303T100000
DTSTAMP:20260421T155243
CREATED:20251215T205506Z
LAST-MODIFIED:20251215T205506Z
UID:10010067-1772532000-1772532000@www.trailslibrary.org
SUMMARY:One-on-One TECHtorials - Warrensburg Branch
DESCRIPTION:Ages 19+ REGISTRATION REQUIRED: Get personalized tech help with your smartphone\, tablet\, or laptop—perfect for learning the basics or building your confidence. Appointments are required and must be scheduled at least 24 hours in advance.
URL:https://www.trailslibrary.org/event/one-on-one-techtorials-warrensburg-branch-26/
LOCATION:Warrensburg Branch\, 432 N. Holden\, Warrensburg\, Missouri\, 64093\, United States
CATEGORIES:Adult,Adults,senior,Seniors,Technology
END:VEVENT
BEGIN:VEVENT
DTSTART;TZID=America/New_York:20260303T150000
DTEND;TZID=America/New_York:20260303T150000
DTSTAMP:20260421T155243
CREATED:20251215T201255Z
LAST-MODIFIED:20251215T201255Z
UID:10009830-1772550000-1772550000@www.trailslibrary.org
SUMMARY:Makers Gonna Make - Holden Branch
DESCRIPTION:Ages 19+: Unleash your creativity every other week with a new craft project designed for all experience levels. All materials are provided at no cost.
URL:https://www.trailslibrary.org/event/makers-gonna-make-holden-branch-4/
LOCATION:Holden Branch\, 207 S. Main\, Holden\, MO\, 64040\, United States
CATEGORIES:Adult,Adults,Crafts,senior,Seniors
END:VEVENT
BEGIN:VEVENT
DTSTART;TZID=America/New_York:20260304T100000
DTEND;TZID=America/New_York:20260304T100000
DTSTAMP:20260421T155243
CREATED:20251215T210207Z
LAST-MODIFIED:20251215T210207Z
UID:10010135-1772618400-1772618400@www.trailslibrary.org
SUMMARY:Sassy Seniors - Waverly Branch
DESCRIPTION:Ages 55+: Whether you love board games\, trivia\, or cards\, there is something for everyone.
URL:https://www.trailslibrary.org/event/sassy-seniors-waverly-branch-15/
LOCATION:Waverly Branch\, 203 E. Kelling\, Waverly\, MO\, 64096\, United States
CATEGORIES:senior,Seniors
END:VEVENT
BEGIN:VEVENT
DTSTART;TZID=America/New_York:20260304T173000
DTEND;TZID=America/New_York:20260304T173000
DTSTAMP:20260421T155243
CREATED:20251215T204846Z
LAST-MODIFIED:20251215T204846Z
UID:10010029-1772645400-1772645400@www.trailslibrary.org
SUMMARY:Gal Pal Trivia - Warrensburg Branch
DESCRIPTION:Ages 19+: Grab your besties (or come make some new ones!) and participate in Gal Centric Trivia. Celebrate Women’s History as we honor friendship\, laughter\, and girl power.
URL:https://www.trailslibrary.org/event/gal-pal-trivia-warrensburg-branch/
LOCATION:Warrensburg Branch\, 432 N. Holden\, Warrensburg\, Missouri\, 64093\, United States
CATEGORIES:Adult,Adults,senior,Seniors
END:VEVENT
BEGIN:VEVENT
DTSTART;TZID=America/New_York:20260305T160000
DTEND;TZID=America/New_York:20260305T160000
DTSTAMP:20260421T155243
CREATED:20251215T204846Z
LAST-MODIFIED:20251215T204846Z
UID:10010030-1772726400-1772726400@www.trailslibrary.org
SUMMARY:KC Women in Jazz - Warrensburg Branch
DESCRIPTION:Ages 19+: Charlie Parker. Count Basie. Andy Kirk. The names of men in the Kansas City jazz scene are well known. What about the women? Amber Clifford-Napoleone will talk about the women of Kansas City jazz\, from performers to band widows\, who made Kansas City jazz historic.
URL:https://www.trailslibrary.org/event/kc-women-in-jazz-warrensburg-branch/
LOCATION:Warrensburg Branch\, 432 N. Holden\, Warrensburg\, Missouri\, 64093\, United States
CATEGORIES:Adult,Adults,Guest Speakers,senior,Seniors
END:VEVENT
BEGIN:VEVENT
DTSTART;TZID=America/New_York:20260305T173000
DTEND;TZID=America/New_York:20260305T173000
DTSTAMP:20260421T155243
CREATED:20251215T202354Z
LAST-MODIFIED:20251215T202354Z
UID:10009901-1772731800-1772731800@www.trailslibrary.org
SUMMARY:Bee Creative - Lexington Branch
DESCRIPTION:Ages 19+ REGISTRATION REQUIRED: Join old friends and make new ones while we create a fun Spring craft!
URL:https://www.trailslibrary.org/event/bee-creative-lexington-branch-6/
LOCATION:Lexington Branch\, 1008 Main Street\, Lexington\, MO\, 64067\, United States
CATEGORIES:Adult,Adults,Crafts,senior,Seniors
END:VEVENT
BEGIN:VEVENT
DTSTART;TZID=America/New_York:20260306T093000
DTEND;TZID=America/New_York:20260306T093000
DTSTAMP:20260421T155243
CREATED:20251215T201058Z
LAST-MODIFIED:20251215T201058Z
UID:10009800-1772789400-1772789400@www.trailslibrary.org
SUMMARY:Yoga Fridays - Corder Branch
DESCRIPTION:Ages 19+: Join our gentle chair yoga class designed for all levels\, from beginners to those returning to practice.
URL:https://www.trailslibrary.org/event/yoga-fridays-corder-branch-59/
LOCATION:Corder Branch\, 221 N. Lafayette\, Corder\, MO\, 64021\, United States
CATEGORIES:Adult,Adults,senior,Seniors
END:VEVENT
BEGIN:VEVENT
DTSTART;TZID=America/New_York:20260306T153000
DTEND;TZID=America/New_York:20260306T153000
DTSTAMP:20260421T155243
CREATED:20251215T202013Z
LAST-MODIFIED:20251215T202013Z
UID:10009862-1772811000-1772811000@www.trailslibrary.org
SUMMARY:Movie Matinee - Knob Noster Branch
DESCRIPTION:All Ages: Reel fun awaits—join us at the library for a film\, popcorn\, and good vibes.
URL:https://www.trailslibrary.org/event/movie-matinee-knob-noster-branch-6/
LOCATION:Knob Noster Branch\, 202 N. Adams\, Knob Noster\, MO\, 65336\, United States
CATEGORIES:Adult,Adults,All Ages,Children,Family,Kids,Movie,preteens,senior,Seniors,Teen,Teens,Youth
END:VEVENT
BEGIN:VEVENT
DTSTART;TZID=America/New_York:20260306T160000
DTEND;TZID=America/New_York:20260306T160000
DTSTAMP:20260421T155243
CREATED:20251215T200711Z
LAST-MODIFIED:20251215T200711Z
UID:10009748-1772812800-1772812800@www.trailslibrary.org
SUMMARY:Bingo Blast! - Corder Branch
DESCRIPTION:All Ages: Join us for some bingo fun with prizes up for grabs! All ages welcome\, so bring your friends and family for a chance to win! Ready\, set\, BINGO!
URL:https://www.trailslibrary.org/event/bingo-blast-corder-branch/
LOCATION:Corder Branch\, 221 N. Lafayette\, Corder\, MO\, 64021\, United States
CATEGORIES:Adult,Adults,All Ages,Children,Family,Kids,preteens,senior,Seniors,Teen,Teens,Youth
END:VEVENT
BEGIN:VEVENT
DTSTART;TZID=America/New_York:20260306T180000
DTEND;TZID=America/New_York:20260306T180000
DTSTAMP:20260421T155243
CREATED:20251215T203422Z
LAST-MODIFIED:20251215T203422Z
UID:10009956-1772820000-1772820000@www.trailslibrary.org
SUMMARY:Labyrinths and Lizards - Odessa Branch
DESCRIPTION:Ages 19+: Join us for an evening of Table-Top Role Playing Games!
URL:https://www.trailslibrary.org/event/labyrinths-and-lizards-odessa-branch-9/
LOCATION:Odessa Branch\, 107 W. Mason\, Odessa\, MO\, 64076\, United States
CATEGORIES:Adult,Adults,senior,Seniors
END:VEVENT
BEGIN:VEVENT
DTSTART;TZID=America/New_York:20260307T100000
DTEND;TZID=America/New_York:20260307T100000
DTSTAMP:20260421T155243
CREATED:20251215T202950Z
LAST-MODIFIED:20251215T202950Z
UID:10009937-1772877600-1772877600@www.trailslibrary.org
SUMMARY:Breakflix - Odessa Branch
DESCRIPTION:All Ages: Join us for pancakes and Saturday morning cartoons.
URL:https://www.trailslibrary.org/event/breakflix-odessa-branch-2/
LOCATION:Odessa Branch\, 107 W. Mason\, Odessa\, MO\, 64076\, United States
CATEGORIES:Adult,Adults,All Ages,Children,Family,Kids,preteens,senior,Seniors,Teen,Teens,Youth
END:VEVENT
BEGIN:VEVENT
DTSTART;TZID=America/New_York:20260309T101500
DTEND;TZID=America/New_York:20260309T101500
DTSTAMP:20260421T155243
CREATED:20251215T200811Z
LAST-MODIFIED:20251215T200811Z
UID:10009751-1773051300-1773051300@www.trailslibrary.org
SUMMARY:Book Club - Corder Branch
DESCRIPTION:Ages 19+: Join us at the library for a lively discussion about this month’s book.
URL:https://www.trailslibrary.org/event/book-club-corder-branch-20/
LOCATION:Corder Branch\, 221 N. Lafayette\, Corder\, MO\, 64021\, United States
CATEGORIES:Adult,Adults,Book Club,senior,Seniors
END:VEVENT
BEGIN:VEVENT
DTSTART;TZID=America/New_York:20260309T130000
DTEND;TZID=America/New_York:20260309T130000
DTSTAMP:20260421T155243
CREATED:20251215T200958Z
LAST-MODIFIED:20251215T200958Z
UID:10009779-1773061200-1773061200@www.trailslibrary.org
SUMMARY:Move to the Beat - Corder Branch
DESCRIPTION:Ages 19+: Join us for cardio drumming with yoga balls!
URL:https://www.trailslibrary.org/event/move-to-the-beat-corder-branch-27/
LOCATION:Corder Branch\, 221 N. Lafayette\, Corder\, MO\, 64021\, United States
CATEGORIES:Adult,Adults,senior,Seniors
END:VEVENT
BEGIN:VEVENT
DTSTART;TZID=America/New_York:20260309T140000
DTEND;TZID=America/New_York:20260309T140000
DTSTAMP:20260421T155243
CREATED:20251215T204901Z
LAST-MODIFIED:20251215T204901Z
UID:10010035-1773064800-1773064800@www.trailslibrary.org
SUMMARY:Minute to Win It Monday - Warrensburg Branch
DESCRIPTION:All Ages: Bring friends and family to compete in various games and competitions.
URL:https://www.trailslibrary.org/event/minute-to-win-it-monday-warrensburg-branch/
LOCATION:Warrensburg Branch\, 432 N. Holden\, Warrensburg\, Missouri\, 64093\, United States
CATEGORIES:Adult,Adults,All Ages,Children,Family,Kids,preteens,senior,Seniors,Teen,Teens,Youth
END:VEVENT
BEGIN:VEVENT
DTSTART;TZID=America/New_York:20260309T173000
DTEND;TZID=America/New_York:20260309T173000
DTSTAMP:20260421T155243
CREATED:20251215T205243Z
LAST-MODIFIED:20251215T205243Z
UID:10010055-1773077400-1773077400@www.trailslibrary.org
SUMMARY:NovelTea - Warrensburg Branch
DESCRIPTION:Ages 19+: Join us for a cup of tea\, an award winning book\, and great conversations.
URL:https://www.trailslibrary.org/event/noveltea-warrensburg-branch-14/
LOCATION:Warrensburg Branch\, 432 N. Holden\, Warrensburg\, Missouri\, 64093\, United States
CATEGORIES:Adult,Adults,Book Club,senior,Seniors
END:VEVENT
BEGIN:VEVENT
DTSTART;TZID=America/New_York:20260310T100000
DTEND;TZID=America/New_York:20260310T100000
DTSTAMP:20260421T155243
CREATED:20251215T203832Z
LAST-MODIFIED:20251222T152305Z
UID:10009972-1773136800-1773136800@www.trailslibrary.org
SUMMARY:Sit and Get Fit - Odessa Branch
DESCRIPTION:Ages 55+: Strengthen your muscles through breathing and gentle exercise techniques.
URL:https://www.trailslibrary.org/event/sit-and-get-fit-odessa-branch/
LOCATION:Odessa Branch\, 107 W. Mason\, Odessa\, MO\, 64076\, United States
CATEGORIES:Adult,Adults,senior,Seniors
END:VEVENT
BEGIN:VEVENT
DTSTART;TZID=America/New_York:20260310T100000
DTEND;TZID=America/New_York:20260310T100000
DTSTAMP:20260421T155243
CREATED:20251215T205506Z
LAST-MODIFIED:20251215T205506Z
UID:10010068-1773136800-1773136800@www.trailslibrary.org
SUMMARY:One-on-One TECHtorials - Warrensburg Branch
DESCRIPTION:Ages 19+ REGISTRATION REQUIRED: Get personalized tech help with your smartphone\, tablet\, or laptop—perfect for learning the basics or building your confidence. Appointments are required and must be scheduled at least 24 hours in advance.
URL:https://www.trailslibrary.org/event/one-on-one-techtorials-warrensburg-branch-27/
LOCATION:Warrensburg Branch\, 432 N. Holden\, Warrensburg\, Missouri\, 64093\, United States
CATEGORIES:Adult,Adults,senior,Seniors,Technology
END:VEVENT
BEGIN:VEVENT
DTSTART;TZID=America/New_York:20260310T150000
DTEND;TZID=America/New_York:20260310T150000
DTSTAMP:20260421T155243
CREATED:20251215T202822Z
LAST-MODIFIED:20251215T202822Z
UID:10009923-1773154800-1773154800@www.trailslibrary.org
SUMMARY:Tech Tuesday - Lexington Branch
DESCRIPTION:Ages 19+: Beginner’s class for adults looking to troubleshoot through everyday devices\, such as smartphones\, laptops\, iPads\, and more! Bring your own device!
URL:https://www.trailslibrary.org/event/tech-tuesday-lexington-branch-10/
LOCATION:Lexington Branch\, 1008 Main Street\, Lexington\, MO\, 64067\, United States
CATEGORIES:Adult,Adults,senior,Seniors,Technology
END:VEVENT
BEGIN:VEVENT
DTSTART;TZID=America/New_York:20260310T170000
DTEND;TZID=America/New_York:20260310T170000
DTSTAMP:20260421T155243
CREATED:20251215T203623Z
LAST-MODIFIED:20251215T203623Z
UID:10009961-1773162000-1773162000@www.trailslibrary.org
SUMMARY:Love is an Open Book Club - Odessa Branch
DESCRIPTION:Ages 19+: Join us for a genre specific book club and dive into the world of romance.
URL:https://www.trailslibrary.org/event/love-is-an-open-book-club-odessa-branch-15/
LOCATION:Odessa Branch\, 107 W. Mason\, Odessa\, MO\, 64076\, United States
CATEGORIES:Adult,Adults,Book Club,senior,Seniors
END:VEVENT
BEGIN:VEVENT
DTSTART;TZID=America/New_York:20260311T100000
DTEND;TZID=America/New_York:20260311T100000
DTSTAMP:20260421T155243
CREATED:20251215T200137Z
LAST-MODIFIED:20251215T200137Z
UID:10009725-1773223200-1773223200@www.trailslibrary.org
SUMMARY:Domino Day - Concordia Branch
DESCRIPTION:Ages 19+: Join us for a fun game day!
URL:https://www.trailslibrary.org/event/domino-day-concordia-branch-3/
LOCATION:Concordia Branch\, 813 S Main\, Concordia\, MO\, 64020\, United States
CATEGORIES:Adult,Adults,senior,Seniors
END:VEVENT
BEGIN:VEVENT
DTSTART;TZID=America/New_York:20260311T140000
DTEND;TZID=America/New_York:20260311T140000
DTSTAMP:20260421T155243
CREATED:20251215T204759Z
LAST-MODIFIED:20251215T204759Z
UID:10010013-1773237600-1773237600@www.trailslibrary.org
SUMMARY:Build a Birdfeeder - Warrensburg Branch
DESCRIPTION:All Ages: Craft a cozy bird feeder from scratch! Using safe\, recycled materials like milk cartons\, pine cones\, and popsicle sticks\, we’ll glue\, paint\, and decorate feeders that birds will flock to.
URL:https://www.trailslibrary.org/event/build-a-birdfeeder-warrensburg-branch/
LOCATION:Warrensburg Branch\, 432 N. Holden\, Warrensburg\, Missouri\, 64093\, United States
CATEGORIES:Adult,Adults,All Ages,Children,Crafts,Family,Kids,preteens,senior,Seniors,Teen,Teens,Youth
END:VEVENT
BEGIN:VEVENT
DTSTART;TZID=America/New_York:20260311T170000
DTEND;TZID=America/New_York:20260311T170000
DTSTAMP:20260421T155243
CREATED:20251215T210036Z
LAST-MODIFIED:20251215T210036Z
UID:10010121-1773248400-1773248400@www.trailslibrary.org
SUMMARY:Zumba - Warrensburg Branch
DESCRIPTION:Ages 19+: Get moving and have fun with a high-energy Zumba class at the library! This dance-fitness program combines Latin and international rhythms for a lively\, full-body workout that’s perfect for all fitness levels.
URL:https://www.trailslibrary.org/event/zumba-warrensburg-branch-9/
LOCATION:Warrensburg Branch\, 432 N. Holden\, Warrensburg\, Missouri\, 64093\, United States
CATEGORIES:Adult,Adults,senior,Seniors
END:VEVENT
BEGIN:VEVENT
DTSTART;TZID=America/New_York:20260312T130000
DTEND;TZID=America/New_York:20260312T130000
DTSTAMP:20260421T155243
CREATED:20251222T152307Z
LAST-MODIFIED:20251222T152307Z
UID:10010161-1773320400-1773320400@www.trailslibrary.org
SUMMARY:Any Book\, Book Club - Lexington Branch
DESCRIPTION:Ages 19+: That’s right\, any book! Share a favorite read with others. You might discover your next favorite!
URL:https://www.trailslibrary.org/event/any-book-book-club-lexington-branch-16/
LOCATION:Lexington Branch\, 1008 Main Street\, Lexington\, MO\, 64067\, United States
CATEGORIES:Adult,Adults,Book Club,senior,Seniors
END:VEVENT
BEGIN:VEVENT
DTSTART;TZID=America/New_York:20260312T140000
DTEND;TZID=America/New_York:20260312T140000
DTSTAMP:20260421T155243
CREATED:20251215T204801Z
LAST-MODIFIED:20251215T204801Z
UID:10010018-1773324000-1773324000@www.trailslibrary.org
SUMMARY:Chia Pets! - Warrensburg Branch
DESCRIPTION:All Ages: Join us for a fun\, hands-on craft program to turn a simple pair of pantyhose into a whimsical homemade Chia Pet. Using soil\, grass seed (the secret to that fuzzy green “hair”!)\, and a dash of creativity\, design goofy faces\, quirky animals\, or mini monsters that sprout real grass.
URL:https://www.trailslibrary.org/event/chia-pets-warrensburg-branch/
LOCATION:Warrensburg Branch\, 432 N. Holden\, Warrensburg\, Missouri\, 64093\, United States
CATEGORIES:Adult,Adults,All Ages,Children,Crafts,Family,Kids,preteens,senior,Seniors,Teen,Teens,Youth
END:VEVENT
BEGIN:VEVENT
DTSTART;TZID=America/New_York:20260313T093000
DTEND;TZID=America/New_York:20260313T093000
DTSTAMP:20260421T155243
CREATED:20251215T201112Z
LAST-MODIFIED:20251215T201112Z
UID:10009801-1773394200-1773394200@www.trailslibrary.org
SUMMARY:Yoga Fridays - Corder Branch
DESCRIPTION:Ages 19+: Join our gentle chair yoga class designed for all levels\, from beginners to those returning to practice.
URL:https://www.trailslibrary.org/event/yoga-fridays-corder-branch-60/
LOCATION:Corder Branch\, 221 N. Lafayette\, Corder\, MO\, 64021\, United States
CATEGORIES:Adult,Adults,senior,Seniors
END:VEVENT
BEGIN:VEVENT
DTSTART;TZID=America/New_York:20260313T110000
DTEND;TZID=America/New_York:20260313T110000
DTSTAMP:20260421T155243
CREATED:20251215T204758Z
LAST-MODIFIED:20251215T204758Z
UID:10010010-1773399600-1773399600@www.trailslibrary.org
SUMMARY:Author Talk with Kyra Borgman - Warrensburg Branch
DESCRIPTION:All Ages: Join local children’s author Kyra Borgman as she shares her inspiration for writing Color the World. She will read excerpts and answer questions about her love of reading and writing.
URL:https://www.trailslibrary.org/event/author-talk-with-kyra-borgman-warrensburg-branch/
LOCATION:Warrensburg Branch\, 432 N. Holden\, Warrensburg\, Missouri\, 64093\, United States
CATEGORIES:Adult,Adults,All Ages,Children,Family,Guest Speakers,Kids,preteens,senior,Seniors,Teen,Teens,Youth
END:VEVENT
BEGIN:VEVENT
DTSTART;TZID=America/New_York:20260314T100000
DTEND;TZID=America/New_York:20260314T100000
DTSTAMP:20260421T155243
CREATED:20251215T195937Z
LAST-MODIFIED:20251215T195937Z
UID:10009719-1773482400-1773482400@www.trailslibrary.org
SUMMARY:Cartoons & Pancakes - Concordia Branch
DESCRIPTION:All Ages: It’s Second Saturday! Let’s enjoy pancakes and cartoons!
URL:https://www.trailslibrary.org/event/cartoons-pancakes-concordia-branch-14/
LOCATION:Concordia Branch\, 813 S Main\, Concordia\, MO\, 64020\, United States
CATEGORIES:Adult,Adults,All Ages,Children,Family,Kids,Movie,preteens,senior,Seniors,Teen,Teens,Youth
END:VEVENT
BEGIN:VEVENT
DTSTART;TZID=America/New_York:20260316T130000
DTEND;TZID=America/New_York:20260316T130000
DTSTAMP:20260421T155243
CREATED:20251215T200958Z
LAST-MODIFIED:20251215T200958Z
UID:10009780-1773666000-1773666000@www.trailslibrary.org
SUMMARY:Move to the Beat - Corder Branch
DESCRIPTION:Ages 19+: Join us for cardio drumming with yoga balls!
URL:https://www.trailslibrary.org/event/move-to-the-beat-corder-branch-28/
LOCATION:Corder Branch\, 221 N. Lafayette\, Corder\, MO\, 64021\, United States
CATEGORIES:Adult,Adults,senior,Seniors
END:VEVENT
BEGIN:VEVENT
DTSTART;TZID=America/New_York:20260316T163000
DTEND;TZID=America/New_York:20260316T163000
DTSTAMP:20260421T155243
CREATED:20251215T195307Z
LAST-MODIFIED:20251215T195307Z
UID:10009695-1773678600-1773678600@www.trailslibrary.org
SUMMARY:Bake Club - Concordia Branch
DESCRIPTION:Ages 19+: Let’s talk about Easter traditions!
URL:https://www.trailslibrary.org/event/bake-club-concordia-branch-8/
LOCATION:Concordia Branch\, 813 S Main\, Concordia\, MO\, 64020\, United States
CATEGORIES:Adult,Adults,senior,Seniors
END:VEVENT
END:VCALENDAR