BEGIN:VCALENDAR
VERSION:2.0
PRODID:-//Trails Regional Library - ECPv6.15.20//NONSGML v1.0//EN
CALSCALE:GREGORIAN
METHOD:PUBLISH
X-ORIGINAL-URL:https://www.trailslibrary.org
X-WR-CALDESC:Events for Trails Regional Library
REFRESH-INTERVAL;VALUE=DURATION:PT1H
X-Robots-Tag:noindex
X-PUBLISHED-TTL:PT1H
BEGIN:VTIMEZONE
TZID:America/New_York
BEGIN:DAYLIGHT
TZOFFSETFROM:-0500
TZOFFSETTO:-0400
TZNAME:EDT
DTSTART:20230312T070000
END:DAYLIGHT
BEGIN:STANDARD
TZOFFSETFROM:-0400
TZOFFSETTO:-0500
TZNAME:EST
DTSTART:20231105T060000
END:STANDARD
BEGIN:DAYLIGHT
TZOFFSETFROM:-0500
TZOFFSETTO:-0400
TZNAME:EDT
DTSTART:20240310T070000
END:DAYLIGHT
BEGIN:STANDARD
TZOFFSETFROM:-0400
TZOFFSETTO:-0500
TZNAME:EST
DTSTART:20241103T060000
END:STANDARD
BEGIN:DAYLIGHT
TZOFFSETFROM:-0500
TZOFFSETTO:-0400
TZNAME:EDT
DTSTART:20250309T070000
END:DAYLIGHT
BEGIN:STANDARD
TZOFFSETFROM:-0400
TZOFFSETTO:-0500
TZNAME:EST
DTSTART:20251102T060000
END:STANDARD
END:VTIMEZONE
BEGIN:VEVENT
DTSTART;TZID=America/New_York:20240601T000000
DTEND;TZID=America/New_York:20240630T000000
DTSTAMP:20260425T214512
CREATED:20240520T204037Z
LAST-MODIFIED:20240520T204037Z
UID:10007647-1717200000-1719705600@www.trailslibrary.org
SUMMARY:Pop Up - Warrensburg
DESCRIPTION:All Ages: A surprise Program is scheduled!
URL:https://www.trailslibrary.org/event/pop-up-warrensburg-2/
LOCATION:Warrensburg Branch\, 432 N. Holden\, Warrensburg\, Missouri\, 64093\, United States
CATEGORIES:Adult,Adults,All Ages,Children,Family,Kids,preteens,senior,Seniors,Teen,Teens,Youth
END:VEVENT
BEGIN:VEVENT
DTSTART;TZID=America/New_York:20240604T110000
DTEND;TZID=America/New_York:20240604T113000
DTSTAMP:20260425T214512
CREATED:20240521T152424Z
LAST-MODIFIED:20240521T152424Z
UID:10007813-1717498800-1717500600@www.trailslibrary.org
SUMMARY:Chair Aerobics - Knob Noster
DESCRIPTION:Ages 19+: Get fit\, get flexible with us at our beginner chair aerobics class!
URL:https://www.trailslibrary.org/event/chair-aerobics-knob-noster/
LOCATION:Knob Noster Branch\, 202 N. Adams\, Knob Noster\, MO\, 65336\, United States
CATEGORIES:Adult,Adults,senior,Seniors
END:VEVENT
BEGIN:VEVENT
DTSTART;TZID=America/New_York:20240604T130000
DTEND;TZID=America/New_York:20240604T150000
DTSTAMP:20260425T214512
CREATED:20240521T152957Z
LAST-MODIFIED:20240521T152957Z
UID:10007828-1717506000-1717513200@www.trailslibrary.org
SUMMARY:Midday Matinee - Knob Noster
DESCRIPTION:All Ages: Come to the library and watch a classic movie with us. Enjoy some popcorn and a water\, coffee\, or tea on us. Feel free to bring some movie snacks of your own too! This month we’re watching Breakfast at Tiffany’s. “No matter where you run\, you end up running into yourself.”
URL:https://www.trailslibrary.org/event/midday-matinee-knob-noster/
LOCATION:Knob Noster Branch\, 202 N. Adams\, Knob Noster\, MO\, 65336\, United States
CATEGORIES:Adult,Adults,All Ages,Children,Family,Kids,Movie,preteens,senior,Seniors,Teen,Teens,Youth
END:VEVENT
BEGIN:VEVENT
DTSTART;TZID=America/New_York:20240604T150000
DTEND;TZID=America/New_York:20240604T160000
DTSTAMP:20260425T214512
CREATED:20240520T192855Z
LAST-MODIFIED:20240520T192855Z
UID:10007519-1717513200-1717516800@www.trailslibrary.org
SUMMARY:Adults: Class in Session - Lexington
DESCRIPTION:Ages 55+: Do you enjoy learning new things? Do you want to stay connected with your community? If so\, then you should consider attending senior programming with us at the library.
URL:https://www.trailslibrary.org/event/adults-class-in-session-lexington-5/
LOCATION:Lexington Branch\, 1008 Main Street\, Lexington\, MO\, 64067\, United States
CATEGORIES:senior,Seniors
END:VEVENT
BEGIN:VEVENT
DTSTART;TZID=America/New_York:20240604T160000
DTEND;TZID=America/New_York:20240604T160000
DTSTAMP:20260425T214512
CREATED:20240520T193624Z
LAST-MODIFIED:20240520T193624Z
UID:10007547-1717516800-1717516800@www.trailslibrary.org
SUMMARY:Well-Read Poet's Society - Odessa
DESCRIPTION:Ages 13+: Join us for a cup of tea as we discuss\, read\, and compose poetry.
URL:https://www.trailslibrary.org/event/well-read-poets-society-odessa-10/
LOCATION:Odessa Branch\, 107 W. Mason\, Odessa\, MO\, 64076\, United States
CATEGORIES:Adult,Adults,Book Club,Pre-Teen,Pre-Teens,senior,Seniors,Teen,Teens,Youth
END:VEVENT
BEGIN:VEVENT
DTSTART;TZID=America/New_York:20240604T170000
DTEND;TZID=America/New_York:20240604T190000
DTSTAMP:20260425T214512
CREATED:20240520T204038Z
LAST-MODIFIED:20240520T204038Z
UID:10007651-1717520400-1717527600@www.trailslibrary.org
SUMMARY:Author Talk with D. L. Rogers - Warrensburg
DESCRIPTION:Ages 13+: Learn about the life of a local author from ideation\, writing\, editing\, publishing\, and publicity.
URL:https://www.trailslibrary.org/event/author-talk-with-d-l-rogers-warrensburg/
LOCATION:Warrensburg Branch\, 432 N. Holden\, Warrensburg\, Missouri\, 64093\, United States
CATEGORIES:Adult,Adults,Guest Speakers,preteens,senior,Seniors,Teen,Teens,Youth
END:VEVENT
END:VCALENDAR